BEGIN:VCALENDAR
VERSION:2.0
PRODID:-//Tapahtumakalenteri - ECPv6.15.18//NONSGML v1.0//EN
CALSCALE:GREGORIAN
METHOD:PUBLISH
X-WR-CALNAME:Tapahtumakalenteri
X-ORIGINAL-URL:https://kalenteri.niemikoti.fi
X-WR-CALDESC:Tapahtumat Tapahtumakalenteri
REFRESH-INTERVAL;VALUE=DURATION:PT1H
X-Robots-Tag:noindex
X-PUBLISHED-TTL:PT1H
BEGIN:VTIMEZONE
TZID:Europe/Helsinki
BEGIN:DAYLIGHT
TZOFFSETFROM:+0200
TZOFFSETTO:+0300
TZNAME:EEST
DTSTART:20240331T010000
END:DAYLIGHT
BEGIN:STANDARD
TZOFFSETFROM:+0300
TZOFFSETTO:+0200
TZNAME:EET
DTSTART:20241027T010000
END:STANDARD
BEGIN:DAYLIGHT
TZOFFSETFROM:+0200
TZOFFSETTO:+0300
TZNAME:EEST
DTSTART:20250330T010000
END:DAYLIGHT
BEGIN:STANDARD
TZOFFSETFROM:+0300
TZOFFSETTO:+0200
TZNAME:EET
DTSTART:20251026T010000
END:STANDARD
BEGIN:DAYLIGHT
TZOFFSETFROM:+0200
TZOFFSETTO:+0300
TZNAME:EEST
DTSTART:20260329T010000
END:DAYLIGHT
BEGIN:STANDARD
TZOFFSETFROM:+0300
TZOFFSETTO:+0200
TZNAME:EET
DTSTART:20261025T010000
END:STANDARD
END:VTIMEZONE
BEGIN:VEVENT
DTSTART;VALUE=DATE:20251103
DTEND;VALUE=DATE:20251104
DTSTAMP:20260424T112711
CREATED:20251103T132509Z
LAST-MODIFIED:20251217T071041Z
UID:10025050-1762128000-1762214399@kalenteri.niemikoti.fi
SUMMARY:Malmin pakohuone
DESCRIPTION:Tule Malmin pakohuoneeseen ratkomaan arvoituksia ja auta matkallaan eksynyt Jemi kotiin! Kesto noin 45min\, max. 5 hengen ryhmät. \nLisätiedot ja ajanvaraukset ohjaajilta. \n 
URL:https://kalenteri.niemikoti.fi/tapahtuma/malmin-pakohuone/2025-11-03/
LOCATION:Malmin päivätoimintakeskus\, Vanha Helsingintie 9\, Helsinki\, 00700\, Finland
CATEGORIES:Malmin päivätoimintakeskus
ATTACH;FMTTYPE=image/jpeg:https://kalenteri.niemikoti.fi/wp-content/uploads/2025/11/Pakohuoneen-mainos.jpg
END:VEVENT
BEGIN:VEVENT
DTSTART;VALUE=DATE:20251104
DTEND;VALUE=DATE:20251105
DTSTAMP:20260424T112711
CREATED:20251103T132509Z
LAST-MODIFIED:20251217T071041Z
UID:10025051-1762214400-1762300799@kalenteri.niemikoti.fi
SUMMARY:Malmin pakohuone
DESCRIPTION:Tule Malmin pakohuoneeseen ratkomaan arvoituksia ja auta matkallaan eksynyt Jemi kotiin! Kesto noin 45min\, max. 5 hengen ryhmät. \nLisätiedot ja ajanvaraukset ohjaajilta. \n 
URL:https://kalenteri.niemikoti.fi/tapahtuma/malmin-pakohuone/2025-11-04/
LOCATION:Malmin päivätoimintakeskus\, Vanha Helsingintie 9\, Helsinki\, 00700\, Finland
CATEGORIES:Malmin päivätoimintakeskus
ATTACH;FMTTYPE=image/jpeg:https://kalenteri.niemikoti.fi/wp-content/uploads/2025/11/Pakohuoneen-mainos.jpg
END:VEVENT
BEGIN:VEVENT
DTSTART;VALUE=DATE:20251105
DTEND;VALUE=DATE:20251106
DTSTAMP:20260424T112711
CREATED:20251103T132509Z
LAST-MODIFIED:20251217T071041Z
UID:10025052-1762300800-1762387199@kalenteri.niemikoti.fi
SUMMARY:Malmin pakohuone
DESCRIPTION:Tule Malmin pakohuoneeseen ratkomaan arvoituksia ja auta matkallaan eksynyt Jemi kotiin! Kesto noin 45min\, max. 5 hengen ryhmät. \nLisätiedot ja ajanvaraukset ohjaajilta. \n 
URL:https://kalenteri.niemikoti.fi/tapahtuma/malmin-pakohuone/2025-11-05/
LOCATION:Malmin päivätoimintakeskus\, Vanha Helsingintie 9\, Helsinki\, 00700\, Finland
CATEGORIES:Malmin päivätoimintakeskus
ATTACH;FMTTYPE=image/jpeg:https://kalenteri.niemikoti.fi/wp-content/uploads/2025/11/Pakohuoneen-mainos.jpg
END:VEVENT
BEGIN:VEVENT
DTSTART;VALUE=DATE:20251106
DTEND;VALUE=DATE:20251107
DTSTAMP:20260424T112711
CREATED:20251103T132509Z
LAST-MODIFIED:20251217T071041Z
UID:10025053-1762387200-1762473599@kalenteri.niemikoti.fi
SUMMARY:Malmin pakohuone
DESCRIPTION:Tule Malmin pakohuoneeseen ratkomaan arvoituksia ja auta matkallaan eksynyt Jemi kotiin! Kesto noin 45min\, max. 5 hengen ryhmät. \nLisätiedot ja ajanvaraukset ohjaajilta. \n 
URL:https://kalenteri.niemikoti.fi/tapahtuma/malmin-pakohuone/2025-11-06/
LOCATION:Malmin päivätoimintakeskus\, Vanha Helsingintie 9\, Helsinki\, 00700\, Finland
CATEGORIES:Malmin päivätoimintakeskus
ATTACH;FMTTYPE=image/jpeg:https://kalenteri.niemikoti.fi/wp-content/uploads/2025/11/Pakohuoneen-mainos.jpg
END:VEVENT
BEGIN:VEVENT
DTSTART;VALUE=DATE:20251107
DTEND;VALUE=DATE:20251108
DTSTAMP:20260424T112711
CREATED:20251103T132509Z
LAST-MODIFIED:20251217T071041Z
UID:10025054-1762473600-1762559999@kalenteri.niemikoti.fi
SUMMARY:Malmin pakohuone
DESCRIPTION:Tule Malmin pakohuoneeseen ratkomaan arvoituksia ja auta matkallaan eksynyt Jemi kotiin! Kesto noin 45min\, max. 5 hengen ryhmät. \nLisätiedot ja ajanvaraukset ohjaajilta. \n 
URL:https://kalenteri.niemikoti.fi/tapahtuma/malmin-pakohuone/2025-11-07/
LOCATION:Malmin päivätoimintakeskus\, Vanha Helsingintie 9\, Helsinki\, 00700\, Finland
CATEGORIES:Malmin päivätoimintakeskus
ATTACH;FMTTYPE=image/jpeg:https://kalenteri.niemikoti.fi/wp-content/uploads/2025/11/Pakohuoneen-mainos.jpg
END:VEVENT
BEGIN:VEVENT
DTSTART;TZID=Europe/Helsinki:20251107T080000
DTEND;TZID=Europe/Helsinki:20251107T170000
DTSTAMP:20260424T112711
CREATED:20250723T121431Z
LAST-MODIFIED:20260327T092736Z
UID:10026030-1762502400-1762534800@kalenteri.niemikoti.fi
SUMMARY:Avoin Info
DESCRIPTION:Avoin tilaisuus kaikille toiminnastamme kiinnostuneille.
URL:https://kalenteri.niemikoti.fi/tapahtuma/avoin-info-11/2025-11-07/
LOCATION:Toimintakeskus Villa Borgis\, Linnavuorentie 13\, Helsinki\, 00950\, Finland
CATEGORIES:Toimintakeskus Villa Borgis
END:VEVENT
BEGIN:VEVENT
DTSTART;VALUE=DATE:20251110
DTEND;VALUE=DATE:20251111
DTSTAMP:20260424T112711
CREATED:20251103T132509Z
LAST-MODIFIED:20251217T071041Z
UID:10025055-1762732800-1762819199@kalenteri.niemikoti.fi
SUMMARY:Malmin pakohuone
DESCRIPTION:Tule Malmin pakohuoneeseen ratkomaan arvoituksia ja auta matkallaan eksynyt Jemi kotiin! Kesto noin 45min\, max. 5 hengen ryhmät. \nLisätiedot ja ajanvaraukset ohjaajilta. \n 
URL:https://kalenteri.niemikoti.fi/tapahtuma/malmin-pakohuone/2025-11-10/
LOCATION:Malmin päivätoimintakeskus\, Vanha Helsingintie 9\, Helsinki\, 00700\, Finland
CATEGORIES:Malmin päivätoimintakeskus
ATTACH;FMTTYPE=image/jpeg:https://kalenteri.niemikoti.fi/wp-content/uploads/2025/11/Pakohuoneen-mainos.jpg
END:VEVENT
BEGIN:VEVENT
DTSTART;VALUE=DATE:20251111
DTEND;VALUE=DATE:20251112
DTSTAMP:20260424T112711
CREATED:20251103T132509Z
LAST-MODIFIED:20251217T071041Z
UID:10025056-1762819200-1762905599@kalenteri.niemikoti.fi
SUMMARY:Malmin pakohuone
DESCRIPTION:Tule Malmin pakohuoneeseen ratkomaan arvoituksia ja auta matkallaan eksynyt Jemi kotiin! Kesto noin 45min\, max. 5 hengen ryhmät. \nLisätiedot ja ajanvaraukset ohjaajilta. \n 
URL:https://kalenteri.niemikoti.fi/tapahtuma/malmin-pakohuone/2025-11-11/
LOCATION:Malmin päivätoimintakeskus\, Vanha Helsingintie 9\, Helsinki\, 00700\, Finland
CATEGORIES:Malmin päivätoimintakeskus
ATTACH;FMTTYPE=image/jpeg:https://kalenteri.niemikoti.fi/wp-content/uploads/2025/11/Pakohuoneen-mainos.jpg
END:VEVENT
BEGIN:VEVENT
DTSTART;VALUE=DATE:20251112
DTEND;VALUE=DATE:20251113
DTSTAMP:20260424T112711
CREATED:20251103T132509Z
LAST-MODIFIED:20251217T071041Z
UID:10025057-1762905600-1762991999@kalenteri.niemikoti.fi
SUMMARY:Malmin pakohuone
DESCRIPTION:Tule Malmin pakohuoneeseen ratkomaan arvoituksia ja auta matkallaan eksynyt Jemi kotiin! Kesto noin 45min\, max. 5 hengen ryhmät. \nLisätiedot ja ajanvaraukset ohjaajilta. \n 
URL:https://kalenteri.niemikoti.fi/tapahtuma/malmin-pakohuone/2025-11-12/
LOCATION:Malmin päivätoimintakeskus\, Vanha Helsingintie 9\, Helsinki\, 00700\, Finland
CATEGORIES:Malmin päivätoimintakeskus
ATTACH;FMTTYPE=image/jpeg:https://kalenteri.niemikoti.fi/wp-content/uploads/2025/11/Pakohuoneen-mainos.jpg
END:VEVENT
BEGIN:VEVENT
DTSTART;TZID=Europe/Helsinki:20251112T100000
DTEND;TZID=Europe/Helsinki:20251112T120000
DTSTAMP:20260424T112711
CREATED:20251103T131116Z
LAST-MODIFIED:20251103T131116Z
UID:10025043-1762941600-1762948800@kalenteri.niemikoti.fi
SUMMARY:Ekologinen kodinhoito -kurssi 12.11.
DESCRIPTION:Ekologinen kodinhoito -kurssi keskiviikkona 12.11. klo 10-12 Malmin päivätoimintakeskuksessa\, Vanha Helsingintie 9. Valmistetaan ekologisia pesuaineita ympäristötyöryhmän Annan ohjauksessa. \nIlmoittaudu kurssille: \n050 404 0025\, 050 404 0026 tai malmi@niemikoti.fi
URL:https://kalenteri.niemikoti.fi/tapahtuma/ekologinen-kodinhoito-kurssi-12-11/
LOCATION:Malmin päivätoimintakeskus\, Vanha Helsingintie 9\, Helsinki\, 00700\, Finland
CATEGORIES:Malmin päivätoimintakeskus
END:VEVENT
BEGIN:VEVENT
DTSTART;VALUE=DATE:20251113
DTEND;VALUE=DATE:20251114
DTSTAMP:20260424T112711
CREATED:20251103T132509Z
LAST-MODIFIED:20251217T071041Z
UID:10025058-1762992000-1763078399@kalenteri.niemikoti.fi
SUMMARY:Malmin pakohuone
DESCRIPTION:Tule Malmin pakohuoneeseen ratkomaan arvoituksia ja auta matkallaan eksynyt Jemi kotiin! Kesto noin 45min\, max. 5 hengen ryhmät. \nLisätiedot ja ajanvaraukset ohjaajilta. \n 
URL:https://kalenteri.niemikoti.fi/tapahtuma/malmin-pakohuone/2025-11-13/
LOCATION:Malmin päivätoimintakeskus\, Vanha Helsingintie 9\, Helsinki\, 00700\, Finland
CATEGORIES:Malmin päivätoimintakeskus
ATTACH;FMTTYPE=image/jpeg:https://kalenteri.niemikoti.fi/wp-content/uploads/2025/11/Pakohuoneen-mainos.jpg
END:VEVENT
BEGIN:VEVENT
DTSTART;VALUE=DATE:20251114
DTEND;VALUE=DATE:20251115
DTSTAMP:20260424T112711
CREATED:20251103T132509Z
LAST-MODIFIED:20251217T071041Z
UID:10025059-1763078400-1763164799@kalenteri.niemikoti.fi
SUMMARY:Malmin pakohuone
DESCRIPTION:Tule Malmin pakohuoneeseen ratkomaan arvoituksia ja auta matkallaan eksynyt Jemi kotiin! Kesto noin 45min\, max. 5 hengen ryhmät. \nLisätiedot ja ajanvaraukset ohjaajilta. \n 
URL:https://kalenteri.niemikoti.fi/tapahtuma/malmin-pakohuone/2025-11-14/
LOCATION:Malmin päivätoimintakeskus\, Vanha Helsingintie 9\, Helsinki\, 00700\, Finland
CATEGORIES:Malmin päivätoimintakeskus
ATTACH;FMTTYPE=image/jpeg:https://kalenteri.niemikoti.fi/wp-content/uploads/2025/11/Pakohuoneen-mainos.jpg
END:VEVENT
BEGIN:VEVENT
DTSTART;VALUE=DATE:20251117
DTEND;VALUE=DATE:20251118
DTSTAMP:20260424T112711
CREATED:20251103T132509Z
LAST-MODIFIED:20251217T071041Z
UID:10025060-1763337600-1763423999@kalenteri.niemikoti.fi
SUMMARY:Malmin pakohuone
DESCRIPTION:Tule Malmin pakohuoneeseen ratkomaan arvoituksia ja auta matkallaan eksynyt Jemi kotiin! Kesto noin 45min\, max. 5 hengen ryhmät. \nLisätiedot ja ajanvaraukset ohjaajilta. \n 
URL:https://kalenteri.niemikoti.fi/tapahtuma/malmin-pakohuone/2025-11-17/
LOCATION:Malmin päivätoimintakeskus\, Vanha Helsingintie 9\, Helsinki\, 00700\, Finland
CATEGORIES:Malmin päivätoimintakeskus
ATTACH;FMTTYPE=image/jpeg:https://kalenteri.niemikoti.fi/wp-content/uploads/2025/11/Pakohuoneen-mainos.jpg
END:VEVENT
BEGIN:VEVENT
DTSTART;VALUE=DATE:20251118
DTEND;VALUE=DATE:20251119
DTSTAMP:20260424T112711
CREATED:20251103T132509Z
LAST-MODIFIED:20251217T071041Z
UID:10025061-1763424000-1763510399@kalenteri.niemikoti.fi
SUMMARY:Malmin pakohuone
DESCRIPTION:Tule Malmin pakohuoneeseen ratkomaan arvoituksia ja auta matkallaan eksynyt Jemi kotiin! Kesto noin 45min\, max. 5 hengen ryhmät. \nLisätiedot ja ajanvaraukset ohjaajilta. \n 
URL:https://kalenteri.niemikoti.fi/tapahtuma/malmin-pakohuone/2025-11-18/
LOCATION:Malmin päivätoimintakeskus\, Vanha Helsingintie 9\, Helsinki\, 00700\, Finland
CATEGORIES:Malmin päivätoimintakeskus
ATTACH;FMTTYPE=image/jpeg:https://kalenteri.niemikoti.fi/wp-content/uploads/2025/11/Pakohuoneen-mainos.jpg
END:VEVENT
BEGIN:VEVENT
DTSTART;VALUE=DATE:20251119
DTEND;VALUE=DATE:20251120
DTSTAMP:20260424T112711
CREATED:20251103T132509Z
LAST-MODIFIED:20251217T071041Z
UID:10025062-1763510400-1763596799@kalenteri.niemikoti.fi
SUMMARY:Malmin pakohuone
DESCRIPTION:Tule Malmin pakohuoneeseen ratkomaan arvoituksia ja auta matkallaan eksynyt Jemi kotiin! Kesto noin 45min\, max. 5 hengen ryhmät. \nLisätiedot ja ajanvaraukset ohjaajilta. \n 
URL:https://kalenteri.niemikoti.fi/tapahtuma/malmin-pakohuone/2025-11-19/
LOCATION:Malmin päivätoimintakeskus\, Vanha Helsingintie 9\, Helsinki\, 00700\, Finland
CATEGORIES:Malmin päivätoimintakeskus
ATTACH;FMTTYPE=image/jpeg:https://kalenteri.niemikoti.fi/wp-content/uploads/2025/11/Pakohuoneen-mainos.jpg
END:VEVENT
BEGIN:VEVENT
DTSTART;VALUE=DATE:20251120
DTEND;VALUE=DATE:20251121
DTSTAMP:20260424T112711
CREATED:20251103T132509Z
LAST-MODIFIED:20251217T071041Z
UID:10025063-1763596800-1763683199@kalenteri.niemikoti.fi
SUMMARY:Malmin pakohuone
DESCRIPTION:Tule Malmin pakohuoneeseen ratkomaan arvoituksia ja auta matkallaan eksynyt Jemi kotiin! Kesto noin 45min\, max. 5 hengen ryhmät. \nLisätiedot ja ajanvaraukset ohjaajilta. \n 
URL:https://kalenteri.niemikoti.fi/tapahtuma/malmin-pakohuone/2025-11-20/
LOCATION:Malmin päivätoimintakeskus\, Vanha Helsingintie 9\, Helsinki\, 00700\, Finland
CATEGORIES:Malmin päivätoimintakeskus
ATTACH;FMTTYPE=image/jpeg:https://kalenteri.niemikoti.fi/wp-content/uploads/2025/11/Pakohuoneen-mainos.jpg
END:VEVENT
BEGIN:VEVENT
DTSTART;VALUE=DATE:20251121
DTEND;VALUE=DATE:20251122
DTSTAMP:20260424T112711
CREATED:20251103T132509Z
LAST-MODIFIED:20251217T071041Z
UID:10025064-1763683200-1763769599@kalenteri.niemikoti.fi
SUMMARY:Malmin pakohuone
DESCRIPTION:Tule Malmin pakohuoneeseen ratkomaan arvoituksia ja auta matkallaan eksynyt Jemi kotiin! Kesto noin 45min\, max. 5 hengen ryhmät. \nLisätiedot ja ajanvaraukset ohjaajilta. \n 
URL:https://kalenteri.niemikoti.fi/tapahtuma/malmin-pakohuone/2025-11-21/
LOCATION:Malmin päivätoimintakeskus\, Vanha Helsingintie 9\, Helsinki\, 00700\, Finland
CATEGORIES:Malmin päivätoimintakeskus
ATTACH;FMTTYPE=image/jpeg:https://kalenteri.niemikoti.fi/wp-content/uploads/2025/11/Pakohuoneen-mainos.jpg
END:VEVENT
BEGIN:VEVENT
DTSTART;VALUE=DATE:20251124
DTEND;VALUE=DATE:20251125
DTSTAMP:20260424T112711
CREATED:20251103T132509Z
LAST-MODIFIED:20251217T071041Z
UID:10025065-1763942400-1764028799@kalenteri.niemikoti.fi
SUMMARY:Malmin pakohuone
DESCRIPTION:Tule Malmin pakohuoneeseen ratkomaan arvoituksia ja auta matkallaan eksynyt Jemi kotiin! Kesto noin 45min\, max. 5 hengen ryhmät. \nLisätiedot ja ajanvaraukset ohjaajilta. \n 
URL:https://kalenteri.niemikoti.fi/tapahtuma/malmin-pakohuone/2025-11-24/
LOCATION:Malmin päivätoimintakeskus\, Vanha Helsingintie 9\, Helsinki\, 00700\, Finland
CATEGORIES:Malmin päivätoimintakeskus
ATTACH;FMTTYPE=image/jpeg:https://kalenteri.niemikoti.fi/wp-content/uploads/2025/11/Pakohuoneen-mainos.jpg
END:VEVENT
BEGIN:VEVENT
DTSTART;VALUE=DATE:20251125
DTEND;VALUE=DATE:20251126
DTSTAMP:20260424T112711
CREATED:20251103T132509Z
LAST-MODIFIED:20251217T071041Z
UID:10025066-1764028800-1764115199@kalenteri.niemikoti.fi
SUMMARY:Malmin pakohuone
DESCRIPTION:Tule Malmin pakohuoneeseen ratkomaan arvoituksia ja auta matkallaan eksynyt Jemi kotiin! Kesto noin 45min\, max. 5 hengen ryhmät. \nLisätiedot ja ajanvaraukset ohjaajilta. \n 
URL:https://kalenteri.niemikoti.fi/tapahtuma/malmin-pakohuone/2025-11-25/
LOCATION:Malmin päivätoimintakeskus\, Vanha Helsingintie 9\, Helsinki\, 00700\, Finland
CATEGORIES:Malmin päivätoimintakeskus
ATTACH;FMTTYPE=image/jpeg:https://kalenteri.niemikoti.fi/wp-content/uploads/2025/11/Pakohuoneen-mainos.jpg
END:VEVENT
BEGIN:VEVENT
DTSTART;TZID=Europe/Helsinki:20251125T110000
DTEND;TZID=Europe/Helsinki:20251125T130000
DTSTAMP:20260424T112711
CREATED:20251030T082024Z
LAST-MODIFIED:20251030T082024Z
UID:10024943-1764068400-1764075600@kalenteri.niemikoti.fi
SUMMARY:CV-PAJA
DESCRIPTION:Valtti Valmennus järjestää loppu vuodesta vielä kaksi CV-pajaa: 25.11. sekä 9.12. Cv-pajassa saat vinkkejä ja tarvittaessa tukea oman ansioluettelon tekemiseen. Tutustumme työpajassa osaamispohjaisen CV:n eli ansioluettelon tekemiseen ja Canva-ohjelman käyttöön. Ohjaamassa työpajaa on työvalmentajan lisäksi Valtti Valmennuksessa toimiva kokemusasiantuntija Aino.\n\n\n\nTyöpajat toimivat matalan kynnyksen periaatteella\, eikä ennakkoilmoittautumista vaadita. Olet myös lämpimästi tervetullut mukaan\, vaikket olisikaan valmennuksessa Valtissa.\n\n\n\nPistetään CV:t yhdessä kuntoon!
URL:https://kalenteri.niemikoti.fi/tapahtuma/cv-paja-10/
LOCATION:Valtti Valmennus\, Elimäenkatu 26\, Helsinki\, 00510\, Finland
CATEGORIES:Valtti Valmennus
ATTACH;FMTTYPE=image/png:https://kalenteri.niemikoti.fi/wp-content/uploads/2025/10/Ansioluettelo-eli-CV-Curriculum-Vitae-Instagram-postaus-45-3.png
END:VEVENT
BEGIN:VEVENT
DTSTART;VALUE=DATE:20251126
DTEND;VALUE=DATE:20251127
DTSTAMP:20260424T112711
CREATED:20251103T132509Z
LAST-MODIFIED:20251217T071041Z
UID:10025067-1764115200-1764201599@kalenteri.niemikoti.fi
SUMMARY:Malmin pakohuone
DESCRIPTION:Tule Malmin pakohuoneeseen ratkomaan arvoituksia ja auta matkallaan eksynyt Jemi kotiin! Kesto noin 45min\, max. 5 hengen ryhmät. \nLisätiedot ja ajanvaraukset ohjaajilta. \n 
URL:https://kalenteri.niemikoti.fi/tapahtuma/malmin-pakohuone/2025-11-26/
LOCATION:Malmin päivätoimintakeskus\, Vanha Helsingintie 9\, Helsinki\, 00700\, Finland
CATEGORIES:Malmin päivätoimintakeskus
ATTACH;FMTTYPE=image/jpeg:https://kalenteri.niemikoti.fi/wp-content/uploads/2025/11/Pakohuoneen-mainos.jpg
END:VEVENT
BEGIN:VEVENT
DTSTART;VALUE=DATE:20251127
DTEND;VALUE=DATE:20251128
DTSTAMP:20260424T112711
CREATED:20251103T132509Z
LAST-MODIFIED:20251217T071041Z
UID:10025068-1764201600-1764287999@kalenteri.niemikoti.fi
SUMMARY:Malmin pakohuone
DESCRIPTION:Tule Malmin pakohuoneeseen ratkomaan arvoituksia ja auta matkallaan eksynyt Jemi kotiin! Kesto noin 45min\, max. 5 hengen ryhmät. \nLisätiedot ja ajanvaraukset ohjaajilta. \n 
URL:https://kalenteri.niemikoti.fi/tapahtuma/malmin-pakohuone/2025-11-27/
LOCATION:Malmin päivätoimintakeskus\, Vanha Helsingintie 9\, Helsinki\, 00700\, Finland
CATEGORIES:Malmin päivätoimintakeskus
ATTACH;FMTTYPE=image/jpeg:https://kalenteri.niemikoti.fi/wp-content/uploads/2025/11/Pakohuoneen-mainos.jpg
END:VEVENT
BEGIN:VEVENT
DTSTART;VALUE=DATE:20251128
DTEND;VALUE=DATE:20251129
DTSTAMP:20260424T112711
CREATED:20251103T132509Z
LAST-MODIFIED:20251217T071041Z
UID:10025069-1764288000-1764374399@kalenteri.niemikoti.fi
SUMMARY:Malmin pakohuone
DESCRIPTION:Tule Malmin pakohuoneeseen ratkomaan arvoituksia ja auta matkallaan eksynyt Jemi kotiin! Kesto noin 45min\, max. 5 hengen ryhmät. \nLisätiedot ja ajanvaraukset ohjaajilta. \n 
URL:https://kalenteri.niemikoti.fi/tapahtuma/malmin-pakohuone/2025-11-28/
LOCATION:Malmin päivätoimintakeskus\, Vanha Helsingintie 9\, Helsinki\, 00700\, Finland
CATEGORIES:Malmin päivätoimintakeskus
ATTACH;FMTTYPE=image/jpeg:https://kalenteri.niemikoti.fi/wp-content/uploads/2025/11/Pakohuoneen-mainos.jpg
END:VEVENT
END:VCALENDAR