BEGIN:VCALENDAR
VERSION:2.0
PRODID:-//Tapahtumakalenteri - ECPv6.15.18//NONSGML v1.0//EN
CALSCALE:GREGORIAN
METHOD:PUBLISH
X-WR-CALNAME:Tapahtumakalenteri
X-ORIGINAL-URL:https://kalenteri.niemikoti.fi
X-WR-CALDESC:Tapahtumat Tapahtumakalenteri
REFRESH-INTERVAL;VALUE=DURATION:PT1H
X-Robots-Tag:noindex
X-PUBLISHED-TTL:PT1H
BEGIN:VTIMEZONE
TZID:Europe/Helsinki
BEGIN:DAYLIGHT
TZOFFSETFROM:+0200
TZOFFSETTO:+0300
TZNAME:EEST
DTSTART:20230326T010000
END:DAYLIGHT
BEGIN:STANDARD
TZOFFSETFROM:+0300
TZOFFSETTO:+0200
TZNAME:EET
DTSTART:20231029T010000
END:STANDARD
BEGIN:DAYLIGHT
TZOFFSETFROM:+0200
TZOFFSETTO:+0300
TZNAME:EEST
DTSTART:20240331T010000
END:DAYLIGHT
BEGIN:STANDARD
TZOFFSETFROM:+0300
TZOFFSETTO:+0200
TZNAME:EET
DTSTART:20241027T010000
END:STANDARD
BEGIN:DAYLIGHT
TZOFFSETFROM:+0200
TZOFFSETTO:+0300
TZNAME:EEST
DTSTART:20250330T010000
END:DAYLIGHT
BEGIN:STANDARD
TZOFFSETFROM:+0300
TZOFFSETTO:+0200
TZNAME:EET
DTSTART:20251026T010000
END:STANDARD
BEGIN:DAYLIGHT
TZOFFSETFROM:+0200
TZOFFSETTO:+0300
TZNAME:EEST
DTSTART:20260329T010000
END:DAYLIGHT
BEGIN:STANDARD
TZOFFSETFROM:+0300
TZOFFSETTO:+0200
TZNAME:EET
DTSTART:20261025T010000
END:STANDARD
END:VTIMEZONE
BEGIN:VEVENT
DTSTART;TZID=Europe/Helsinki:20240314T110000
DTEND;TZID=Europe/Helsinki:20240314T120000
DTSTAMP:20260421T111909
CREATED:20240125T131132Z
LAST-MODIFIED:20240408T123339Z
UID:10006021-1710414000-1710417600@kalenteri.niemikoti.fi
SUMMARY:Morning Coffee in english
DESCRIPTION:Opitaan ja pidetään yllä englannin kielen taitoa yhdessä keskustellen. Sopii kaikille kiinnostuneille\, ei taitotasovaatimuksia. \nConversation in English. No skill level requirements. \n 
URL:https://kalenteri.niemikoti.fi/tapahtuma/morning-coffee-in-english/2024-03-14/
LOCATION:Toimintakeskus Villa Borgis\, Linnavuorentie 13\, Helsinki\, 00950\, Finland
CATEGORIES:Toimintakeskus Villa Borgis
END:VEVENT
BEGIN:VEVENT
DTSTART;TZID=Europe/Helsinki:20240321T110000
DTEND;TZID=Europe/Helsinki:20240321T120000
DTSTAMP:20260421T111909
CREATED:20240125T131132Z
LAST-MODIFIED:20240408T123339Z
UID:10006022-1711018800-1711022400@kalenteri.niemikoti.fi
SUMMARY:Morning Coffee in english
DESCRIPTION:Opitaan ja pidetään yllä englannin kielen taitoa yhdessä keskustellen. Sopii kaikille kiinnostuneille\, ei taitotasovaatimuksia. \nConversation in English. No skill level requirements. \n 
URL:https://kalenteri.niemikoti.fi/tapahtuma/morning-coffee-in-english/2024-03-21/
LOCATION:Toimintakeskus Villa Borgis\, Linnavuorentie 13\, Helsinki\, 00950\, Finland
CATEGORIES:Toimintakeskus Villa Borgis
END:VEVENT
BEGIN:VEVENT
DTSTART;TZID=Europe/Helsinki:20240328T110000
DTEND;TZID=Europe/Helsinki:20240328T120000
DTSTAMP:20260421T111909
CREATED:20240125T131132Z
LAST-MODIFIED:20240408T123339Z
UID:10006023-1711623600-1711627200@kalenteri.niemikoti.fi
SUMMARY:Morning Coffee in english
DESCRIPTION:Opitaan ja pidetään yllä englannin kielen taitoa yhdessä keskustellen. Sopii kaikille kiinnostuneille\, ei taitotasovaatimuksia. \nConversation in English. No skill level requirements. \n 
URL:https://kalenteri.niemikoti.fi/tapahtuma/morning-coffee-in-english/2024-03-28/
LOCATION:Toimintakeskus Villa Borgis\, Linnavuorentie 13\, Helsinki\, 00950\, Finland
CATEGORIES:Toimintakeskus Villa Borgis
END:VEVENT
BEGIN:VEVENT
DTSTART;TZID=Europe/Helsinki:20240404T110000
DTEND;TZID=Europe/Helsinki:20240404T120000
DTSTAMP:20260421T111909
CREATED:20240125T131132Z
LAST-MODIFIED:20240408T123339Z
UID:10006024-1712228400-1712232000@kalenteri.niemikoti.fi
SUMMARY:Morning Coffee in english
DESCRIPTION:Opitaan ja pidetään yllä englannin kielen taitoa yhdessä keskustellen. Sopii kaikille kiinnostuneille\, ei taitotasovaatimuksia. \nConversation in English. No skill level requirements. \n 
URL:https://kalenteri.niemikoti.fi/tapahtuma/morning-coffee-in-english/2024-04-04/
LOCATION:Toimintakeskus Villa Borgis\, Linnavuorentie 13\, Helsinki\, 00950\, Finland
CATEGORIES:Toimintakeskus Villa Borgis
END:VEVENT
BEGIN:VEVENT
DTSTART;TZID=Europe/Helsinki:20240418T110000
DTEND;TZID=Europe/Helsinki:20240418T120000
DTSTAMP:20260421T111909
CREATED:20240125T131132Z
LAST-MODIFIED:20240408T123339Z
UID:10006025-1713438000-1713441600@kalenteri.niemikoti.fi
SUMMARY:Morning Coffee in english
DESCRIPTION:Opitaan ja pidetään yllä englannin kielen taitoa yhdessä keskustellen. Sopii kaikille kiinnostuneille\, ei taitotasovaatimuksia. \nConversation in English. No skill level requirements. \n 
URL:https://kalenteri.niemikoti.fi/tapahtuma/morning-coffee-in-english/2024-04-18/
LOCATION:Toimintakeskus Villa Borgis\, Linnavuorentie 13\, Helsinki\, 00950\, Finland
CATEGORIES:Toimintakeskus Villa Borgis
END:VEVENT
BEGIN:VEVENT
DTSTART;TZID=Europe/Helsinki:20240425T110000
DTEND;TZID=Europe/Helsinki:20240425T120000
DTSTAMP:20260421T111909
CREATED:20240125T131132Z
LAST-MODIFIED:20240408T123339Z
UID:10006026-1714042800-1714046400@kalenteri.niemikoti.fi
SUMMARY:Morning Coffee in english
DESCRIPTION:Opitaan ja pidetään yllä englannin kielen taitoa yhdessä keskustellen. Sopii kaikille kiinnostuneille\, ei taitotasovaatimuksia. \nConversation in English. No skill level requirements. \n 
URL:https://kalenteri.niemikoti.fi/tapahtuma/morning-coffee-in-english/2024-04-25/
LOCATION:Toimintakeskus Villa Borgis\, Linnavuorentie 13\, Helsinki\, 00950\, Finland
CATEGORIES:Toimintakeskus Villa Borgis
END:VEVENT
BEGIN:VEVENT
DTSTART;TZID=Europe/Helsinki:20240805T123000
DTEND;TZID=Europe/Helsinki:20240805T140000
DTSTAMP:20260421T111909
CREATED:20240911T113456Z
LAST-MODIFIED:20240911T113456Z
UID:10012672-1722861000-1722866400@kalenteri.niemikoti.fi
SUMMARY:Ranskan kielikylpy
DESCRIPTION:Opitaan ranskaa puhumalla. Harjoitellaan tervehtimistä ja esittäytymistä ranskaksi ja keskustellaan mm. kesän kuulumisista ja säästä. Neljän kerran kokonaisuus\, ilmoittaudu mukaan!
URL:https://kalenteri.niemikoti.fi/tapahtuma/ranskan-kielikylpy/2024-08-05/
LOCATION:Malmin päivätoimintakeskus\, Vanha Helsingintie 9\, Helsinki\, 00700\, Finland
CATEGORIES:Malmin päivätoimintakeskus
ATTACH;FMTTYPE=image/jpeg:https://kalenteri.niemikoti.fi/wp-content/uploads/2024/09/Ranskan-kielikylpy-1.jpg
END:VEVENT
BEGIN:VEVENT
DTSTART;TZID=Europe/Helsinki:20240812T123000
DTEND;TZID=Europe/Helsinki:20240812T140000
DTSTAMP:20260421T111909
CREATED:20240911T113456Z
LAST-MODIFIED:20240911T113456Z
UID:10012673-1723465800-1723471200@kalenteri.niemikoti.fi
SUMMARY:Ranskan kielikylpy
DESCRIPTION:Opitaan ranskaa puhumalla. Harjoitellaan tervehtimistä ja esittäytymistä ranskaksi ja keskustellaan mm. kesän kuulumisista ja säästä. Neljän kerran kokonaisuus\, ilmoittaudu mukaan!
URL:https://kalenteri.niemikoti.fi/tapahtuma/ranskan-kielikylpy/2024-08-12/
LOCATION:Malmin päivätoimintakeskus\, Vanha Helsingintie 9\, Helsinki\, 00700\, Finland
CATEGORIES:Malmin päivätoimintakeskus
ATTACH;FMTTYPE=image/jpeg:https://kalenteri.niemikoti.fi/wp-content/uploads/2024/09/Ranskan-kielikylpy-1.jpg
END:VEVENT
BEGIN:VEVENT
DTSTART;TZID=Europe/Helsinki:20240819T123000
DTEND;TZID=Europe/Helsinki:20240819T140000
DTSTAMP:20260421T111909
CREATED:20240911T113456Z
LAST-MODIFIED:20240911T113456Z
UID:10012674-1724070600-1724076000@kalenteri.niemikoti.fi
SUMMARY:Ranskan kielikylpy
DESCRIPTION:Opitaan ranskaa puhumalla. Harjoitellaan tervehtimistä ja esittäytymistä ranskaksi ja keskustellaan mm. kesän kuulumisista ja säästä. Neljän kerran kokonaisuus\, ilmoittaudu mukaan!
URL:https://kalenteri.niemikoti.fi/tapahtuma/ranskan-kielikylpy/2024-08-19/
LOCATION:Malmin päivätoimintakeskus\, Vanha Helsingintie 9\, Helsinki\, 00700\, Finland
CATEGORIES:Malmin päivätoimintakeskus
ATTACH;FMTTYPE=image/jpeg:https://kalenteri.niemikoti.fi/wp-content/uploads/2024/09/Ranskan-kielikylpy-1.jpg
END:VEVENT
BEGIN:VEVENT
DTSTART;TZID=Europe/Helsinki:20240826T123000
DTEND;TZID=Europe/Helsinki:20240826T140000
DTSTAMP:20260421T111909
CREATED:20240911T113456Z
LAST-MODIFIED:20240911T113456Z
UID:10012675-1724675400-1724680800@kalenteri.niemikoti.fi
SUMMARY:Ranskan kielikylpy
DESCRIPTION:Opitaan ranskaa puhumalla. Harjoitellaan tervehtimistä ja esittäytymistä ranskaksi ja keskustellaan mm. kesän kuulumisista ja säästä. Neljän kerran kokonaisuus\, ilmoittaudu mukaan!
URL:https://kalenteri.niemikoti.fi/tapahtuma/ranskan-kielikylpy/2024-08-26/
LOCATION:Malmin päivätoimintakeskus\, Vanha Helsingintie 9\, Helsinki\, 00700\, Finland
CATEGORIES:Malmin päivätoimintakeskus
ATTACH;FMTTYPE=image/jpeg:https://kalenteri.niemikoti.fi/wp-content/uploads/2024/09/Ranskan-kielikylpy-1.jpg
END:VEVENT
BEGIN:VEVENT
DTSTART;TZID=Europe/Helsinki:20241107T110000
DTEND;TZID=Europe/Helsinki:20241107T120000
DTSTAMP:20260421T111909
CREATED:20241016T125449Z
LAST-MODIFIED:20241115T113647Z
UID:10013510-1730977200-1730980800@kalenteri.niemikoti.fi
SUMMARY:Morning Coffee in English
DESCRIPTION:Opitaan ja ylläpidetään englannin kielen taitoa yhdessä. Keskustelua vaihtelevista aiheista. \nLet´s learn and keep up our English skills together. Conversations about changing subjects.
URL:https://kalenteri.niemikoti.fi/tapahtuma/morning-coffee-in-english-2/2024-11-07/
LOCATION:Toimintakeskus Villa Borgis\, Linnavuorentie 13\, Helsinki\, 00950\, Finland
CATEGORIES:Toimintakeskus Villa Borgis
END:VEVENT
BEGIN:VEVENT
DTSTART;TZID=Europe/Helsinki:20241114T110000
DTEND;TZID=Europe/Helsinki:20241114T120000
DTSTAMP:20260421T111909
CREATED:20241016T125449Z
LAST-MODIFIED:20241115T113647Z
UID:10013511-1731582000-1731585600@kalenteri.niemikoti.fi
SUMMARY:Morning Coffee in English
DESCRIPTION:Opitaan ja ylläpidetään englannin kielen taitoa yhdessä. Keskustelua vaihtelevista aiheista. \nLet´s learn and keep up our English skills together. Conversations about changing subjects.
URL:https://kalenteri.niemikoti.fi/tapahtuma/morning-coffee-in-english-2/2024-11-14/
LOCATION:Toimintakeskus Villa Borgis\, Linnavuorentie 13\, Helsinki\, 00950\, Finland
CATEGORIES:Toimintakeskus Villa Borgis
END:VEVENT
BEGIN:VEVENT
DTSTART;TZID=Europe/Helsinki:20241121T110000
DTEND;TZID=Europe/Helsinki:20241121T120000
DTSTAMP:20260421T111909
CREATED:20241016T125449Z
LAST-MODIFIED:20241115T113647Z
UID:10013512-1732186800-1732190400@kalenteri.niemikoti.fi
SUMMARY:Morning Coffee in English
DESCRIPTION:Opitaan ja ylläpidetään englannin kielen taitoa yhdessä. Keskustelua vaihtelevista aiheista. \nLet´s learn and keep up our English skills together. Conversations about changing subjects.
URL:https://kalenteri.niemikoti.fi/tapahtuma/morning-coffee-in-english-2/2024-11-21/
LOCATION:Toimintakeskus Villa Borgis\, Linnavuorentie 13\, Helsinki\, 00950\, Finland
CATEGORIES:Toimintakeskus Villa Borgis
END:VEVENT
BEGIN:VEVENT
DTSTART;TZID=Europe/Helsinki:20241128T110000
DTEND;TZID=Europe/Helsinki:20241128T120000
DTSTAMP:20260421T111909
CREATED:20241016T125449Z
LAST-MODIFIED:20241115T113647Z
UID:10013513-1732791600-1732795200@kalenteri.niemikoti.fi
SUMMARY:Morning Coffee in English
DESCRIPTION:Opitaan ja ylläpidetään englannin kielen taitoa yhdessä. Keskustelua vaihtelevista aiheista. \nLet´s learn and keep up our English skills together. Conversations about changing subjects.
URL:https://kalenteri.niemikoti.fi/tapahtuma/morning-coffee-in-english-2/2024-11-28/
LOCATION:Toimintakeskus Villa Borgis\, Linnavuorentie 13\, Helsinki\, 00950\, Finland
CATEGORIES:Toimintakeskus Villa Borgis
END:VEVENT
BEGIN:VEVENT
DTSTART;TZID=Europe/Helsinki:20241205T110000
DTEND;TZID=Europe/Helsinki:20241205T120000
DTSTAMP:20260421T111909
CREATED:20241016T125449Z
LAST-MODIFIED:20241115T113647Z
UID:10013514-1733396400-1733400000@kalenteri.niemikoti.fi
SUMMARY:Morning Coffee in English
DESCRIPTION:Opitaan ja ylläpidetään englannin kielen taitoa yhdessä. Keskustelua vaihtelevista aiheista. \nLet´s learn and keep up our English skills together. Conversations about changing subjects.
URL:https://kalenteri.niemikoti.fi/tapahtuma/morning-coffee-in-english-2/2024-12-05/
LOCATION:Toimintakeskus Villa Borgis\, Linnavuorentie 13\, Helsinki\, 00950\, Finland
CATEGORIES:Toimintakeskus Villa Borgis
END:VEVENT
BEGIN:VEVENT
DTSTART;TZID=Europe/Helsinki:20241212T110000
DTEND;TZID=Europe/Helsinki:20241212T120000
DTSTAMP:20260421T111909
CREATED:20241016T125449Z
LAST-MODIFIED:20241115T113647Z
UID:10013601-1734001200-1734004800@kalenteri.niemikoti.fi
SUMMARY:Morning Coffee in English
DESCRIPTION:Opitaan ja ylläpidetään englannin kielen taitoa yhdessä. Keskustelua vaihtelevista aiheista. \nLet´s learn and keep up our English skills together. Conversations about changing subjects.
URL:https://kalenteri.niemikoti.fi/tapahtuma/morning-coffee-in-english-2/2024-12-12/
LOCATION:Toimintakeskus Villa Borgis\, Linnavuorentie 13\, Helsinki\, 00950\, Finland
CATEGORIES:Toimintakeskus Villa Borgis
END:VEVENT
BEGIN:VEVENT
DTSTART;TZID=Europe/Helsinki:20241219T110000
DTEND;TZID=Europe/Helsinki:20241219T120000
DTSTAMP:20260421T111909
CREATED:20241016T125449Z
LAST-MODIFIED:20241115T113647Z
UID:10013515-1734606000-1734609600@kalenteri.niemikoti.fi
SUMMARY:Morning Coffee in English
DESCRIPTION:Opitaan ja ylläpidetään englannin kielen taitoa yhdessä. Keskustelua vaihtelevista aiheista. \nLet´s learn and keep up our English skills together. Conversations about changing subjects.
URL:https://kalenteri.niemikoti.fi/tapahtuma/morning-coffee-in-english-2/2024-12-19/
LOCATION:Toimintakeskus Villa Borgis\, Linnavuorentie 13\, Helsinki\, 00950\, Finland
CATEGORIES:Toimintakeskus Villa Borgis
END:VEVENT
BEGIN:VEVENT
DTSTART;TZID=Europe/Helsinki:20250403T110000
DTEND;TZID=Europe/Helsinki:20250403T120000
DTSTAMP:20260421T111909
CREATED:20250325T062827Z
LAST-MODIFIED:20250522T074931Z
UID:10022010-1743678000-1743681600@kalenteri.niemikoti.fi
SUMMARY:Morning Coffee -englanninkielinen keskusteluryhmä
DESCRIPTION:Opitaan ja pidetään yllä englannin kielen taitoa yhdessä keskustellen. Discussing in English – learning and keeping up English skills together.
URL:https://kalenteri.niemikoti.fi/tapahtuma/morning-coffee-englanninkielinen-keskusteluryhma/2025-04-03/
LOCATION:Toimintakeskus Villa Borgis\, Linnavuorentie 13\, Helsinki\, 00950\, Finland
CATEGORIES:Toimintakeskus Villa Borgis
END:VEVENT
BEGIN:VEVENT
DTSTART;TZID=Europe/Helsinki:20250410T110000
DTEND;TZID=Europe/Helsinki:20250410T120000
DTSTAMP:20260421T111909
CREATED:20250325T062827Z
LAST-MODIFIED:20250522T074931Z
UID:10022011-1744282800-1744286400@kalenteri.niemikoti.fi
SUMMARY:Morning Coffee -englanninkielinen keskusteluryhmä
DESCRIPTION:Opitaan ja pidetään yllä englannin kielen taitoa yhdessä keskustellen. Discussing in English – learning and keeping up English skills together.
URL:https://kalenteri.niemikoti.fi/tapahtuma/morning-coffee-englanninkielinen-keskusteluryhma/2025-04-10/
LOCATION:Toimintakeskus Villa Borgis\, Linnavuorentie 13\, Helsinki\, 00950\, Finland
CATEGORIES:Toimintakeskus Villa Borgis
END:VEVENT
BEGIN:VEVENT
DTSTART;TZID=Europe/Helsinki:20250417T110000
DTEND;TZID=Europe/Helsinki:20250417T120000
DTSTAMP:20260421T111909
CREATED:20250325T062827Z
LAST-MODIFIED:20250522T074931Z
UID:10022012-1744887600-1744891200@kalenteri.niemikoti.fi
SUMMARY:Morning Coffee -englanninkielinen keskusteluryhmä
DESCRIPTION:Opitaan ja pidetään yllä englannin kielen taitoa yhdessä keskustellen. Discussing in English – learning and keeping up English skills together.
URL:https://kalenteri.niemikoti.fi/tapahtuma/morning-coffee-englanninkielinen-keskusteluryhma/2025-04-17/
LOCATION:Toimintakeskus Villa Borgis\, Linnavuorentie 13\, Helsinki\, 00950\, Finland
CATEGORIES:Toimintakeskus Villa Borgis
END:VEVENT
BEGIN:VEVENT
DTSTART;TZID=Europe/Helsinki:20250424T110000
DTEND;TZID=Europe/Helsinki:20250424T120000
DTSTAMP:20260421T111909
CREATED:20250325T062827Z
LAST-MODIFIED:20250522T074931Z
UID:10022013-1745492400-1745496000@kalenteri.niemikoti.fi
SUMMARY:Morning Coffee -englanninkielinen keskusteluryhmä
DESCRIPTION:Opitaan ja pidetään yllä englannin kielen taitoa yhdessä keskustellen. Discussing in English – learning and keeping up English skills together.
URL:https://kalenteri.niemikoti.fi/tapahtuma/morning-coffee-englanninkielinen-keskusteluryhma/2025-04-24/
LOCATION:Toimintakeskus Villa Borgis\, Linnavuorentie 13\, Helsinki\, 00950\, Finland
CATEGORIES:Toimintakeskus Villa Borgis
END:VEVENT
BEGIN:VEVENT
DTSTART;TZID=Europe/Helsinki:20250508T110000
DTEND;TZID=Europe/Helsinki:20250508T120000
DTSTAMP:20260421T111909
CREATED:20250325T062827Z
LAST-MODIFIED:20250522T074931Z
UID:10022062-1746702000-1746705600@kalenteri.niemikoti.fi
SUMMARY:Morning Coffee -englanninkielinen keskusteluryhmä
DESCRIPTION:Opitaan ja pidetään yllä englannin kielen taitoa yhdessä keskustellen. Discussing in English – learning and keeping up English skills together.
URL:https://kalenteri.niemikoti.fi/tapahtuma/morning-coffee-englanninkielinen-keskusteluryhma/2025-05-08/
LOCATION:Toimintakeskus Villa Borgis\, Linnavuorentie 13\, Helsinki\, 00950\, Finland
CATEGORIES:Toimintakeskus Villa Borgis
END:VEVENT
BEGIN:VEVENT
DTSTART;TZID=Europe/Helsinki:20250522T110000
DTEND;TZID=Europe/Helsinki:20250522T120000
DTSTAMP:20260421T111909
CREATED:20250325T062827Z
LAST-MODIFIED:20250522T074931Z
UID:10022063-1747911600-1747915200@kalenteri.niemikoti.fi
SUMMARY:Morning Coffee -englanninkielinen keskusteluryhmä
DESCRIPTION:Opitaan ja pidetään yllä englannin kielen taitoa yhdessä keskustellen. Discussing in English – learning and keeping up English skills together.
URL:https://kalenteri.niemikoti.fi/tapahtuma/morning-coffee-englanninkielinen-keskusteluryhma/2025-05-22/
LOCATION:Toimintakeskus Villa Borgis\, Linnavuorentie 13\, Helsinki\, 00950\, Finland
CATEGORIES:Toimintakeskus Villa Borgis
END:VEVENT
BEGIN:VEVENT
DTSTART;TZID=Europe/Helsinki:20250528T133000
DTEND;TZID=Europe/Helsinki:20250528T150000
DTSTAMP:20260421T111909
CREATED:20250509T103800Z
LAST-MODIFIED:20250509T103800Z
UID:10022083-1748439000-1748444400@kalenteri.niemikoti.fi
SUMMARY:INFO: Selkokieli
DESCRIPTION:Valtti Valmennuksen kokemusasiantuntija Aino järjestää 28.5. klo 13.30-15 Selkokieli-infon. Selkokielestä hyötyvät kaikki\, mutta erityisesti sote-palveluiden asiakkaat ja työntekijät. Kannustamme myös alan ammattilaisia osallistumaan infoon.\n\n\nInfoon osallistuminen vaatii ennakkoilmoittautumisen 26.5. mennessä. Voit ilmoittautua infoon joko soittamalla työvalmentajallemme Matleenalle puh. 0407009790 tai sähköpostitse matleena.huovio@niemikoti.fi. Voit osallistua infoon joko paikan päällä Valtti Valmennuksessa\, tai etänä Teamsin välityksellä.
URL:https://kalenteri.niemikoti.fi/tapahtuma/info-selkokieli/
LOCATION:Valtti Valmennus\, Elimäenkatu 26\, Helsinki\, 00510\, Finland
CATEGORIES:Kokemusasiantuntija- ja vertaistoiminta,Tapahtumat henkilökunnalle,Tapahtumat palvelunkäyttäjille,Valtti Valmennus
ATTACH;FMTTYPE=image/png:https://kalenteri.niemikoti.fi/wp-content/uploads/2025/05/SELKOKIELI-INFOmainos.png
END:VEVENT
BEGIN:VEVENT
DTSTART;TZID=Europe/Helsinki:20250605T110000
DTEND;TZID=Europe/Helsinki:20250605T120000
DTSTAMP:20260421T111909
CREATED:20250325T062827Z
LAST-MODIFIED:20250522T074931Z
UID:10022064-1749121200-1749124800@kalenteri.niemikoti.fi
SUMMARY:Morning Coffee -englanninkielinen keskusteluryhmä
DESCRIPTION:Opitaan ja pidetään yllä englannin kielen taitoa yhdessä keskustellen. Discussing in English – learning and keeping up English skills together.
URL:https://kalenteri.niemikoti.fi/tapahtuma/morning-coffee-englanninkielinen-keskusteluryhma/2025-06-05/
LOCATION:Toimintakeskus Villa Borgis\, Linnavuorentie 13\, Helsinki\, 00950\, Finland
CATEGORIES:Toimintakeskus Villa Borgis
END:VEVENT
BEGIN:VEVENT
DTSTART;TZID=Europe/Helsinki:20250612T110000
DTEND;TZID=Europe/Helsinki:20250612T120000
DTSTAMP:20260421T111909
CREATED:20250325T062827Z
LAST-MODIFIED:20250522T074931Z
UID:10022065-1749726000-1749729600@kalenteri.niemikoti.fi
SUMMARY:Morning Coffee -englanninkielinen keskusteluryhmä
DESCRIPTION:Opitaan ja pidetään yllä englannin kielen taitoa yhdessä keskustellen. Discussing in English – learning and keeping up English skills together.
URL:https://kalenteri.niemikoti.fi/tapahtuma/morning-coffee-englanninkielinen-keskusteluryhma/2025-06-12/
LOCATION:Toimintakeskus Villa Borgis\, Linnavuorentie 13\, Helsinki\, 00950\, Finland
CATEGORIES:Toimintakeskus Villa Borgis
END:VEVENT
BEGIN:VEVENT
DTSTART;TZID=Europe/Helsinki:20250626T110000
DTEND;TZID=Europe/Helsinki:20250626T120000
DTSTAMP:20260421T111909
CREATED:20250325T062827Z
LAST-MODIFIED:20250522T074931Z
UID:10022607-1750935600-1750939200@kalenteri.niemikoti.fi
SUMMARY:Morning Coffee -englanninkielinen keskusteluryhmä
DESCRIPTION:Opitaan ja pidetään yllä englannin kielen taitoa yhdessä keskustellen. Discussing in English – learning and keeping up English skills together.
URL:https://kalenteri.niemikoti.fi/tapahtuma/morning-coffee-englanninkielinen-keskusteluryhma/2025-06-26/
LOCATION:Toimintakeskus Villa Borgis\, Linnavuorentie 13\, Helsinki\, 00950\, Finland
CATEGORIES:Toimintakeskus Villa Borgis
END:VEVENT
BEGIN:VEVENT
DTSTART;TZID=Europe/Helsinki:20250807T110000
DTEND;TZID=Europe/Helsinki:20250807T120000
DTSTAMP:20260421T111909
CREATED:20250723T115553Z
LAST-MODIFIED:20250924T123615Z
UID:10023327-1754564400-1754568000@kalenteri.niemikoti.fi
SUMMARY:Morning Coffee -englanninkielinen keskusteluryhmä
DESCRIPTION:Opitaan ja pidetään yllä englannin kielen taitoa yhdessä keskustellen. Learning English  together by talking about different items.
URL:https://kalenteri.niemikoti.fi/tapahtuma/morning-coffee-englanninkielinen-keskusteluryhma-2/2025-08-07/
LOCATION:Toimintakeskus Villa Borgis\, Linnavuorentie 13\, Helsinki\, 00950\, Finland
CATEGORIES:Toimintakeskus Villa Borgis
END:VEVENT
BEGIN:VEVENT
DTSTART;TZID=Europe/Helsinki:20250814T110000
DTEND;TZID=Europe/Helsinki:20250814T120000
DTSTAMP:20260421T111909
CREATED:20250723T115553Z
LAST-MODIFIED:20250924T123615Z
UID:10023328-1755169200-1755172800@kalenteri.niemikoti.fi
SUMMARY:Morning Coffee -englanninkielinen keskusteluryhmä
DESCRIPTION:Opitaan ja pidetään yllä englannin kielen taitoa yhdessä keskustellen. Learning English  together by talking about different items.
URL:https://kalenteri.niemikoti.fi/tapahtuma/morning-coffee-englanninkielinen-keskusteluryhma-2/2025-08-14/
LOCATION:Toimintakeskus Villa Borgis\, Linnavuorentie 13\, Helsinki\, 00950\, Finland
CATEGORIES:Toimintakeskus Villa Borgis
END:VEVENT
BEGIN:VEVENT
DTSTART;TZID=Europe/Helsinki:20250821T110000
DTEND;TZID=Europe/Helsinki:20250821T120000
DTSTAMP:20260421T111909
CREATED:20250723T115553Z
LAST-MODIFIED:20250924T123615Z
UID:10023329-1755774000-1755777600@kalenteri.niemikoti.fi
SUMMARY:Morning Coffee -englanninkielinen keskusteluryhmä
DESCRIPTION:Opitaan ja pidetään yllä englannin kielen taitoa yhdessä keskustellen. Learning English  together by talking about different items.
URL:https://kalenteri.niemikoti.fi/tapahtuma/morning-coffee-englanninkielinen-keskusteluryhma-2/2025-08-21/
LOCATION:Toimintakeskus Villa Borgis\, Linnavuorentie 13\, Helsinki\, 00950\, Finland
CATEGORIES:Toimintakeskus Villa Borgis
END:VEVENT
END:VCALENDAR