BEGIN:VCALENDAR
VERSION:2.0
PRODID:-//Tapahtumakalenteri - ECPv6.15.18//NONSGML v1.0//EN
CALSCALE:GREGORIAN
METHOD:PUBLISH
X-WR-CALNAME:Tapahtumakalenteri
X-ORIGINAL-URL:https://kalenteri.niemikoti.fi
X-WR-CALDESC:Tapahtumat Tapahtumakalenteri
REFRESH-INTERVAL;VALUE=DURATION:PT1H
X-Robots-Tag:noindex
X-PUBLISHED-TTL:PT1H
BEGIN:VTIMEZONE
TZID:Europe/Helsinki
BEGIN:DAYLIGHT
TZOFFSETFROM:+0200
TZOFFSETTO:+0300
TZNAME:EEST
DTSTART:20240331T010000
END:DAYLIGHT
BEGIN:STANDARD
TZOFFSETFROM:+0300
TZOFFSETTO:+0200
TZNAME:EET
DTSTART:20241027T010000
END:STANDARD
BEGIN:DAYLIGHT
TZOFFSETFROM:+0200
TZOFFSETTO:+0300
TZNAME:EEST
DTSTART:20250330T010000
END:DAYLIGHT
BEGIN:STANDARD
TZOFFSETFROM:+0300
TZOFFSETTO:+0200
TZNAME:EET
DTSTART:20251026T010000
END:STANDARD
BEGIN:DAYLIGHT
TZOFFSETFROM:+0200
TZOFFSETTO:+0300
TZNAME:EEST
DTSTART:20260329T010000
END:DAYLIGHT
BEGIN:STANDARD
TZOFFSETFROM:+0300
TZOFFSETTO:+0200
TZNAME:EET
DTSTART:20261025T010000
END:STANDARD
END:VTIMEZONE
BEGIN:VEVENT
DTSTART;TZID=Europe/Helsinki:20250802T100000
DTEND;TZID=Europe/Helsinki:20250802T150000
DTSTAMP:20260424T024007
CREATED:20250618T065641Z
LAST-MODIFIED:20250618T065641Z
UID:10023303-1754128800-1754146800@kalenteri.niemikoti.fi
SUMMARY:Kierrättävä kesä Villa Borgiksessa
DESCRIPTION:Avoimen kesätoiminnan ajan 30.6.-1.8.2025 Toimintakeskus Villa Borgiksessa on pieni kierrätyspiste\, jonne voit tuoda tarpeettomaksi jääneitä puhtaita ja ehjiä vaatteita/tavaroita ja ottaa tarvitsemasi. Kierrätyspiste on avoinna aukioloaikojen mukaan ma-ke klo 10-15\, pe 10-13 (torstait ovat retkipäiviä).
URL:https://kalenteri.niemikoti.fi/tapahtuma/kierrattava-kesa-villa-borgiksessa/2025-08-02/
LOCATION:Toimintakeskus Villa Borgis\, Linnavuorentie 13\, Helsinki\, 00950\, Finland
CATEGORIES:Toimintakeskus Villa Borgis
ATTACH;FMTTYPE=image/jpeg:https://kalenteri.niemikoti.fi/wp-content/uploads/2025/06/kierrattavakesaVB.jpg
END:VEVENT
BEGIN:VEVENT
DTSTART;TZID=Europe/Helsinki:20250801T100000
DTEND;TZID=Europe/Helsinki:20250801T150000
DTSTAMP:20260424T024007
CREATED:20250618T065641Z
LAST-MODIFIED:20250618T065641Z
UID:10023302-1754042400-1754060400@kalenteri.niemikoti.fi
SUMMARY:Kierrättävä kesä Villa Borgiksessa
DESCRIPTION:Avoimen kesätoiminnan ajan 30.6.-1.8.2025 Toimintakeskus Villa Borgiksessa on pieni kierrätyspiste\, jonne voit tuoda tarpeettomaksi jääneitä puhtaita ja ehjiä vaatteita/tavaroita ja ottaa tarvitsemasi. Kierrätyspiste on avoinna aukioloaikojen mukaan ma-ke klo 10-15\, pe 10-13 (torstait ovat retkipäiviä).
URL:https://kalenteri.niemikoti.fi/tapahtuma/kierrattava-kesa-villa-borgiksessa/2025-08-01/
LOCATION:Toimintakeskus Villa Borgis\, Linnavuorentie 13\, Helsinki\, 00950\, Finland
CATEGORIES:Toimintakeskus Villa Borgis
ATTACH;FMTTYPE=image/jpeg:https://kalenteri.niemikoti.fi/wp-content/uploads/2025/06/kierrattavakesaVB.jpg
END:VEVENT
BEGIN:VEVENT
DTSTART;TZID=Europe/Helsinki:20250731T100000
DTEND;TZID=Europe/Helsinki:20250731T150000
DTSTAMP:20260424T024007
CREATED:20250618T065641Z
LAST-MODIFIED:20250618T065641Z
UID:10023301-1753956000-1753974000@kalenteri.niemikoti.fi
SUMMARY:Kierrättävä kesä Villa Borgiksessa
DESCRIPTION:Avoimen kesätoiminnan ajan 30.6.-1.8.2025 Toimintakeskus Villa Borgiksessa on pieni kierrätyspiste\, jonne voit tuoda tarpeettomaksi jääneitä puhtaita ja ehjiä vaatteita/tavaroita ja ottaa tarvitsemasi. Kierrätyspiste on avoinna aukioloaikojen mukaan ma-ke klo 10-15\, pe 10-13 (torstait ovat retkipäiviä).
URL:https://kalenteri.niemikoti.fi/tapahtuma/kierrattava-kesa-villa-borgiksessa/2025-07-31/
LOCATION:Toimintakeskus Villa Borgis\, Linnavuorentie 13\, Helsinki\, 00950\, Finland
CATEGORIES:Toimintakeskus Villa Borgis
ATTACH;FMTTYPE=image/jpeg:https://kalenteri.niemikoti.fi/wp-content/uploads/2025/06/kierrattavakesaVB.jpg
END:VEVENT
BEGIN:VEVENT
DTSTART;TZID=Europe/Helsinki:20250730T100000
DTEND;TZID=Europe/Helsinki:20250730T150000
DTSTAMP:20260424T024007
CREATED:20250618T065641Z
LAST-MODIFIED:20250618T065641Z
UID:10023300-1753869600-1753887600@kalenteri.niemikoti.fi
SUMMARY:Kierrättävä kesä Villa Borgiksessa
DESCRIPTION:Avoimen kesätoiminnan ajan 30.6.-1.8.2025 Toimintakeskus Villa Borgiksessa on pieni kierrätyspiste\, jonne voit tuoda tarpeettomaksi jääneitä puhtaita ja ehjiä vaatteita/tavaroita ja ottaa tarvitsemasi. Kierrätyspiste on avoinna aukioloaikojen mukaan ma-ke klo 10-15\, pe 10-13 (torstait ovat retkipäiviä).
URL:https://kalenteri.niemikoti.fi/tapahtuma/kierrattava-kesa-villa-borgiksessa/2025-07-30/
LOCATION:Toimintakeskus Villa Borgis\, Linnavuorentie 13\, Helsinki\, 00950\, Finland
CATEGORIES:Toimintakeskus Villa Borgis
ATTACH;FMTTYPE=image/jpeg:https://kalenteri.niemikoti.fi/wp-content/uploads/2025/06/kierrattavakesaVB.jpg
END:VEVENT
BEGIN:VEVENT
DTSTART;TZID=Europe/Helsinki:20250729T100000
DTEND;TZID=Europe/Helsinki:20250729T150000
DTSTAMP:20260424T024007
CREATED:20250618T065641Z
LAST-MODIFIED:20250618T065641Z
UID:10023299-1753783200-1753801200@kalenteri.niemikoti.fi
SUMMARY:Kierrättävä kesä Villa Borgiksessa
DESCRIPTION:Avoimen kesätoiminnan ajan 30.6.-1.8.2025 Toimintakeskus Villa Borgiksessa on pieni kierrätyspiste\, jonne voit tuoda tarpeettomaksi jääneitä puhtaita ja ehjiä vaatteita/tavaroita ja ottaa tarvitsemasi. Kierrätyspiste on avoinna aukioloaikojen mukaan ma-ke klo 10-15\, pe 10-13 (torstait ovat retkipäiviä).
URL:https://kalenteri.niemikoti.fi/tapahtuma/kierrattava-kesa-villa-borgiksessa/2025-07-29/
LOCATION:Toimintakeskus Villa Borgis\, Linnavuorentie 13\, Helsinki\, 00950\, Finland
CATEGORIES:Toimintakeskus Villa Borgis
ATTACH;FMTTYPE=image/jpeg:https://kalenteri.niemikoti.fi/wp-content/uploads/2025/06/kierrattavakesaVB.jpg
END:VEVENT
BEGIN:VEVENT
DTSTART;TZID=Europe/Helsinki:20250728T100000
DTEND;TZID=Europe/Helsinki:20250728T150000
DTSTAMP:20260424T024007
CREATED:20250618T065641Z
LAST-MODIFIED:20250618T065641Z
UID:10023298-1753696800-1753714800@kalenteri.niemikoti.fi
SUMMARY:Kierrättävä kesä Villa Borgiksessa
DESCRIPTION:Avoimen kesätoiminnan ajan 30.6.-1.8.2025 Toimintakeskus Villa Borgiksessa on pieni kierrätyspiste\, jonne voit tuoda tarpeettomaksi jääneitä puhtaita ja ehjiä vaatteita/tavaroita ja ottaa tarvitsemasi. Kierrätyspiste on avoinna aukioloaikojen mukaan ma-ke klo 10-15\, pe 10-13 (torstait ovat retkipäiviä).
URL:https://kalenteri.niemikoti.fi/tapahtuma/kierrattava-kesa-villa-borgiksessa/2025-07-28/
LOCATION:Toimintakeskus Villa Borgis\, Linnavuorentie 13\, Helsinki\, 00950\, Finland
CATEGORIES:Toimintakeskus Villa Borgis
ATTACH;FMTTYPE=image/jpeg:https://kalenteri.niemikoti.fi/wp-content/uploads/2025/06/kierrattavakesaVB.jpg
END:VEVENT
BEGIN:VEVENT
DTSTART;TZID=Europe/Helsinki:20250727T100000
DTEND;TZID=Europe/Helsinki:20250727T150000
DTSTAMP:20260424T024007
CREATED:20250618T065641Z
LAST-MODIFIED:20250618T065641Z
UID:10023297-1753610400-1753628400@kalenteri.niemikoti.fi
SUMMARY:Kierrättävä kesä Villa Borgiksessa
DESCRIPTION:Avoimen kesätoiminnan ajan 30.6.-1.8.2025 Toimintakeskus Villa Borgiksessa on pieni kierrätyspiste\, jonne voit tuoda tarpeettomaksi jääneitä puhtaita ja ehjiä vaatteita/tavaroita ja ottaa tarvitsemasi. Kierrätyspiste on avoinna aukioloaikojen mukaan ma-ke klo 10-15\, pe 10-13 (torstait ovat retkipäiviä).
URL:https://kalenteri.niemikoti.fi/tapahtuma/kierrattava-kesa-villa-borgiksessa/2025-07-27/
LOCATION:Toimintakeskus Villa Borgis\, Linnavuorentie 13\, Helsinki\, 00950\, Finland
CATEGORIES:Toimintakeskus Villa Borgis
ATTACH;FMTTYPE=image/jpeg:https://kalenteri.niemikoti.fi/wp-content/uploads/2025/06/kierrattavakesaVB.jpg
END:VEVENT
BEGIN:VEVENT
DTSTART;TZID=Europe/Helsinki:20250726T100000
DTEND;TZID=Europe/Helsinki:20250726T150000
DTSTAMP:20260424T024007
CREATED:20250618T065641Z
LAST-MODIFIED:20250618T065641Z
UID:10023296-1753524000-1753542000@kalenteri.niemikoti.fi
SUMMARY:Kierrättävä kesä Villa Borgiksessa
DESCRIPTION:Avoimen kesätoiminnan ajan 30.6.-1.8.2025 Toimintakeskus Villa Borgiksessa on pieni kierrätyspiste\, jonne voit tuoda tarpeettomaksi jääneitä puhtaita ja ehjiä vaatteita/tavaroita ja ottaa tarvitsemasi. Kierrätyspiste on avoinna aukioloaikojen mukaan ma-ke klo 10-15\, pe 10-13 (torstait ovat retkipäiviä).
URL:https://kalenteri.niemikoti.fi/tapahtuma/kierrattava-kesa-villa-borgiksessa/2025-07-26/
LOCATION:Toimintakeskus Villa Borgis\, Linnavuorentie 13\, Helsinki\, 00950\, Finland
CATEGORIES:Toimintakeskus Villa Borgis
ATTACH;FMTTYPE=image/jpeg:https://kalenteri.niemikoti.fi/wp-content/uploads/2025/06/kierrattavakesaVB.jpg
END:VEVENT
BEGIN:VEVENT
DTSTART;TZID=Europe/Helsinki:20250725T100000
DTEND;TZID=Europe/Helsinki:20250725T150000
DTSTAMP:20260424T024007
CREATED:20250618T065641Z
LAST-MODIFIED:20250618T065641Z
UID:10023295-1753437600-1753455600@kalenteri.niemikoti.fi
SUMMARY:Kierrättävä kesä Villa Borgiksessa
DESCRIPTION:Avoimen kesätoiminnan ajan 30.6.-1.8.2025 Toimintakeskus Villa Borgiksessa on pieni kierrätyspiste\, jonne voit tuoda tarpeettomaksi jääneitä puhtaita ja ehjiä vaatteita/tavaroita ja ottaa tarvitsemasi. Kierrätyspiste on avoinna aukioloaikojen mukaan ma-ke klo 10-15\, pe 10-13 (torstait ovat retkipäiviä).
URL:https://kalenteri.niemikoti.fi/tapahtuma/kierrattava-kesa-villa-borgiksessa/2025-07-25/
LOCATION:Toimintakeskus Villa Borgis\, Linnavuorentie 13\, Helsinki\, 00950\, Finland
CATEGORIES:Toimintakeskus Villa Borgis
ATTACH;FMTTYPE=image/jpeg:https://kalenteri.niemikoti.fi/wp-content/uploads/2025/06/kierrattavakesaVB.jpg
END:VEVENT
BEGIN:VEVENT
DTSTART;TZID=Europe/Helsinki:20250724T100000
DTEND;TZID=Europe/Helsinki:20250724T150000
DTSTAMP:20260424T024007
CREATED:20250618T065641Z
LAST-MODIFIED:20250618T065641Z
UID:10023294-1753351200-1753369200@kalenteri.niemikoti.fi
SUMMARY:Kierrättävä kesä Villa Borgiksessa
DESCRIPTION:Avoimen kesätoiminnan ajan 30.6.-1.8.2025 Toimintakeskus Villa Borgiksessa on pieni kierrätyspiste\, jonne voit tuoda tarpeettomaksi jääneitä puhtaita ja ehjiä vaatteita/tavaroita ja ottaa tarvitsemasi. Kierrätyspiste on avoinna aukioloaikojen mukaan ma-ke klo 10-15\, pe 10-13 (torstait ovat retkipäiviä).
URL:https://kalenteri.niemikoti.fi/tapahtuma/kierrattava-kesa-villa-borgiksessa/2025-07-24/
LOCATION:Toimintakeskus Villa Borgis\, Linnavuorentie 13\, Helsinki\, 00950\, Finland
CATEGORIES:Toimintakeskus Villa Borgis
ATTACH;FMTTYPE=image/jpeg:https://kalenteri.niemikoti.fi/wp-content/uploads/2025/06/kierrattavakesaVB.jpg
END:VEVENT
BEGIN:VEVENT
DTSTART;TZID=Europe/Helsinki:20250723T100000
DTEND;TZID=Europe/Helsinki:20250723T150000
DTSTAMP:20260424T024007
CREATED:20250618T065641Z
LAST-MODIFIED:20250618T065641Z
UID:10023293-1753264800-1753282800@kalenteri.niemikoti.fi
SUMMARY:Kierrättävä kesä Villa Borgiksessa
DESCRIPTION:Avoimen kesätoiminnan ajan 30.6.-1.8.2025 Toimintakeskus Villa Borgiksessa on pieni kierrätyspiste\, jonne voit tuoda tarpeettomaksi jääneitä puhtaita ja ehjiä vaatteita/tavaroita ja ottaa tarvitsemasi. Kierrätyspiste on avoinna aukioloaikojen mukaan ma-ke klo 10-15\, pe 10-13 (torstait ovat retkipäiviä).
URL:https://kalenteri.niemikoti.fi/tapahtuma/kierrattava-kesa-villa-borgiksessa/2025-07-23/
LOCATION:Toimintakeskus Villa Borgis\, Linnavuorentie 13\, Helsinki\, 00950\, Finland
CATEGORIES:Toimintakeskus Villa Borgis
ATTACH;FMTTYPE=image/jpeg:https://kalenteri.niemikoti.fi/wp-content/uploads/2025/06/kierrattavakesaVB.jpg
END:VEVENT
BEGIN:VEVENT
DTSTART;TZID=Europe/Helsinki:20250722T100000
DTEND;TZID=Europe/Helsinki:20250722T150000
DTSTAMP:20260424T024007
CREATED:20250618T065641Z
LAST-MODIFIED:20250618T065641Z
UID:10023292-1753178400-1753196400@kalenteri.niemikoti.fi
SUMMARY:Kierrättävä kesä Villa Borgiksessa
DESCRIPTION:Avoimen kesätoiminnan ajan 30.6.-1.8.2025 Toimintakeskus Villa Borgiksessa on pieni kierrätyspiste\, jonne voit tuoda tarpeettomaksi jääneitä puhtaita ja ehjiä vaatteita/tavaroita ja ottaa tarvitsemasi. Kierrätyspiste on avoinna aukioloaikojen mukaan ma-ke klo 10-15\, pe 10-13 (torstait ovat retkipäiviä).
URL:https://kalenteri.niemikoti.fi/tapahtuma/kierrattava-kesa-villa-borgiksessa/2025-07-22/
LOCATION:Toimintakeskus Villa Borgis\, Linnavuorentie 13\, Helsinki\, 00950\, Finland
CATEGORIES:Toimintakeskus Villa Borgis
ATTACH;FMTTYPE=image/jpeg:https://kalenteri.niemikoti.fi/wp-content/uploads/2025/06/kierrattavakesaVB.jpg
END:VEVENT
BEGIN:VEVENT
DTSTART;TZID=Europe/Helsinki:20250721T100000
DTEND;TZID=Europe/Helsinki:20250721T150000
DTSTAMP:20260424T024007
CREATED:20250618T065641Z
LAST-MODIFIED:20250618T065641Z
UID:10023291-1753092000-1753110000@kalenteri.niemikoti.fi
SUMMARY:Kierrättävä kesä Villa Borgiksessa
DESCRIPTION:Avoimen kesätoiminnan ajan 30.6.-1.8.2025 Toimintakeskus Villa Borgiksessa on pieni kierrätyspiste\, jonne voit tuoda tarpeettomaksi jääneitä puhtaita ja ehjiä vaatteita/tavaroita ja ottaa tarvitsemasi. Kierrätyspiste on avoinna aukioloaikojen mukaan ma-ke klo 10-15\, pe 10-13 (torstait ovat retkipäiviä).
URL:https://kalenteri.niemikoti.fi/tapahtuma/kierrattava-kesa-villa-borgiksessa/2025-07-21/
LOCATION:Toimintakeskus Villa Borgis\, Linnavuorentie 13\, Helsinki\, 00950\, Finland
CATEGORIES:Toimintakeskus Villa Borgis
ATTACH;FMTTYPE=image/jpeg:https://kalenteri.niemikoti.fi/wp-content/uploads/2025/06/kierrattavakesaVB.jpg
END:VEVENT
BEGIN:VEVENT
DTSTART;TZID=Europe/Helsinki:20250720T100000
DTEND;TZID=Europe/Helsinki:20250720T150000
DTSTAMP:20260424T024007
CREATED:20250618T065641Z
LAST-MODIFIED:20250618T065641Z
UID:10023290-1753005600-1753023600@kalenteri.niemikoti.fi
SUMMARY:Kierrättävä kesä Villa Borgiksessa
DESCRIPTION:Avoimen kesätoiminnan ajan 30.6.-1.8.2025 Toimintakeskus Villa Borgiksessa on pieni kierrätyspiste\, jonne voit tuoda tarpeettomaksi jääneitä puhtaita ja ehjiä vaatteita/tavaroita ja ottaa tarvitsemasi. Kierrätyspiste on avoinna aukioloaikojen mukaan ma-ke klo 10-15\, pe 10-13 (torstait ovat retkipäiviä).
URL:https://kalenteri.niemikoti.fi/tapahtuma/kierrattava-kesa-villa-borgiksessa/2025-07-20/
LOCATION:Toimintakeskus Villa Borgis\, Linnavuorentie 13\, Helsinki\, 00950\, Finland
CATEGORIES:Toimintakeskus Villa Borgis
ATTACH;FMTTYPE=image/jpeg:https://kalenteri.niemikoti.fi/wp-content/uploads/2025/06/kierrattavakesaVB.jpg
END:VEVENT
BEGIN:VEVENT
DTSTART;TZID=Europe/Helsinki:20250719T100000
DTEND;TZID=Europe/Helsinki:20250719T150000
DTSTAMP:20260424T024007
CREATED:20250618T065641Z
LAST-MODIFIED:20250618T065641Z
UID:10023289-1752919200-1752937200@kalenteri.niemikoti.fi
SUMMARY:Kierrättävä kesä Villa Borgiksessa
DESCRIPTION:Avoimen kesätoiminnan ajan 30.6.-1.8.2025 Toimintakeskus Villa Borgiksessa on pieni kierrätyspiste\, jonne voit tuoda tarpeettomaksi jääneitä puhtaita ja ehjiä vaatteita/tavaroita ja ottaa tarvitsemasi. Kierrätyspiste on avoinna aukioloaikojen mukaan ma-ke klo 10-15\, pe 10-13 (torstait ovat retkipäiviä).
URL:https://kalenteri.niemikoti.fi/tapahtuma/kierrattava-kesa-villa-borgiksessa/2025-07-19/
LOCATION:Toimintakeskus Villa Borgis\, Linnavuorentie 13\, Helsinki\, 00950\, Finland
CATEGORIES:Toimintakeskus Villa Borgis
ATTACH;FMTTYPE=image/jpeg:https://kalenteri.niemikoti.fi/wp-content/uploads/2025/06/kierrattavakesaVB.jpg
END:VEVENT
BEGIN:VEVENT
DTSTART;TZID=Europe/Helsinki:20250718T100000
DTEND;TZID=Europe/Helsinki:20250718T150000
DTSTAMP:20260424T024007
CREATED:20250618T065641Z
LAST-MODIFIED:20250618T065641Z
UID:10023288-1752832800-1752850800@kalenteri.niemikoti.fi
SUMMARY:Kierrättävä kesä Villa Borgiksessa
DESCRIPTION:Avoimen kesätoiminnan ajan 30.6.-1.8.2025 Toimintakeskus Villa Borgiksessa on pieni kierrätyspiste\, jonne voit tuoda tarpeettomaksi jääneitä puhtaita ja ehjiä vaatteita/tavaroita ja ottaa tarvitsemasi. Kierrätyspiste on avoinna aukioloaikojen mukaan ma-ke klo 10-15\, pe 10-13 (torstait ovat retkipäiviä).
URL:https://kalenteri.niemikoti.fi/tapahtuma/kierrattava-kesa-villa-borgiksessa/2025-07-18/
LOCATION:Toimintakeskus Villa Borgis\, Linnavuorentie 13\, Helsinki\, 00950\, Finland
CATEGORIES:Toimintakeskus Villa Borgis
ATTACH;FMTTYPE=image/jpeg:https://kalenteri.niemikoti.fi/wp-content/uploads/2025/06/kierrattavakesaVB.jpg
END:VEVENT
BEGIN:VEVENT
DTSTART;TZID=Europe/Helsinki:20250717T100000
DTEND;TZID=Europe/Helsinki:20250717T150000
DTSTAMP:20260424T024007
CREATED:20250618T065641Z
LAST-MODIFIED:20250618T065641Z
UID:10023287-1752746400-1752764400@kalenteri.niemikoti.fi
SUMMARY:Kierrättävä kesä Villa Borgiksessa
DESCRIPTION:Avoimen kesätoiminnan ajan 30.6.-1.8.2025 Toimintakeskus Villa Borgiksessa on pieni kierrätyspiste\, jonne voit tuoda tarpeettomaksi jääneitä puhtaita ja ehjiä vaatteita/tavaroita ja ottaa tarvitsemasi. Kierrätyspiste on avoinna aukioloaikojen mukaan ma-ke klo 10-15\, pe 10-13 (torstait ovat retkipäiviä).
URL:https://kalenteri.niemikoti.fi/tapahtuma/kierrattava-kesa-villa-borgiksessa/2025-07-17/
LOCATION:Toimintakeskus Villa Borgis\, Linnavuorentie 13\, Helsinki\, 00950\, Finland
CATEGORIES:Toimintakeskus Villa Borgis
ATTACH;FMTTYPE=image/jpeg:https://kalenteri.niemikoti.fi/wp-content/uploads/2025/06/kierrattavakesaVB.jpg
END:VEVENT
BEGIN:VEVENT
DTSTART;TZID=Europe/Helsinki:20250716T100000
DTEND;TZID=Europe/Helsinki:20250716T150000
DTSTAMP:20260424T024007
CREATED:20250618T065641Z
LAST-MODIFIED:20250618T065641Z
UID:10023286-1752660000-1752678000@kalenteri.niemikoti.fi
SUMMARY:Kierrättävä kesä Villa Borgiksessa
DESCRIPTION:Avoimen kesätoiminnan ajan 30.6.-1.8.2025 Toimintakeskus Villa Borgiksessa on pieni kierrätyspiste\, jonne voit tuoda tarpeettomaksi jääneitä puhtaita ja ehjiä vaatteita/tavaroita ja ottaa tarvitsemasi. Kierrätyspiste on avoinna aukioloaikojen mukaan ma-ke klo 10-15\, pe 10-13 (torstait ovat retkipäiviä).
URL:https://kalenteri.niemikoti.fi/tapahtuma/kierrattava-kesa-villa-borgiksessa/2025-07-16/
LOCATION:Toimintakeskus Villa Borgis\, Linnavuorentie 13\, Helsinki\, 00950\, Finland
CATEGORIES:Toimintakeskus Villa Borgis
ATTACH;FMTTYPE=image/jpeg:https://kalenteri.niemikoti.fi/wp-content/uploads/2025/06/kierrattavakesaVB.jpg
END:VEVENT
BEGIN:VEVENT
DTSTART;TZID=Europe/Helsinki:20250715T100000
DTEND;TZID=Europe/Helsinki:20250715T150000
DTSTAMP:20260424T024007
CREATED:20250618T065641Z
LAST-MODIFIED:20250618T065641Z
UID:10023285-1752573600-1752591600@kalenteri.niemikoti.fi
SUMMARY:Kierrättävä kesä Villa Borgiksessa
DESCRIPTION:Avoimen kesätoiminnan ajan 30.6.-1.8.2025 Toimintakeskus Villa Borgiksessa on pieni kierrätyspiste\, jonne voit tuoda tarpeettomaksi jääneitä puhtaita ja ehjiä vaatteita/tavaroita ja ottaa tarvitsemasi. Kierrätyspiste on avoinna aukioloaikojen mukaan ma-ke klo 10-15\, pe 10-13 (torstait ovat retkipäiviä).
URL:https://kalenteri.niemikoti.fi/tapahtuma/kierrattava-kesa-villa-borgiksessa/2025-07-15/
LOCATION:Toimintakeskus Villa Borgis\, Linnavuorentie 13\, Helsinki\, 00950\, Finland
CATEGORIES:Toimintakeskus Villa Borgis
ATTACH;FMTTYPE=image/jpeg:https://kalenteri.niemikoti.fi/wp-content/uploads/2025/06/kierrattavakesaVB.jpg
END:VEVENT
BEGIN:VEVENT
DTSTART;TZID=Europe/Helsinki:20250714T100000
DTEND;TZID=Europe/Helsinki:20250714T150000
DTSTAMP:20260424T024007
CREATED:20250618T065641Z
LAST-MODIFIED:20250618T065641Z
UID:10023284-1752487200-1752505200@kalenteri.niemikoti.fi
SUMMARY:Kierrättävä kesä Villa Borgiksessa
DESCRIPTION:Avoimen kesätoiminnan ajan 30.6.-1.8.2025 Toimintakeskus Villa Borgiksessa on pieni kierrätyspiste\, jonne voit tuoda tarpeettomaksi jääneitä puhtaita ja ehjiä vaatteita/tavaroita ja ottaa tarvitsemasi. Kierrätyspiste on avoinna aukioloaikojen mukaan ma-ke klo 10-15\, pe 10-13 (torstait ovat retkipäiviä).
URL:https://kalenteri.niemikoti.fi/tapahtuma/kierrattava-kesa-villa-borgiksessa/2025-07-14/
LOCATION:Toimintakeskus Villa Borgis\, Linnavuorentie 13\, Helsinki\, 00950\, Finland
CATEGORIES:Toimintakeskus Villa Borgis
ATTACH;FMTTYPE=image/jpeg:https://kalenteri.niemikoti.fi/wp-content/uploads/2025/06/kierrattavakesaVB.jpg
END:VEVENT
BEGIN:VEVENT
DTSTART;TZID=Europe/Helsinki:20250713T100000
DTEND;TZID=Europe/Helsinki:20250713T150000
DTSTAMP:20260424T024007
CREATED:20250618T065641Z
LAST-MODIFIED:20250618T065641Z
UID:10023283-1752400800-1752418800@kalenteri.niemikoti.fi
SUMMARY:Kierrättävä kesä Villa Borgiksessa
DESCRIPTION:Avoimen kesätoiminnan ajan 30.6.-1.8.2025 Toimintakeskus Villa Borgiksessa on pieni kierrätyspiste\, jonne voit tuoda tarpeettomaksi jääneitä puhtaita ja ehjiä vaatteita/tavaroita ja ottaa tarvitsemasi. Kierrätyspiste on avoinna aukioloaikojen mukaan ma-ke klo 10-15\, pe 10-13 (torstait ovat retkipäiviä).
URL:https://kalenteri.niemikoti.fi/tapahtuma/kierrattava-kesa-villa-borgiksessa/2025-07-13/
LOCATION:Toimintakeskus Villa Borgis\, Linnavuorentie 13\, Helsinki\, 00950\, Finland
CATEGORIES:Toimintakeskus Villa Borgis
ATTACH;FMTTYPE=image/jpeg:https://kalenteri.niemikoti.fi/wp-content/uploads/2025/06/kierrattavakesaVB.jpg
END:VEVENT
BEGIN:VEVENT
DTSTART;TZID=Europe/Helsinki:20250712T100000
DTEND;TZID=Europe/Helsinki:20250712T150000
DTSTAMP:20260424T024007
CREATED:20250618T065641Z
LAST-MODIFIED:20250618T065641Z
UID:10023282-1752314400-1752332400@kalenteri.niemikoti.fi
SUMMARY:Kierrättävä kesä Villa Borgiksessa
DESCRIPTION:Avoimen kesätoiminnan ajan 30.6.-1.8.2025 Toimintakeskus Villa Borgiksessa on pieni kierrätyspiste\, jonne voit tuoda tarpeettomaksi jääneitä puhtaita ja ehjiä vaatteita/tavaroita ja ottaa tarvitsemasi. Kierrätyspiste on avoinna aukioloaikojen mukaan ma-ke klo 10-15\, pe 10-13 (torstait ovat retkipäiviä).
URL:https://kalenteri.niemikoti.fi/tapahtuma/kierrattava-kesa-villa-borgiksessa/2025-07-12/
LOCATION:Toimintakeskus Villa Borgis\, Linnavuorentie 13\, Helsinki\, 00950\, Finland
CATEGORIES:Toimintakeskus Villa Borgis
ATTACH;FMTTYPE=image/jpeg:https://kalenteri.niemikoti.fi/wp-content/uploads/2025/06/kierrattavakesaVB.jpg
END:VEVENT
BEGIN:VEVENT
DTSTART;TZID=Europe/Helsinki:20250711T100000
DTEND;TZID=Europe/Helsinki:20250711T150000
DTSTAMP:20260424T024007
CREATED:20250618T065641Z
LAST-MODIFIED:20250618T065641Z
UID:10023281-1752228000-1752246000@kalenteri.niemikoti.fi
SUMMARY:Kierrättävä kesä Villa Borgiksessa
DESCRIPTION:Avoimen kesätoiminnan ajan 30.6.-1.8.2025 Toimintakeskus Villa Borgiksessa on pieni kierrätyspiste\, jonne voit tuoda tarpeettomaksi jääneitä puhtaita ja ehjiä vaatteita/tavaroita ja ottaa tarvitsemasi. Kierrätyspiste on avoinna aukioloaikojen mukaan ma-ke klo 10-15\, pe 10-13 (torstait ovat retkipäiviä).
URL:https://kalenteri.niemikoti.fi/tapahtuma/kierrattava-kesa-villa-borgiksessa/2025-07-11/
LOCATION:Toimintakeskus Villa Borgis\, Linnavuorentie 13\, Helsinki\, 00950\, Finland
CATEGORIES:Toimintakeskus Villa Borgis
ATTACH;FMTTYPE=image/jpeg:https://kalenteri.niemikoti.fi/wp-content/uploads/2025/06/kierrattavakesaVB.jpg
END:VEVENT
BEGIN:VEVENT
DTSTART;TZID=Europe/Helsinki:20250710T100000
DTEND;TZID=Europe/Helsinki:20250710T150000
DTSTAMP:20260424T024007
CREATED:20250618T065641Z
LAST-MODIFIED:20250618T065641Z
UID:10023280-1752141600-1752159600@kalenteri.niemikoti.fi
SUMMARY:Kierrättävä kesä Villa Borgiksessa
DESCRIPTION:Avoimen kesätoiminnan ajan 30.6.-1.8.2025 Toimintakeskus Villa Borgiksessa on pieni kierrätyspiste\, jonne voit tuoda tarpeettomaksi jääneitä puhtaita ja ehjiä vaatteita/tavaroita ja ottaa tarvitsemasi. Kierrätyspiste on avoinna aukioloaikojen mukaan ma-ke klo 10-15\, pe 10-13 (torstait ovat retkipäiviä).
URL:https://kalenteri.niemikoti.fi/tapahtuma/kierrattava-kesa-villa-borgiksessa/2025-07-10/
LOCATION:Toimintakeskus Villa Borgis\, Linnavuorentie 13\, Helsinki\, 00950\, Finland
CATEGORIES:Toimintakeskus Villa Borgis
ATTACH;FMTTYPE=image/jpeg:https://kalenteri.niemikoti.fi/wp-content/uploads/2025/06/kierrattavakesaVB.jpg
END:VEVENT
BEGIN:VEVENT
DTSTART;TZID=Europe/Helsinki:20250709T100000
DTEND;TZID=Europe/Helsinki:20250709T150000
DTSTAMP:20260424T024007
CREATED:20250618T065641Z
LAST-MODIFIED:20250618T065641Z
UID:10023279-1752055200-1752073200@kalenteri.niemikoti.fi
SUMMARY:Kierrättävä kesä Villa Borgiksessa
DESCRIPTION:Avoimen kesätoiminnan ajan 30.6.-1.8.2025 Toimintakeskus Villa Borgiksessa on pieni kierrätyspiste\, jonne voit tuoda tarpeettomaksi jääneitä puhtaita ja ehjiä vaatteita/tavaroita ja ottaa tarvitsemasi. Kierrätyspiste on avoinna aukioloaikojen mukaan ma-ke klo 10-15\, pe 10-13 (torstait ovat retkipäiviä).
URL:https://kalenteri.niemikoti.fi/tapahtuma/kierrattava-kesa-villa-borgiksessa/2025-07-09/
LOCATION:Toimintakeskus Villa Borgis\, Linnavuorentie 13\, Helsinki\, 00950\, Finland
CATEGORIES:Toimintakeskus Villa Borgis
ATTACH;FMTTYPE=image/jpeg:https://kalenteri.niemikoti.fi/wp-content/uploads/2025/06/kierrattavakesaVB.jpg
END:VEVENT
BEGIN:VEVENT
DTSTART;TZID=Europe/Helsinki:20250708T100000
DTEND;TZID=Europe/Helsinki:20250708T150000
DTSTAMP:20260424T024007
CREATED:20250618T065641Z
LAST-MODIFIED:20250618T065641Z
UID:10023278-1751968800-1751986800@kalenteri.niemikoti.fi
SUMMARY:Kierrättävä kesä Villa Borgiksessa
DESCRIPTION:Avoimen kesätoiminnan ajan 30.6.-1.8.2025 Toimintakeskus Villa Borgiksessa on pieni kierrätyspiste\, jonne voit tuoda tarpeettomaksi jääneitä puhtaita ja ehjiä vaatteita/tavaroita ja ottaa tarvitsemasi. Kierrätyspiste on avoinna aukioloaikojen mukaan ma-ke klo 10-15\, pe 10-13 (torstait ovat retkipäiviä).
URL:https://kalenteri.niemikoti.fi/tapahtuma/kierrattava-kesa-villa-borgiksessa/2025-07-08/
LOCATION:Toimintakeskus Villa Borgis\, Linnavuorentie 13\, Helsinki\, 00950\, Finland
CATEGORIES:Toimintakeskus Villa Borgis
ATTACH;FMTTYPE=image/jpeg:https://kalenteri.niemikoti.fi/wp-content/uploads/2025/06/kierrattavakesaVB.jpg
END:VEVENT
BEGIN:VEVENT
DTSTART;TZID=Europe/Helsinki:20250707T100000
DTEND;TZID=Europe/Helsinki:20250707T150000
DTSTAMP:20260424T024007
CREATED:20250618T065641Z
LAST-MODIFIED:20250618T065641Z
UID:10023277-1751882400-1751900400@kalenteri.niemikoti.fi
SUMMARY:Kierrättävä kesä Villa Borgiksessa
DESCRIPTION:Avoimen kesätoiminnan ajan 30.6.-1.8.2025 Toimintakeskus Villa Borgiksessa on pieni kierrätyspiste\, jonne voit tuoda tarpeettomaksi jääneitä puhtaita ja ehjiä vaatteita/tavaroita ja ottaa tarvitsemasi. Kierrätyspiste on avoinna aukioloaikojen mukaan ma-ke klo 10-15\, pe 10-13 (torstait ovat retkipäiviä).
URL:https://kalenteri.niemikoti.fi/tapahtuma/kierrattava-kesa-villa-borgiksessa/2025-07-07/
LOCATION:Toimintakeskus Villa Borgis\, Linnavuorentie 13\, Helsinki\, 00950\, Finland
CATEGORIES:Toimintakeskus Villa Borgis
ATTACH;FMTTYPE=image/jpeg:https://kalenteri.niemikoti.fi/wp-content/uploads/2025/06/kierrattavakesaVB.jpg
END:VEVENT
BEGIN:VEVENT
DTSTART;TZID=Europe/Helsinki:20250706T100000
DTEND;TZID=Europe/Helsinki:20250706T150000
DTSTAMP:20260424T024007
CREATED:20250618T065641Z
LAST-MODIFIED:20250618T065641Z
UID:10023276-1751796000-1751814000@kalenteri.niemikoti.fi
SUMMARY:Kierrättävä kesä Villa Borgiksessa
DESCRIPTION:Avoimen kesätoiminnan ajan 30.6.-1.8.2025 Toimintakeskus Villa Borgiksessa on pieni kierrätyspiste\, jonne voit tuoda tarpeettomaksi jääneitä puhtaita ja ehjiä vaatteita/tavaroita ja ottaa tarvitsemasi. Kierrätyspiste on avoinna aukioloaikojen mukaan ma-ke klo 10-15\, pe 10-13 (torstait ovat retkipäiviä).
URL:https://kalenteri.niemikoti.fi/tapahtuma/kierrattava-kesa-villa-borgiksessa/2025-07-06/
LOCATION:Toimintakeskus Villa Borgis\, Linnavuorentie 13\, Helsinki\, 00950\, Finland
CATEGORIES:Toimintakeskus Villa Borgis
ATTACH;FMTTYPE=image/jpeg:https://kalenteri.niemikoti.fi/wp-content/uploads/2025/06/kierrattavakesaVB.jpg
END:VEVENT
BEGIN:VEVENT
DTSTART;TZID=Europe/Helsinki:20250705T100000
DTEND;TZID=Europe/Helsinki:20250705T150000
DTSTAMP:20260424T024007
CREATED:20250618T065641Z
LAST-MODIFIED:20250618T065641Z
UID:10023275-1751709600-1751727600@kalenteri.niemikoti.fi
SUMMARY:Kierrättävä kesä Villa Borgiksessa
DESCRIPTION:Avoimen kesätoiminnan ajan 30.6.-1.8.2025 Toimintakeskus Villa Borgiksessa on pieni kierrätyspiste\, jonne voit tuoda tarpeettomaksi jääneitä puhtaita ja ehjiä vaatteita/tavaroita ja ottaa tarvitsemasi. Kierrätyspiste on avoinna aukioloaikojen mukaan ma-ke klo 10-15\, pe 10-13 (torstait ovat retkipäiviä).
URL:https://kalenteri.niemikoti.fi/tapahtuma/kierrattava-kesa-villa-borgiksessa/2025-07-05/
LOCATION:Toimintakeskus Villa Borgis\, Linnavuorentie 13\, Helsinki\, 00950\, Finland
CATEGORIES:Toimintakeskus Villa Borgis
ATTACH;FMTTYPE=image/jpeg:https://kalenteri.niemikoti.fi/wp-content/uploads/2025/06/kierrattavakesaVB.jpg
END:VEVENT
BEGIN:VEVENT
DTSTART;TZID=Europe/Helsinki:20250704T100000
DTEND;TZID=Europe/Helsinki:20250704T150000
DTSTAMP:20260424T024007
CREATED:20250618T065641Z
LAST-MODIFIED:20250618T065641Z
UID:10023274-1751623200-1751641200@kalenteri.niemikoti.fi
SUMMARY:Kierrättävä kesä Villa Borgiksessa
DESCRIPTION:Avoimen kesätoiminnan ajan 30.6.-1.8.2025 Toimintakeskus Villa Borgiksessa on pieni kierrätyspiste\, jonne voit tuoda tarpeettomaksi jääneitä puhtaita ja ehjiä vaatteita/tavaroita ja ottaa tarvitsemasi. Kierrätyspiste on avoinna aukioloaikojen mukaan ma-ke klo 10-15\, pe 10-13 (torstait ovat retkipäiviä).
URL:https://kalenteri.niemikoti.fi/tapahtuma/kierrattava-kesa-villa-borgiksessa/2025-07-04/
LOCATION:Toimintakeskus Villa Borgis\, Linnavuorentie 13\, Helsinki\, 00950\, Finland
CATEGORIES:Toimintakeskus Villa Borgis
ATTACH;FMTTYPE=image/jpeg:https://kalenteri.niemikoti.fi/wp-content/uploads/2025/06/kierrattavakesaVB.jpg
END:VEVENT
END:VCALENDAR