BEGIN:VCALENDAR
VERSION:2.0
PRODID:-//Tapahtumakalenteri - ECPv6.15.18//NONSGML v1.0//EN
CALSCALE:GREGORIAN
METHOD:PUBLISH
X-WR-CALNAME:Tapahtumakalenteri
X-ORIGINAL-URL:https://kalenteri.niemikoti.fi
X-WR-CALDESC:Tapahtumat Tapahtumakalenteri
REFRESH-INTERVAL;VALUE=DURATION:PT1H
X-Robots-Tag:noindex
X-PUBLISHED-TTL:PT1H
BEGIN:VTIMEZONE
TZID:Europe/Helsinki
BEGIN:DAYLIGHT
TZOFFSETFROM:+0200
TZOFFSETTO:+0300
TZNAME:EEST
DTSTART:20250330T010000
END:DAYLIGHT
BEGIN:STANDARD
TZOFFSETFROM:+0300
TZOFFSETTO:+0200
TZNAME:EET
DTSTART:20251026T010000
END:STANDARD
BEGIN:DAYLIGHT
TZOFFSETFROM:+0200
TZOFFSETTO:+0300
TZNAME:EEST
DTSTART:20260329T010000
END:DAYLIGHT
BEGIN:STANDARD
TZOFFSETFROM:+0300
TZOFFSETTO:+0200
TZNAME:EET
DTSTART:20261025T010000
END:STANDARD
BEGIN:DAYLIGHT
TZOFFSETFROM:+0200
TZOFFSETTO:+0300
TZNAME:EEST
DTSTART:20270328T010000
END:DAYLIGHT
BEGIN:STANDARD
TZOFFSETFROM:+0300
TZOFFSETTO:+0200
TZNAME:EET
DTSTART:20271031T010000
END:STANDARD
END:VTIMEZONE
BEGIN:VEVENT
DTSTART;TZID=Europe/Helsinki:20260107T103000
DTEND;TZID=Europe/Helsinki:20260107T120000
DTSTAMP:20260424T003720
CREATED:20251217T132911Z
LAST-MODIFIED:20251217T132911Z
UID:10025986-1767781800-1767787200@kalenteri.niemikoti.fi
SUMMARY:Sulkakynät -luovan kirjoittamisen ryhmä
DESCRIPTION:Tehdään erilaisia ajastettuja kirjoitusharjoituksia\, inspiraationlähteenä kuvia\, musiikkia\, liikettä yms. Ei vaadi aiempaa harrastuneisuutta\, kiinnostus kirjoittamiseen riittää.
URL:https://kalenteri.niemikoti.fi/tapahtuma/sulkakynat-luovan-kirjoittamisen-ryhma-2/2026-01-07/
LOCATION:Toimintakeskus Villa Borgis\, Linnavuorentie 13\, Helsinki\, 00950\, Finland
CATEGORIES:Toimintakeskus Villa Borgis
END:VEVENT
BEGIN:VEVENT
DTSTART;TZID=Europe/Helsinki:20260114T103000
DTEND;TZID=Europe/Helsinki:20260114T120000
DTSTAMP:20260424T003720
CREATED:20251217T132911Z
LAST-MODIFIED:20251217T132911Z
UID:10025987-1768386600-1768392000@kalenteri.niemikoti.fi
SUMMARY:Sulkakynät -luovan kirjoittamisen ryhmä
DESCRIPTION:Tehdään erilaisia ajastettuja kirjoitusharjoituksia\, inspiraationlähteenä kuvia\, musiikkia\, liikettä yms. Ei vaadi aiempaa harrastuneisuutta\, kiinnostus kirjoittamiseen riittää.
URL:https://kalenteri.niemikoti.fi/tapahtuma/sulkakynat-luovan-kirjoittamisen-ryhma-2/2026-01-14/
LOCATION:Toimintakeskus Villa Borgis\, Linnavuorentie 13\, Helsinki\, 00950\, Finland
CATEGORIES:Toimintakeskus Villa Borgis
END:VEVENT
BEGIN:VEVENT
DTSTART;TZID=Europe/Helsinki:20260121T103000
DTEND;TZID=Europe/Helsinki:20260121T120000
DTSTAMP:20260424T003720
CREATED:20251217T132911Z
LAST-MODIFIED:20251217T132911Z
UID:10025988-1768991400-1768996800@kalenteri.niemikoti.fi
SUMMARY:Sulkakynät -luovan kirjoittamisen ryhmä
DESCRIPTION:Tehdään erilaisia ajastettuja kirjoitusharjoituksia\, inspiraationlähteenä kuvia\, musiikkia\, liikettä yms. Ei vaadi aiempaa harrastuneisuutta\, kiinnostus kirjoittamiseen riittää.
URL:https://kalenteri.niemikoti.fi/tapahtuma/sulkakynat-luovan-kirjoittamisen-ryhma-2/2026-01-21/
LOCATION:Toimintakeskus Villa Borgis\, Linnavuorentie 13\, Helsinki\, 00950\, Finland
CATEGORIES:Toimintakeskus Villa Borgis
END:VEVENT
BEGIN:VEVENT
DTSTART;TZID=Europe/Helsinki:20260128T103000
DTEND;TZID=Europe/Helsinki:20260128T120000
DTSTAMP:20260424T003720
CREATED:20251217T132911Z
LAST-MODIFIED:20251217T132911Z
UID:10025989-1769596200-1769601600@kalenteri.niemikoti.fi
SUMMARY:Sulkakynät -luovan kirjoittamisen ryhmä
DESCRIPTION:Tehdään erilaisia ajastettuja kirjoitusharjoituksia\, inspiraationlähteenä kuvia\, musiikkia\, liikettä yms. Ei vaadi aiempaa harrastuneisuutta\, kiinnostus kirjoittamiseen riittää.
URL:https://kalenteri.niemikoti.fi/tapahtuma/sulkakynat-luovan-kirjoittamisen-ryhma-2/2026-01-28/
LOCATION:Toimintakeskus Villa Borgis\, Linnavuorentie 13\, Helsinki\, 00950\, Finland
CATEGORIES:Toimintakeskus Villa Borgis
END:VEVENT
END:VCALENDAR