BEGIN:VCALENDAR
VERSION:2.0
PRODID:-//Tapahtumakalenteri - ECPv6.15.18//NONSGML v1.0//EN
CALSCALE:GREGORIAN
METHOD:PUBLISH
X-WR-CALNAME:Tapahtumakalenteri
X-ORIGINAL-URL:https://kalenteri.niemikoti.fi
X-WR-CALDESC:Tapahtumat Tapahtumakalenteri
REFRESH-INTERVAL;VALUE=DURATION:PT1H
X-Robots-Tag:noindex
X-PUBLISHED-TTL:PT1H
BEGIN:VTIMEZONE
TZID:Europe/Helsinki
BEGIN:DAYLIGHT
TZOFFSETFROM:+0200
TZOFFSETTO:+0300
TZNAME:EEST
DTSTART:20250330T010000
END:DAYLIGHT
BEGIN:STANDARD
TZOFFSETFROM:+0300
TZOFFSETTO:+0200
TZNAME:EET
DTSTART:20251026T010000
END:STANDARD
BEGIN:DAYLIGHT
TZOFFSETFROM:+0200
TZOFFSETTO:+0300
TZNAME:EEST
DTSTART:20260329T010000
END:DAYLIGHT
BEGIN:STANDARD
TZOFFSETFROM:+0300
TZOFFSETTO:+0200
TZNAME:EET
DTSTART:20261025T010000
END:STANDARD
BEGIN:DAYLIGHT
TZOFFSETFROM:+0200
TZOFFSETTO:+0300
TZNAME:EEST
DTSTART:20270328T010000
END:DAYLIGHT
BEGIN:STANDARD
TZOFFSETFROM:+0300
TZOFFSETTO:+0200
TZNAME:EET
DTSTART:20271031T010000
END:STANDARD
END:VTIMEZONE
BEGIN:VEVENT
DTSTART;TZID=Europe/Helsinki:20260202T110000
DTEND;TZID=Europe/Helsinki:20260202T120000
DTSTAMP:20260424T003731
CREATED:20260126T112617Z
LAST-MODIFIED:20260304T132032Z
UID:10031810-1770030000-1770033600@kalenteri.niemikoti.fi
SUMMARY:Sanapaja
DESCRIPTION:Ryhmässä tehdään luovia kirjoitusharjoituksia kuten lyhyitä tarinoita ja runoja. \nTäydentyvä ryhmä\, ilmoittaudu mukaan!
URL:https://kalenteri.niemikoti.fi/tapahtuma/sanapaja-malmilla-3/2026-02-02/
LOCATION:Malmin päivätoimintakeskus\, Vanha Helsingintie 9\, Helsinki\, 00700\, Finland
CATEGORIES:Malmin päivätoimintakeskus
ATTACH;FMTTYPE=image/jpeg:https://kalenteri.niemikoti.fi/wp-content/uploads/2026/01/Sanapaja.jpg
END:VEVENT
BEGIN:VEVENT
DTSTART;TZID=Europe/Helsinki:20260204T110000
DTEND;TZID=Europe/Helsinki:20260204T120000
DTSTAMP:20260424T003731
CREATED:20260127T093046Z
LAST-MODIFIED:20260127T101015Z
UID:10033524-1770202800-1770206400@kalenteri.niemikoti.fi
SUMMARY:Kirjojen ystävät
DESCRIPTION:Tule jakamaan lukukokemuksiasi. Luemme otteita eri kirjoista\, keskustelemme ja kirjoitamme myös omia tekstejä.
URL:https://kalenteri.niemikoti.fi/tapahtuma/kirjojen-ystavat/2026-02-04/
LOCATION:Toimintakeskus Villa Borgis\, Linnavuorentie 13\, Helsinki\, 00950\, Finland
CATEGORIES:Toimintakeskus Villa Borgis
END:VEVENT
BEGIN:VEVENT
DTSTART;TZID=Europe/Helsinki:20260209T110000
DTEND;TZID=Europe/Helsinki:20260209T120000
DTSTAMP:20260424T003731
CREATED:20260126T112617Z
LAST-MODIFIED:20260304T132032Z
UID:10031811-1770634800-1770638400@kalenteri.niemikoti.fi
SUMMARY:Sanapaja
DESCRIPTION:Ryhmässä tehdään luovia kirjoitusharjoituksia kuten lyhyitä tarinoita ja runoja. \nTäydentyvä ryhmä\, ilmoittaudu mukaan!
URL:https://kalenteri.niemikoti.fi/tapahtuma/sanapaja-malmilla-3/2026-02-09/
LOCATION:Malmin päivätoimintakeskus\, Vanha Helsingintie 9\, Helsinki\, 00700\, Finland
CATEGORIES:Malmin päivätoimintakeskus
ATTACH;FMTTYPE=image/jpeg:https://kalenteri.niemikoti.fi/wp-content/uploads/2026/01/Sanapaja.jpg
END:VEVENT
BEGIN:VEVENT
DTSTART;TZID=Europe/Helsinki:20260211T110000
DTEND;TZID=Europe/Helsinki:20260211T120000
DTSTAMP:20260424T003731
CREATED:20260127T093046Z
LAST-MODIFIED:20260127T101015Z
UID:10033525-1770807600-1770811200@kalenteri.niemikoti.fi
SUMMARY:Kirjojen ystävät
DESCRIPTION:Tule jakamaan lukukokemuksiasi. Luemme otteita eri kirjoista\, keskustelemme ja kirjoitamme myös omia tekstejä.
URL:https://kalenteri.niemikoti.fi/tapahtuma/kirjojen-ystavat/2026-02-11/
LOCATION:Toimintakeskus Villa Borgis\, Linnavuorentie 13\, Helsinki\, 00950\, Finland
CATEGORIES:Toimintakeskus Villa Borgis
END:VEVENT
BEGIN:VEVENT
DTSTART;TZID=Europe/Helsinki:20260216T110000
DTEND;TZID=Europe/Helsinki:20260216T120000
DTSTAMP:20260424T003731
CREATED:20260126T112617Z
LAST-MODIFIED:20260304T132032Z
UID:10031812-1771239600-1771243200@kalenteri.niemikoti.fi
SUMMARY:Sanapaja
DESCRIPTION:Ryhmässä tehdään luovia kirjoitusharjoituksia kuten lyhyitä tarinoita ja runoja. \nTäydentyvä ryhmä\, ilmoittaudu mukaan!
URL:https://kalenteri.niemikoti.fi/tapahtuma/sanapaja-malmilla-3/2026-02-16/
LOCATION:Malmin päivätoimintakeskus\, Vanha Helsingintie 9\, Helsinki\, 00700\, Finland
CATEGORIES:Malmin päivätoimintakeskus
ATTACH;FMTTYPE=image/jpeg:https://kalenteri.niemikoti.fi/wp-content/uploads/2026/01/Sanapaja.jpg
END:VEVENT
BEGIN:VEVENT
DTSTART;TZID=Europe/Helsinki:20260218T110000
DTEND;TZID=Europe/Helsinki:20260218T120000
DTSTAMP:20260424T003731
CREATED:20260127T093046Z
LAST-MODIFIED:20260127T101015Z
UID:10033526-1771412400-1771416000@kalenteri.niemikoti.fi
SUMMARY:Kirjojen ystävät
DESCRIPTION:Tule jakamaan lukukokemuksiasi. Luemme otteita eri kirjoista\, keskustelemme ja kirjoitamme myös omia tekstejä.
URL:https://kalenteri.niemikoti.fi/tapahtuma/kirjojen-ystavat/2026-02-18/
LOCATION:Toimintakeskus Villa Borgis\, Linnavuorentie 13\, Helsinki\, 00950\, Finland
CATEGORIES:Toimintakeskus Villa Borgis
END:VEVENT
BEGIN:VEVENT
DTSTART;TZID=Europe/Helsinki:20260223T110000
DTEND;TZID=Europe/Helsinki:20260223T120000
DTSTAMP:20260424T003731
CREATED:20260126T112617Z
LAST-MODIFIED:20260304T132032Z
UID:10031813-1771844400-1771848000@kalenteri.niemikoti.fi
SUMMARY:Sanapaja
DESCRIPTION:Ryhmässä tehdään luovia kirjoitusharjoituksia kuten lyhyitä tarinoita ja runoja. \nTäydentyvä ryhmä\, ilmoittaudu mukaan!
URL:https://kalenteri.niemikoti.fi/tapahtuma/sanapaja-malmilla-3/2026-02-23/
LOCATION:Malmin päivätoimintakeskus\, Vanha Helsingintie 9\, Helsinki\, 00700\, Finland
CATEGORIES:Malmin päivätoimintakeskus
ATTACH;FMTTYPE=image/jpeg:https://kalenteri.niemikoti.fi/wp-content/uploads/2026/01/Sanapaja.jpg
END:VEVENT
BEGIN:VEVENT
DTSTART;TZID=Europe/Helsinki:20260225T110000
DTEND;TZID=Europe/Helsinki:20260225T120000
DTSTAMP:20260424T003731
CREATED:20260127T093046Z
LAST-MODIFIED:20260127T101015Z
UID:10033527-1772017200-1772020800@kalenteri.niemikoti.fi
SUMMARY:Kirjojen ystävät
DESCRIPTION:Tule jakamaan lukukokemuksiasi. Luemme otteita eri kirjoista\, keskustelemme ja kirjoitamme myös omia tekstejä.
URL:https://kalenteri.niemikoti.fi/tapahtuma/kirjojen-ystavat/2026-02-25/
LOCATION:Toimintakeskus Villa Borgis\, Linnavuorentie 13\, Helsinki\, 00950\, Finland
CATEGORIES:Toimintakeskus Villa Borgis
END:VEVENT
END:VCALENDAR