BEGIN:VCALENDAR
VERSION:2.0
PRODID:-//Tapahtumakalenteri - ECPv6.15.18//NONSGML v1.0//EN
CALSCALE:GREGORIAN
METHOD:PUBLISH
X-ORIGINAL-URL:https://kalenteri.niemikoti.fi
X-WR-CALDESC:Tapahtumat Tapahtumakalenteri
REFRESH-INTERVAL;VALUE=DURATION:PT1H
X-Robots-Tag:noindex
X-PUBLISHED-TTL:PT1H
BEGIN:VTIMEZONE
TZID:Europe/Helsinki
BEGIN:DAYLIGHT
TZOFFSETFROM:+0200
TZOFFSETTO:+0300
TZNAME:EEST
DTSTART:20220327T010000
END:DAYLIGHT
BEGIN:STANDARD
TZOFFSETFROM:+0300
TZOFFSETTO:+0200
TZNAME:EET
DTSTART:20221030T010000
END:STANDARD
BEGIN:DAYLIGHT
TZOFFSETFROM:+0200
TZOFFSETTO:+0300
TZNAME:EEST
DTSTART:20230326T010000
END:DAYLIGHT
BEGIN:STANDARD
TZOFFSETFROM:+0300
TZOFFSETTO:+0200
TZNAME:EET
DTSTART:20231029T010000
END:STANDARD
BEGIN:DAYLIGHT
TZOFFSETFROM:+0200
TZOFFSETTO:+0300
TZNAME:EEST
DTSTART:20240331T010000
END:DAYLIGHT
BEGIN:STANDARD
TZOFFSETFROM:+0300
TZOFFSETTO:+0200
TZNAME:EET
DTSTART:20241027T010000
END:STANDARD
BEGIN:DAYLIGHT
TZOFFSETFROM:+0200
TZOFFSETTO:+0300
TZNAME:EEST
DTSTART:20250330T010000
END:DAYLIGHT
BEGIN:STANDARD
TZOFFSETFROM:+0300
TZOFFSETTO:+0200
TZNAME:EET
DTSTART:20251026T010000
END:STANDARD
END:VTIMEZONE
BEGIN:VEVENT
DTSTART;TZID=Europe/Helsinki:20230531T103000
DTEND;TZID=Europe/Helsinki:20230531T113000
DTSTAMP:20260426T012426
CREATED:20230531T134609Z
LAST-MODIFIED:20230629T091353Z
UID:10001177-1685529000-1685532600@kalenteri.niemikoti.fi
SUMMARY:Sulkakynät -kirjoittajaryhmä
DESCRIPTION:Luovaa kirjoittamista eri tekniikoin\, ilmoittaudu.
URL:https://kalenteri.niemikoti.fi/tapahtuma/sulkakynat-kirjoittajaryhma/2023-05-31/
LOCATION:Toimintakeskus Villa Borgis\, Linnavuorentie 13\, Helsinki\, 00950\, Finland
CATEGORIES:Toimintakeskus Villa Borgis
END:VEVENT
BEGIN:VEVENT
DTSTART;TZID=Europe/Helsinki:20230607T103000
DTEND;TZID=Europe/Helsinki:20230607T113000
DTSTAMP:20260426T012426
CREATED:20230531T134609Z
LAST-MODIFIED:20230629T091353Z
UID:10001178-1686133800-1686137400@kalenteri.niemikoti.fi
SUMMARY:Sulkakynät -kirjoittajaryhmä
DESCRIPTION:Luovaa kirjoittamista eri tekniikoin\, ilmoittaudu.
URL:https://kalenteri.niemikoti.fi/tapahtuma/sulkakynat-kirjoittajaryhma/2023-06-07/
LOCATION:Toimintakeskus Villa Borgis\, Linnavuorentie 13\, Helsinki\, 00950\, Finland
CATEGORIES:Toimintakeskus Villa Borgis
END:VEVENT
BEGIN:VEVENT
DTSTART;TZID=Europe/Helsinki:20230614T103000
DTEND;TZID=Europe/Helsinki:20230614T113000
DTSTAMP:20260426T012426
CREATED:20230531T134609Z
LAST-MODIFIED:20230629T091353Z
UID:10001179-1686738600-1686742200@kalenteri.niemikoti.fi
SUMMARY:Sulkakynät -kirjoittajaryhmä
DESCRIPTION:Luovaa kirjoittamista eri tekniikoin\, ilmoittaudu.
URL:https://kalenteri.niemikoti.fi/tapahtuma/sulkakynat-kirjoittajaryhma/2023-06-14/
LOCATION:Toimintakeskus Villa Borgis\, Linnavuorentie 13\, Helsinki\, 00950\, Finland
CATEGORIES:Toimintakeskus Villa Borgis
END:VEVENT
BEGIN:VEVENT
DTSTART;TZID=Europe/Helsinki:20230621T103000
DTEND;TZID=Europe/Helsinki:20230621T113000
DTSTAMP:20260426T012426
CREATED:20230531T134609Z
LAST-MODIFIED:20230629T091353Z
UID:10001180-1687343400-1687347000@kalenteri.niemikoti.fi
SUMMARY:Sulkakynät -kirjoittajaryhmä
DESCRIPTION:Luovaa kirjoittamista eri tekniikoin\, ilmoittaudu.
URL:https://kalenteri.niemikoti.fi/tapahtuma/sulkakynat-kirjoittajaryhma/2023-06-21/
LOCATION:Toimintakeskus Villa Borgis\, Linnavuorentie 13\, Helsinki\, 00950\, Finland
CATEGORIES:Toimintakeskus Villa Borgis
END:VEVENT
BEGIN:VEVENT
DTSTART;TZID=Europe/Helsinki:20230802T103000
DTEND;TZID=Europe/Helsinki:20230802T113000
DTSTAMP:20260426T012426
CREATED:20230531T134609Z
LAST-MODIFIED:20230629T091353Z
UID:10001454-1690972200-1690975800@kalenteri.niemikoti.fi
SUMMARY:Sulkakynät -kirjoittajaryhmä
DESCRIPTION:Luovaa kirjoittamista eri tekniikoin\, ilmoittaudu.
URL:https://kalenteri.niemikoti.fi/tapahtuma/sulkakynat-kirjoittajaryhma/2023-08-02/
LOCATION:Toimintakeskus Villa Borgis\, Linnavuorentie 13\, Helsinki\, 00950\, Finland
CATEGORIES:Toimintakeskus Villa Borgis
END:VEVENT
BEGIN:VEVENT
DTSTART;TZID=Europe/Helsinki:20230809T103000
DTEND;TZID=Europe/Helsinki:20230809T113000
DTSTAMP:20260426T012426
CREATED:20230531T134609Z
LAST-MODIFIED:20230629T091353Z
UID:10001455-1691577000-1691580600@kalenteri.niemikoti.fi
SUMMARY:Sulkakynät -kirjoittajaryhmä
DESCRIPTION:Luovaa kirjoittamista eri tekniikoin\, ilmoittaudu.
URL:https://kalenteri.niemikoti.fi/tapahtuma/sulkakynat-kirjoittajaryhma/2023-08-09/
LOCATION:Toimintakeskus Villa Borgis\, Linnavuorentie 13\, Helsinki\, 00950\, Finland
CATEGORIES:Toimintakeskus Villa Borgis
END:VEVENT
BEGIN:VEVENT
DTSTART;TZID=Europe/Helsinki:20230816T103000
DTEND;TZID=Europe/Helsinki:20230816T113000
DTSTAMP:20260426T012426
CREATED:20230531T134609Z
LAST-MODIFIED:20230629T091353Z
UID:10001456-1692181800-1692185400@kalenteri.niemikoti.fi
SUMMARY:Sulkakynät -kirjoittajaryhmä
DESCRIPTION:Luovaa kirjoittamista eri tekniikoin\, ilmoittaudu.
URL:https://kalenteri.niemikoti.fi/tapahtuma/sulkakynat-kirjoittajaryhma/2023-08-16/
LOCATION:Toimintakeskus Villa Borgis\, Linnavuorentie 13\, Helsinki\, 00950\, Finland
CATEGORIES:Toimintakeskus Villa Borgis
END:VEVENT
BEGIN:VEVENT
DTSTART;TZID=Europe/Helsinki:20230823T100000
DTEND;TZID=Europe/Helsinki:20230823T120000
DTSTAMP:20260426T012426
CREATED:20230629T093151Z
LAST-MODIFIED:20230802T121719Z
UID:10001473-1692784800-1692792000@kalenteri.niemikoti.fi
SUMMARY:Avoin kirjoituspaja
DESCRIPTION:Niemikotisäätiön 40-vuotisjuhlan kunniaksi Villa Borgiksessa on kaikille toiminnastamme kiinnostuneille avointa toimintaa ti 22.8. ja 29.8.\, ke 23.8. ja 30.8. sekä pe 25.8. ja 1.9. Tervetuloa osallistumaan ohjelmaan sekä tutustumaan taloon ja toimintaan! Kahvitarjoilu. \nIlmoittaudu villaborgis@niemikoti.fi\, 0400-560176 / Ulla tai 050-4143138 / Virve.
URL:https://kalenteri.niemikoti.fi/tapahtuma/avoin-kirjoituspaja/2023-08-23/
LOCATION:Toimintakeskus Villa Borgis\, Linnavuorentie 13\, Helsinki\, 00950\, Finland
CATEGORIES:Toimintakeskus Villa Borgis
ATTACH;FMTTYPE=image/jpeg:https://kalenteri.niemikoti.fi/wp-content/uploads/2023/06/AVOIMET-OVET2387-2.jpg
END:VEVENT
BEGIN:VEVENT
DTSTART;TZID=Europe/Helsinki:20230830T100000
DTEND;TZID=Europe/Helsinki:20230830T120000
DTSTAMP:20260426T012426
CREATED:20230629T093151Z
LAST-MODIFIED:20230802T121719Z
UID:10001474-1693389600-1693396800@kalenteri.niemikoti.fi
SUMMARY:Avoin kirjoituspaja
DESCRIPTION:Niemikotisäätiön 40-vuotisjuhlan kunniaksi Villa Borgiksessa on kaikille toiminnastamme kiinnostuneille avointa toimintaa ti 22.8. ja 29.8.\, ke 23.8. ja 30.8. sekä pe 25.8. ja 1.9. Tervetuloa osallistumaan ohjelmaan sekä tutustumaan taloon ja toimintaan! Kahvitarjoilu. \nIlmoittaudu villaborgis@niemikoti.fi\, 0400-560176 / Ulla tai 050-4143138 / Virve.
URL:https://kalenteri.niemikoti.fi/tapahtuma/avoin-kirjoituspaja/2023-08-30/
LOCATION:Toimintakeskus Villa Borgis\, Linnavuorentie 13\, Helsinki\, 00950\, Finland
CATEGORIES:Toimintakeskus Villa Borgis
ATTACH;FMTTYPE=image/jpeg:https://kalenteri.niemikoti.fi/wp-content/uploads/2023/06/AVOIMET-OVET2387-2.jpg
END:VEVENT
BEGIN:VEVENT
DTSTART;TZID=Europe/Helsinki:20230905T130000
DTEND;TZID=Europe/Helsinki:20230905T143000
DTSTAMP:20260426T012426
CREATED:20230822T114949Z
LAST-MODIFIED:20230822T123131Z
UID:10002510-1693918800-1693924200@kalenteri.niemikoti.fi
SUMMARY:TTAP
DESCRIPTION:Ryhmäkokonaisuus\, jossa hyvdynnetään erilaisia taiteen ja toiminnan keinoja yhdessä valittuun teemaan liittyen.
URL:https://kalenteri.niemikoti.fi/tapahtuma/ttap-2/2023-09-05/
LOCATION:Toimintakeskus Villa Borgis\, Linnavuorentie 13\, Helsinki\, 00950\, Finland
CATEGORIES:Toimintakeskus Villa Borgis
END:VEVENT
BEGIN:VEVENT
DTSTART;TZID=Europe/Helsinki:20230919T130000
DTEND;TZID=Europe/Helsinki:20230919T143000
DTSTAMP:20260426T012426
CREATED:20230822T114949Z
LAST-MODIFIED:20230822T123131Z
UID:10002512-1695128400-1695133800@kalenteri.niemikoti.fi
SUMMARY:TTAP
DESCRIPTION:Ryhmäkokonaisuus\, jossa hyvdynnetään erilaisia taiteen ja toiminnan keinoja yhdessä valittuun teemaan liittyen.
URL:https://kalenteri.niemikoti.fi/tapahtuma/ttap-2/2023-09-19/
LOCATION:Toimintakeskus Villa Borgis\, Linnavuorentie 13\, Helsinki\, 00950\, Finland
CATEGORIES:Toimintakeskus Villa Borgis
END:VEVENT
BEGIN:VEVENT
DTSTART;TZID=Europe/Helsinki:20231003T130000
DTEND;TZID=Europe/Helsinki:20231003T143000
DTSTAMP:20260426T012426
CREATED:20230822T114949Z
LAST-MODIFIED:20230822T123131Z
UID:10002513-1696338000-1696343400@kalenteri.niemikoti.fi
SUMMARY:TTAP
DESCRIPTION:Ryhmäkokonaisuus\, jossa hyvdynnetään erilaisia taiteen ja toiminnan keinoja yhdessä valittuun teemaan liittyen.
URL:https://kalenteri.niemikoti.fi/tapahtuma/ttap-2/2023-10-03/
LOCATION:Toimintakeskus Villa Borgis\, Linnavuorentie 13\, Helsinki\, 00950\, Finland
CATEGORIES:Toimintakeskus Villa Borgis
END:VEVENT
BEGIN:VEVENT
DTSTART;TZID=Europe/Helsinki:20231010T130000
DTEND;TZID=Europe/Helsinki:20231010T143000
DTSTAMP:20260426T012426
CREATED:20230822T114949Z
LAST-MODIFIED:20230822T123131Z
UID:10002514-1696942800-1696948200@kalenteri.niemikoti.fi
SUMMARY:TTAP
DESCRIPTION:Ryhmäkokonaisuus\, jossa hyvdynnetään erilaisia taiteen ja toiminnan keinoja yhdessä valittuun teemaan liittyen.
URL:https://kalenteri.niemikoti.fi/tapahtuma/ttap-2/2023-10-10/
LOCATION:Toimintakeskus Villa Borgis\, Linnavuorentie 13\, Helsinki\, 00950\, Finland
CATEGORIES:Toimintakeskus Villa Borgis
END:VEVENT
BEGIN:VEVENT
DTSTART;TZID=Europe/Helsinki:20231017T130000
DTEND;TZID=Europe/Helsinki:20231017T143000
DTSTAMP:20260426T012426
CREATED:20230822T114949Z
LAST-MODIFIED:20230822T123131Z
UID:10002515-1697547600-1697553000@kalenteri.niemikoti.fi
SUMMARY:TTAP
DESCRIPTION:Ryhmäkokonaisuus\, jossa hyvdynnetään erilaisia taiteen ja toiminnan keinoja yhdessä valittuun teemaan liittyen.
URL:https://kalenteri.niemikoti.fi/tapahtuma/ttap-2/2023-10-17/
LOCATION:Toimintakeskus Villa Borgis\, Linnavuorentie 13\, Helsinki\, 00950\, Finland
CATEGORIES:Toimintakeskus Villa Borgis
END:VEVENT
BEGIN:VEVENT
DTSTART;TZID=Europe/Helsinki:20231024T130000
DTEND;TZID=Europe/Helsinki:20231024T143000
DTSTAMP:20260426T012426
CREATED:20230822T114949Z
LAST-MODIFIED:20230822T123131Z
UID:10002516-1698152400-1698157800@kalenteri.niemikoti.fi
SUMMARY:TTAP
DESCRIPTION:Ryhmäkokonaisuus\, jossa hyvdynnetään erilaisia taiteen ja toiminnan keinoja yhdessä valittuun teemaan liittyen.
URL:https://kalenteri.niemikoti.fi/tapahtuma/ttap-2/2023-10-24/
LOCATION:Toimintakeskus Villa Borgis\, Linnavuorentie 13\, Helsinki\, 00950\, Finland
CATEGORIES:Toimintakeskus Villa Borgis
END:VEVENT
BEGIN:VEVENT
DTSTART;TZID=Europe/Helsinki:20231031T130000
DTEND;TZID=Europe/Helsinki:20231031T143000
DTSTAMP:20260426T012426
CREATED:20230822T114949Z
LAST-MODIFIED:20230822T123131Z
UID:10002517-1698757200-1698762600@kalenteri.niemikoti.fi
SUMMARY:TTAP
DESCRIPTION:Ryhmäkokonaisuus\, jossa hyvdynnetään erilaisia taiteen ja toiminnan keinoja yhdessä valittuun teemaan liittyen.
URL:https://kalenteri.niemikoti.fi/tapahtuma/ttap-2/2023-10-31/
LOCATION:Toimintakeskus Villa Borgis\, Linnavuorentie 13\, Helsinki\, 00950\, Finland
CATEGORIES:Toimintakeskus Villa Borgis
END:VEVENT
BEGIN:VEVENT
DTSTART;TZID=Europe/Helsinki:20231107T130000
DTEND;TZID=Europe/Helsinki:20231107T143000
DTSTAMP:20260426T012426
CREATED:20230822T114949Z
LAST-MODIFIED:20230822T123131Z
UID:10002518-1699362000-1699367400@kalenteri.niemikoti.fi
SUMMARY:TTAP
DESCRIPTION:Ryhmäkokonaisuus\, jossa hyvdynnetään erilaisia taiteen ja toiminnan keinoja yhdessä valittuun teemaan liittyen.
URL:https://kalenteri.niemikoti.fi/tapahtuma/ttap-2/2023-11-07/
LOCATION:Toimintakeskus Villa Borgis\, Linnavuorentie 13\, Helsinki\, 00950\, Finland
CATEGORIES:Toimintakeskus Villa Borgis
END:VEVENT
BEGIN:VEVENT
DTSTART;TZID=Europe/Helsinki:20231114T130000
DTEND;TZID=Europe/Helsinki:20231114T143000
DTSTAMP:20260426T012426
CREATED:20230822T114949Z
LAST-MODIFIED:20230822T123131Z
UID:10002519-1699966800-1699972200@kalenteri.niemikoti.fi
SUMMARY:TTAP
DESCRIPTION:Ryhmäkokonaisuus\, jossa hyvdynnetään erilaisia taiteen ja toiminnan keinoja yhdessä valittuun teemaan liittyen.
URL:https://kalenteri.niemikoti.fi/tapahtuma/ttap-2/2023-11-14/
LOCATION:Toimintakeskus Villa Borgis\, Linnavuorentie 13\, Helsinki\, 00950\, Finland
CATEGORIES:Toimintakeskus Villa Borgis
END:VEVENT
BEGIN:VEVENT
DTSTART;TZID=Europe/Helsinki:20240306T103000
DTEND;TZID=Europe/Helsinki:20240306T120000
DTSTAMP:20260426T012426
CREATED:20240112T082136Z
LAST-MODIFIED:20240123T094723Z
UID:10004856-1709721000-1709726400@kalenteri.niemikoti.fi
SUMMARY:Sulkakynät-kirjoittajaryhmä
DESCRIPTION:Ilmaise itseäsi kirjoittamalla. Luovia kirjoitusharjoituksia ryhmässä.
URL:https://kalenteri.niemikoti.fi/tapahtuma/sulkakynat-kirjoittajaryhma-2/2024-03-06/
LOCATION:Toimintakeskus Villa Borgis\, Linnavuorentie 13\, Helsinki\, 00950\, Finland
CATEGORIES:Toimintakeskus Villa Borgis
END:VEVENT
BEGIN:VEVENT
DTSTART;TZID=Europe/Helsinki:20240313T103000
DTEND;TZID=Europe/Helsinki:20240313T111500
DTSTAMP:20260426T012426
CREATED:20240223T073950Z
LAST-MODIFIED:20240403T063622Z
UID:10006413-1710325800-1710328500@kalenteri.niemikoti.fi
SUMMARY:Sanapaja Malmilla
DESCRIPTION:Luovia kirjoitusharjoituksia ja sanataidetta ryhmässä. Täydentyvä ryhmä\, ilmoittaudu mukaan.
URL:https://kalenteri.niemikoti.fi/tapahtuma/sanapaja-malmilla/2024-03-13/
LOCATION:Malmin päivätoimintakeskus\, Vanha Helsingintie 9\, Helsinki\, 00700\, Finland
CATEGORIES:Malmin päivätoimintakeskus
END:VEVENT
BEGIN:VEVENT
DTSTART;TZID=Europe/Helsinki:20240313T103000
DTEND;TZID=Europe/Helsinki:20240313T120000
DTSTAMP:20260426T012426
CREATED:20240112T082136Z
LAST-MODIFIED:20240123T094723Z
UID:10004857-1710325800-1710331200@kalenteri.niemikoti.fi
SUMMARY:Sulkakynät-kirjoittajaryhmä
DESCRIPTION:Ilmaise itseäsi kirjoittamalla. Luovia kirjoitusharjoituksia ryhmässä.
URL:https://kalenteri.niemikoti.fi/tapahtuma/sulkakynat-kirjoittajaryhma-2/2024-03-13/
LOCATION:Toimintakeskus Villa Borgis\, Linnavuorentie 13\, Helsinki\, 00950\, Finland
CATEGORIES:Toimintakeskus Villa Borgis
END:VEVENT
BEGIN:VEVENT
DTSTART;TZID=Europe/Helsinki:20240320T103000
DTEND;TZID=Europe/Helsinki:20240320T111500
DTSTAMP:20260426T012426
CREATED:20240223T073950Z
LAST-MODIFIED:20240403T063622Z
UID:10006414-1710930600-1710933300@kalenteri.niemikoti.fi
SUMMARY:Sanapaja Malmilla
DESCRIPTION:Luovia kirjoitusharjoituksia ja sanataidetta ryhmässä. Täydentyvä ryhmä\, ilmoittaudu mukaan.
URL:https://kalenteri.niemikoti.fi/tapahtuma/sanapaja-malmilla/2024-03-20/
LOCATION:Malmin päivätoimintakeskus\, Vanha Helsingintie 9\, Helsinki\, 00700\, Finland
CATEGORIES:Malmin päivätoimintakeskus
END:VEVENT
BEGIN:VEVENT
DTSTART;TZID=Europe/Helsinki:20240320T103000
DTEND;TZID=Europe/Helsinki:20240320T120000
DTSTAMP:20260426T012426
CREATED:20240112T082136Z
LAST-MODIFIED:20240123T094723Z
UID:10004858-1710930600-1710936000@kalenteri.niemikoti.fi
SUMMARY:Sulkakynät-kirjoittajaryhmä
DESCRIPTION:Ilmaise itseäsi kirjoittamalla. Luovia kirjoitusharjoituksia ryhmässä.
URL:https://kalenteri.niemikoti.fi/tapahtuma/sulkakynat-kirjoittajaryhma-2/2024-03-20/
LOCATION:Toimintakeskus Villa Borgis\, Linnavuorentie 13\, Helsinki\, 00950\, Finland
CATEGORIES:Toimintakeskus Villa Borgis
END:VEVENT
BEGIN:VEVENT
DTSTART;TZID=Europe/Helsinki:20240327T103000
DTEND;TZID=Europe/Helsinki:20240327T111500
DTSTAMP:20260426T012426
CREATED:20240223T073950Z
LAST-MODIFIED:20240403T063622Z
UID:10006415-1711535400-1711538100@kalenteri.niemikoti.fi
SUMMARY:Sanapaja Malmilla
DESCRIPTION:Luovia kirjoitusharjoituksia ja sanataidetta ryhmässä. Täydentyvä ryhmä\, ilmoittaudu mukaan.
URL:https://kalenteri.niemikoti.fi/tapahtuma/sanapaja-malmilla/2024-03-27/
LOCATION:Malmin päivätoimintakeskus\, Vanha Helsingintie 9\, Helsinki\, 00700\, Finland
CATEGORIES:Malmin päivätoimintakeskus
END:VEVENT
BEGIN:VEVENT
DTSTART;TZID=Europe/Helsinki:20240327T103000
DTEND;TZID=Europe/Helsinki:20240327T120000
DTSTAMP:20260426T012426
CREATED:20240112T082136Z
LAST-MODIFIED:20240123T094723Z
UID:10004859-1711535400-1711540800@kalenteri.niemikoti.fi
SUMMARY:Sulkakynät-kirjoittajaryhmä
DESCRIPTION:Ilmaise itseäsi kirjoittamalla. Luovia kirjoitusharjoituksia ryhmässä.
URL:https://kalenteri.niemikoti.fi/tapahtuma/sulkakynat-kirjoittajaryhma-2/2024-03-27/
LOCATION:Toimintakeskus Villa Borgis\, Linnavuorentie 13\, Helsinki\, 00950\, Finland
CATEGORIES:Toimintakeskus Villa Borgis
END:VEVENT
BEGIN:VEVENT
DTSTART;TZID=Europe/Helsinki:20240403T103000
DTEND;TZID=Europe/Helsinki:20240403T111500
DTSTAMP:20260426T012426
CREATED:20240223T073950Z
LAST-MODIFIED:20240403T063622Z
UID:10006416-1712140200-1712142900@kalenteri.niemikoti.fi
SUMMARY:Sanapaja Malmilla
DESCRIPTION:Luovia kirjoitusharjoituksia ja sanataidetta ryhmässä. Täydentyvä ryhmä\, ilmoittaudu mukaan.
URL:https://kalenteri.niemikoti.fi/tapahtuma/sanapaja-malmilla/2024-04-03/
LOCATION:Malmin päivätoimintakeskus\, Vanha Helsingintie 9\, Helsinki\, 00700\, Finland
CATEGORIES:Malmin päivätoimintakeskus
END:VEVENT
BEGIN:VEVENT
DTSTART;TZID=Europe/Helsinki:20240410T103000
DTEND;TZID=Europe/Helsinki:20240410T111500
DTSTAMP:20260426T012426
CREATED:20240223T073950Z
LAST-MODIFIED:20240403T063622Z
UID:10006417-1712745000-1712747700@kalenteri.niemikoti.fi
SUMMARY:Sanapaja Malmilla
DESCRIPTION:Luovia kirjoitusharjoituksia ja sanataidetta ryhmässä. Täydentyvä ryhmä\, ilmoittaudu mukaan.
URL:https://kalenteri.niemikoti.fi/tapahtuma/sanapaja-malmilla/2024-04-10/
LOCATION:Malmin päivätoimintakeskus\, Vanha Helsingintie 9\, Helsinki\, 00700\, Finland
CATEGORIES:Malmin päivätoimintakeskus
END:VEVENT
BEGIN:VEVENT
DTSTART;TZID=Europe/Helsinki:20240417T103000
DTEND;TZID=Europe/Helsinki:20240417T111500
DTSTAMP:20260426T012426
CREATED:20240223T073950Z
LAST-MODIFIED:20240403T063622Z
UID:10006418-1713349800-1713352500@kalenteri.niemikoti.fi
SUMMARY:Sanapaja Malmilla
DESCRIPTION:Luovia kirjoitusharjoituksia ja sanataidetta ryhmässä. Täydentyvä ryhmä\, ilmoittaudu mukaan.
URL:https://kalenteri.niemikoti.fi/tapahtuma/sanapaja-malmilla/2024-04-17/
LOCATION:Malmin päivätoimintakeskus\, Vanha Helsingintie 9\, Helsinki\, 00700\, Finland
CATEGORIES:Malmin päivätoimintakeskus
END:VEVENT
BEGIN:VEVENT
DTSTART;TZID=Europe/Helsinki:20240603T103000
DTEND;TZID=Europe/Helsinki:20240603T111500
DTSTAMP:20260426T012426
CREATED:20230815T053423Z
LAST-MODIFIED:20240528T090758Z
UID:10004679-1717410600-1717413300@kalenteri.niemikoti.fi
SUMMARY:Sanapaja Malmilla
DESCRIPTION:Luovia kirjoitusharjoituksia ja sanataidetta ryhmässä. Täydentyvä ryhmä\, ilmoittaudu.
URL:https://kalenteri.niemikoti.fi/tapahtuma/musaraati-malmilla/2024-06-03/
LOCATION:Malmin päivätoimintakeskus\, Vanha Helsingintie 9\, Helsinki\, 00700\, Finland
CATEGORIES:Malmin päivätoimintakeskus
END:VEVENT
BEGIN:VEVENT
DTSTART;TZID=Europe/Helsinki:20240606T103000
DTEND;TZID=Europe/Helsinki:20240606T120000
DTSTAMP:20260426T012426
CREATED:20240514T101614Z
LAST-MODIFIED:20240514T101614Z
UID:10011782-1717669800-1717675200@kalenteri.niemikoti.fi
SUMMARY:Suvikynät -kirjoittajaryhmä
DESCRIPTION:Luovia kirjoitusharjoituksia kesäisissä tunnelmissa.
URL:https://kalenteri.niemikoti.fi/tapahtuma/suvikynat-kirjoittajaryhma/2024-06-06/
LOCATION:Toimintakeskus Villa Borgis\, Linnavuorentie 13\, Helsinki\, 00950\, Finland
CATEGORIES:Toimintakeskus Villa Borgis
END:VEVENT
END:VCALENDAR