BEGIN:VCALENDAR
VERSION:2.0
PRODID:-//Tapahtumakalenteri - ECPv6.15.18//NONSGML v1.0//EN
CALSCALE:GREGORIAN
METHOD:PUBLISH
X-WR-CALNAME:Tapahtumakalenteri
X-ORIGINAL-URL:https://kalenteri.niemikoti.fi
X-WR-CALDESC:Tapahtumat Tapahtumakalenteri
REFRESH-INTERVAL;VALUE=DURATION:PT1H
X-Robots-Tag:noindex
X-PUBLISHED-TTL:PT1H
BEGIN:VTIMEZONE
TZID:Europe/Helsinki
BEGIN:DAYLIGHT
TZOFFSETFROM:+0200
TZOFFSETTO:+0300
TZNAME:EEST
DTSTART:20240331T010000
END:DAYLIGHT
BEGIN:STANDARD
TZOFFSETFROM:+0300
TZOFFSETTO:+0200
TZNAME:EET
DTSTART:20241027T010000
END:STANDARD
BEGIN:DAYLIGHT
TZOFFSETFROM:+0200
TZOFFSETTO:+0300
TZNAME:EEST
DTSTART:20250330T010000
END:DAYLIGHT
BEGIN:STANDARD
TZOFFSETFROM:+0300
TZOFFSETTO:+0200
TZNAME:EET
DTSTART:20251026T010000
END:STANDARD
BEGIN:DAYLIGHT
TZOFFSETFROM:+0200
TZOFFSETTO:+0300
TZNAME:EEST
DTSTART:20260329T010000
END:DAYLIGHT
BEGIN:STANDARD
TZOFFSETFROM:+0300
TZOFFSETTO:+0200
TZNAME:EET
DTSTART:20261025T010000
END:STANDARD
END:VTIMEZONE
BEGIN:VEVENT
DTSTART;TZID=Europe/Helsinki:20251103T110000
DTEND;TZID=Europe/Helsinki:20251103T120000
DTSTAMP:20260425T144638
CREATED:20251103T125051Z
LAST-MODIFIED:20251103T125051Z
UID:10025029-1762167600-1762171200@kalenteri.niemikoti.fi
SUMMARY:Villi kortti
DESCRIPTION:Ohjelmaa yhteisön toiveiden mukaan. Liikuntaa\, rentoutusta\, luovaa toimintaa tai musiikkiohjelmaa. \nTäydentyvä ryhmä\, ilmoittaudu.
URL:https://kalenteri.niemikoti.fi/tapahtuma/villi-kortti-2/2025-11-03/
LOCATION:Malmin päivätoimintakeskus\, Vanha Helsingintie 9\, Helsinki\, 00700\, Finland
CATEGORIES:Malmin päivätoimintakeskus
END:VEVENT
BEGIN:VEVENT
DTSTART;TZID=Europe/Helsinki:20251104T103000
DTEND;TZID=Europe/Helsinki:20251104T120000
DTSTAMP:20260425T144638
CREATED:20240814T065248Z
LAST-MODIFIED:20260421T091527Z
UID:10025511-1762252200-1762257600@kalenteri.niemikoti.fi
SUMMARY:Borgiksen Picassot
DESCRIPTION:Kuvataideryhmä. Kaikille sopivaa kuvallista työskentelyä\, ei vaadi erityisosaamista.
URL:https://kalenteri.niemikoti.fi/tapahtuma/borgiksen-picassot-2/2025-11-04/
LOCATION:Toimintakeskus Villa Borgis\, Linnavuorentie 13\, Helsinki\, 00950\, Finland
CATEGORIES:Toimintakeskus Villa Borgis
ATTACH;FMTTYPE=image/jpeg:https://kalenteri.niemikoti.fi/wp-content/uploads/2024/08/Borgiksen-Picassot-1.jpg
END:VEVENT
BEGIN:VEVENT
DTSTART;TZID=Europe/Helsinki:20251105T130000
DTEND;TZID=Europe/Helsinki:20251105T143000
DTSTAMP:20260425T144638
CREATED:20250811T000825Z
LAST-MODIFIED:20250902T085930Z
UID:10024167-1762347600-1762353000@kalenteri.niemikoti.fi
SUMMARY:Väriä elämään -taideryhmä
DESCRIPTION:Visuaalista taidetta vaihtuvin teemoin ja tekniikoin. \nMax. 8 osallistujaa\, ilmoittaudu mukaan! \nEi ryhmää Malmilla 3.9. ja 24.9\, koska teemme syyskuussa retkiä taidemuseoihin. Yhteislähtö Malmilta klo 12.30. \nKE 3.9. Kiasma: Kivi\, paperi\, sakset -kokoelmanäyttely\, Monira Al Qadiri: Deep Fate sekä Dafna Maimon: Oireita. \nKE 24.9. Helsingin kaupunginmuseo: Roskaa! – Mitä jätämme jälkeemme\, Krunikan kortteleissa ja Helsingin valitut palat -näyttelyt
URL:https://kalenteri.niemikoti.fi/tapahtuma/varia-elamaan-taideryhma/2025-11-05/
LOCATION:Malmin päivätoimintakeskus\, Vanha Helsingintie 9\, Helsinki\, 00700\, Finland
CATEGORIES:Malmin päivätoimintakeskus
ATTACH;FMTTYPE=image/jpeg:https://kalenteri.niemikoti.fi/wp-content/uploads/2025/08/Varia_elamaan.jpg
END:VEVENT
BEGIN:VEVENT
DTSTART;TZID=Europe/Helsinki:20251110T110000
DTEND;TZID=Europe/Helsinki:20251110T120000
DTSTAMP:20260425T144638
CREATED:20251103T125051Z
LAST-MODIFIED:20251103T125051Z
UID:10025030-1762772400-1762776000@kalenteri.niemikoti.fi
SUMMARY:Villi kortti
DESCRIPTION:Ohjelmaa yhteisön toiveiden mukaan. Liikuntaa\, rentoutusta\, luovaa toimintaa tai musiikkiohjelmaa. \nTäydentyvä ryhmä\, ilmoittaudu.
URL:https://kalenteri.niemikoti.fi/tapahtuma/villi-kortti-2/2025-11-10/
LOCATION:Malmin päivätoimintakeskus\, Vanha Helsingintie 9\, Helsinki\, 00700\, Finland
CATEGORIES:Malmin päivätoimintakeskus
END:VEVENT
BEGIN:VEVENT
DTSTART;TZID=Europe/Helsinki:20251111T103000
DTEND;TZID=Europe/Helsinki:20251111T120000
DTSTAMP:20260425T144638
CREATED:20240814T065248Z
LAST-MODIFIED:20260421T091527Z
UID:10025512-1762857000-1762862400@kalenteri.niemikoti.fi
SUMMARY:Borgiksen Picassot
DESCRIPTION:Kuvataideryhmä. Kaikille sopivaa kuvallista työskentelyä\, ei vaadi erityisosaamista.
URL:https://kalenteri.niemikoti.fi/tapahtuma/borgiksen-picassot-2/2025-11-11/
LOCATION:Toimintakeskus Villa Borgis\, Linnavuorentie 13\, Helsinki\, 00950\, Finland
CATEGORIES:Toimintakeskus Villa Borgis
ATTACH;FMTTYPE=image/jpeg:https://kalenteri.niemikoti.fi/wp-content/uploads/2024/08/Borgiksen-Picassot-1.jpg
END:VEVENT
BEGIN:VEVENT
DTSTART;TZID=Europe/Helsinki:20251112T130000
DTEND;TZID=Europe/Helsinki:20251112T143000
DTSTAMP:20260425T144638
CREATED:20250811T000825Z
LAST-MODIFIED:20250902T085930Z
UID:10024168-1762952400-1762957800@kalenteri.niemikoti.fi
SUMMARY:Väriä elämään -taideryhmä
DESCRIPTION:Visuaalista taidetta vaihtuvin teemoin ja tekniikoin. \nMax. 8 osallistujaa\, ilmoittaudu mukaan! \nEi ryhmää Malmilla 3.9. ja 24.9\, koska teemme syyskuussa retkiä taidemuseoihin. Yhteislähtö Malmilta klo 12.30. \nKE 3.9. Kiasma: Kivi\, paperi\, sakset -kokoelmanäyttely\, Monira Al Qadiri: Deep Fate sekä Dafna Maimon: Oireita. \nKE 24.9. Helsingin kaupunginmuseo: Roskaa! – Mitä jätämme jälkeemme\, Krunikan kortteleissa ja Helsingin valitut palat -näyttelyt
URL:https://kalenteri.niemikoti.fi/tapahtuma/varia-elamaan-taideryhma/2025-11-12/
LOCATION:Malmin päivätoimintakeskus\, Vanha Helsingintie 9\, Helsinki\, 00700\, Finland
CATEGORIES:Malmin päivätoimintakeskus
ATTACH;FMTTYPE=image/jpeg:https://kalenteri.niemikoti.fi/wp-content/uploads/2025/08/Varia_elamaan.jpg
END:VEVENT
BEGIN:VEVENT
DTSTART;TZID=Europe/Helsinki:20251114T120000
DTEND;TZID=Europe/Helsinki:20251114T130000
DTSTAMP:20260425T144638
CREATED:20250818T061813Z
LAST-MODIFIED:20251030T135106Z
UID:10024963-1763121600-1763125200@kalenteri.niemikoti.fi
SUMMARY:Taidelabra
DESCRIPTION:Taiteen tekemistä erilaisin välinein ja menetelmin. Ei vaadi aiempaa harrastuneisuutta\, mielenkiinto riittää. Ilmoittaudu.
URL:https://kalenteri.niemikoti.fi/tapahtuma/taidelabra/2025-11-14/
LOCATION:Toimintakeskus Villa Borgis\, Linnavuorentie 13\, Helsinki\, 00950\, Finland
CATEGORIES:Toimintakeskus Villa Borgis
ATTACH;FMTTYPE=image/jpeg:https://kalenteri.niemikoti.fi/wp-content/uploads/2025/08/taide-labra.jpg
END:VEVENT
BEGIN:VEVENT
DTSTART;TZID=Europe/Helsinki:20251117T110000
DTEND;TZID=Europe/Helsinki:20251117T120000
DTSTAMP:20260425T144638
CREATED:20251103T125051Z
LAST-MODIFIED:20251103T125051Z
UID:10025031-1763377200-1763380800@kalenteri.niemikoti.fi
SUMMARY:Villi kortti
DESCRIPTION:Ohjelmaa yhteisön toiveiden mukaan. Liikuntaa\, rentoutusta\, luovaa toimintaa tai musiikkiohjelmaa. \nTäydentyvä ryhmä\, ilmoittaudu.
URL:https://kalenteri.niemikoti.fi/tapahtuma/villi-kortti-2/2025-11-17/
LOCATION:Malmin päivätoimintakeskus\, Vanha Helsingintie 9\, Helsinki\, 00700\, Finland
CATEGORIES:Malmin päivätoimintakeskus
END:VEVENT
BEGIN:VEVENT
DTSTART;TZID=Europe/Helsinki:20251118T103000
DTEND;TZID=Europe/Helsinki:20251118T120000
DTSTAMP:20260425T144638
CREATED:20240814T065248Z
LAST-MODIFIED:20260421T091527Z
UID:10025513-1763461800-1763467200@kalenteri.niemikoti.fi
SUMMARY:Borgiksen Picassot
DESCRIPTION:Kuvataideryhmä. Kaikille sopivaa kuvallista työskentelyä\, ei vaadi erityisosaamista.
URL:https://kalenteri.niemikoti.fi/tapahtuma/borgiksen-picassot-2/2025-11-18/
LOCATION:Toimintakeskus Villa Borgis\, Linnavuorentie 13\, Helsinki\, 00950\, Finland
CATEGORIES:Toimintakeskus Villa Borgis
ATTACH;FMTTYPE=image/jpeg:https://kalenteri.niemikoti.fi/wp-content/uploads/2024/08/Borgiksen-Picassot-1.jpg
END:VEVENT
BEGIN:VEVENT
DTSTART;TZID=Europe/Helsinki:20251119T130000
DTEND;TZID=Europe/Helsinki:20251119T143000
DTSTAMP:20260425T144638
CREATED:20250811T000825Z
LAST-MODIFIED:20250902T085930Z
UID:10024169-1763557200-1763562600@kalenteri.niemikoti.fi
SUMMARY:Väriä elämään -taideryhmä
DESCRIPTION:Visuaalista taidetta vaihtuvin teemoin ja tekniikoin. \nMax. 8 osallistujaa\, ilmoittaudu mukaan! \nEi ryhmää Malmilla 3.9. ja 24.9\, koska teemme syyskuussa retkiä taidemuseoihin. Yhteislähtö Malmilta klo 12.30. \nKE 3.9. Kiasma: Kivi\, paperi\, sakset -kokoelmanäyttely\, Monira Al Qadiri: Deep Fate sekä Dafna Maimon: Oireita. \nKE 24.9. Helsingin kaupunginmuseo: Roskaa! – Mitä jätämme jälkeemme\, Krunikan kortteleissa ja Helsingin valitut palat -näyttelyt
URL:https://kalenteri.niemikoti.fi/tapahtuma/varia-elamaan-taideryhma/2025-11-19/
LOCATION:Malmin päivätoimintakeskus\, Vanha Helsingintie 9\, Helsinki\, 00700\, Finland
CATEGORIES:Malmin päivätoimintakeskus
ATTACH;FMTTYPE=image/jpeg:https://kalenteri.niemikoti.fi/wp-content/uploads/2025/08/Varia_elamaan.jpg
END:VEVENT
BEGIN:VEVENT
DTSTART;TZID=Europe/Helsinki:20251124T110000
DTEND;TZID=Europe/Helsinki:20251124T120000
DTSTAMP:20260425T144638
CREATED:20251103T125051Z
LAST-MODIFIED:20251103T125051Z
UID:10025032-1763982000-1763985600@kalenteri.niemikoti.fi
SUMMARY:Villi kortti
DESCRIPTION:Ohjelmaa yhteisön toiveiden mukaan. Liikuntaa\, rentoutusta\, luovaa toimintaa tai musiikkiohjelmaa. \nTäydentyvä ryhmä\, ilmoittaudu.
URL:https://kalenteri.niemikoti.fi/tapahtuma/villi-kortti-2/2025-11-24/
LOCATION:Malmin päivätoimintakeskus\, Vanha Helsingintie 9\, Helsinki\, 00700\, Finland
CATEGORIES:Malmin päivätoimintakeskus
END:VEVENT
BEGIN:VEVENT
DTSTART;TZID=Europe/Helsinki:20251125T103000
DTEND;TZID=Europe/Helsinki:20251125T120000
DTSTAMP:20260425T144638
CREATED:20240814T065248Z
LAST-MODIFIED:20260421T091527Z
UID:10025514-1764066600-1764072000@kalenteri.niemikoti.fi
SUMMARY:Borgiksen Picassot
DESCRIPTION:Kuvataideryhmä. Kaikille sopivaa kuvallista työskentelyä\, ei vaadi erityisosaamista.
URL:https://kalenteri.niemikoti.fi/tapahtuma/borgiksen-picassot-2/2025-11-25/
LOCATION:Toimintakeskus Villa Borgis\, Linnavuorentie 13\, Helsinki\, 00950\, Finland
CATEGORIES:Toimintakeskus Villa Borgis
ATTACH;FMTTYPE=image/jpeg:https://kalenteri.niemikoti.fi/wp-content/uploads/2024/08/Borgiksen-Picassot-1.jpg
END:VEVENT
BEGIN:VEVENT
DTSTART;TZID=Europe/Helsinki:20251126T130000
DTEND;TZID=Europe/Helsinki:20251126T143000
DTSTAMP:20260425T144638
CREATED:20250811T000825Z
LAST-MODIFIED:20250902T085930Z
UID:10024170-1764162000-1764167400@kalenteri.niemikoti.fi
SUMMARY:Väriä elämään -taideryhmä
DESCRIPTION:Visuaalista taidetta vaihtuvin teemoin ja tekniikoin. \nMax. 8 osallistujaa\, ilmoittaudu mukaan! \nEi ryhmää Malmilla 3.9. ja 24.9\, koska teemme syyskuussa retkiä taidemuseoihin. Yhteislähtö Malmilta klo 12.30. \nKE 3.9. Kiasma: Kivi\, paperi\, sakset -kokoelmanäyttely\, Monira Al Qadiri: Deep Fate sekä Dafna Maimon: Oireita. \nKE 24.9. Helsingin kaupunginmuseo: Roskaa! – Mitä jätämme jälkeemme\, Krunikan kortteleissa ja Helsingin valitut palat -näyttelyt
URL:https://kalenteri.niemikoti.fi/tapahtuma/varia-elamaan-taideryhma/2025-11-26/
LOCATION:Malmin päivätoimintakeskus\, Vanha Helsingintie 9\, Helsinki\, 00700\, Finland
CATEGORIES:Malmin päivätoimintakeskus
ATTACH;FMTTYPE=image/jpeg:https://kalenteri.niemikoti.fi/wp-content/uploads/2025/08/Varia_elamaan.jpg
END:VEVENT
BEGIN:VEVENT
DTSTART;TZID=Europe/Helsinki:20251128T120000
DTEND;TZID=Europe/Helsinki:20251128T130000
DTSTAMP:20260425T144638
CREATED:20250818T061813Z
LAST-MODIFIED:20251030T135106Z
UID:10024964-1764331200-1764334800@kalenteri.niemikoti.fi
SUMMARY:Taidelabra
DESCRIPTION:Taiteen tekemistä erilaisin välinein ja menetelmin. Ei vaadi aiempaa harrastuneisuutta\, mielenkiinto riittää. Ilmoittaudu.
URL:https://kalenteri.niemikoti.fi/tapahtuma/taidelabra/2025-11-28/
LOCATION:Toimintakeskus Villa Borgis\, Linnavuorentie 13\, Helsinki\, 00950\, Finland
CATEGORIES:Toimintakeskus Villa Borgis
ATTACH;FMTTYPE=image/jpeg:https://kalenteri.niemikoti.fi/wp-content/uploads/2025/08/taide-labra.jpg
END:VEVENT
END:VCALENDAR