BEGIN:VCALENDAR
VERSION:2.0
PRODID:-//Tapahtumakalenteri - ECPv6.15.18//NONSGML v1.0//EN
CALSCALE:GREGORIAN
METHOD:PUBLISH
X-WR-CALNAME:Tapahtumakalenteri
X-ORIGINAL-URL:https://kalenteri.niemikoti.fi
X-WR-CALDESC:Tapahtumat Tapahtumakalenteri
REFRESH-INTERVAL;VALUE=DURATION:PT1H
X-Robots-Tag:noindex
X-PUBLISHED-TTL:PT1H
BEGIN:VTIMEZONE
TZID:Europe/Helsinki
BEGIN:DAYLIGHT
TZOFFSETFROM:+0200
TZOFFSETTO:+0300
TZNAME:EEST
DTSTART:20220327T010000
END:DAYLIGHT
BEGIN:STANDARD
TZOFFSETFROM:+0300
TZOFFSETTO:+0200
TZNAME:EET
DTSTART:20221030T010000
END:STANDARD
BEGIN:DAYLIGHT
TZOFFSETFROM:+0200
TZOFFSETTO:+0300
TZNAME:EEST
DTSTART:20230326T010000
END:DAYLIGHT
BEGIN:STANDARD
TZOFFSETFROM:+0300
TZOFFSETTO:+0200
TZNAME:EET
DTSTART:20231029T010000
END:STANDARD
BEGIN:DAYLIGHT
TZOFFSETFROM:+0200
TZOFFSETTO:+0300
TZNAME:EEST
DTSTART:20240331T010000
END:DAYLIGHT
BEGIN:STANDARD
TZOFFSETFROM:+0300
TZOFFSETTO:+0200
TZNAME:EET
DTSTART:20241027T010000
END:STANDARD
END:VTIMEZONE
BEGIN:VEVENT
DTSTART;TZID=Europe/Helsinki:20230607T130000
DTEND;TZID=Europe/Helsinki:20230607T150000
DTSTAMP:20260422T190029
CREATED:20230606T125943Z
LAST-MODIFIED:20230621T094120Z
UID:10001158-1686142800-1686150000@kalenteri.niemikoti.fi
SUMMARY:Kesäkässä & Kuvis Elviksessä
DESCRIPTION:Yhdistetty kädentaito – ja kuvisryhmä\, vaihtuvat teemat ja tekniikat.
URL:https://kalenteri.niemikoti.fi/tapahtuma/kesakassa-kuvis-teurastamolla/2023-06-07/
LOCATION:Teurastamo\, Työpajankatu 2\, Helsinki\, 00580\, Finland
CATEGORIES:Kulttuuripaja ELVIS
END:VEVENT
BEGIN:VEVENT
DTSTART;TZID=Europe/Helsinki:20230613T103000
DTEND;TZID=Europe/Helsinki:20230613T120000
DTSTAMP:20260422T190029
CREATED:20230531T124423Z
LAST-MODIFIED:20240123T084001Z
UID:10005031-1686652200-1686657600@kalenteri.niemikoti.fi
SUMMARY:Borgiksen Picassot
DESCRIPTION:Kuvataideryhmä\, ilmoittaudu.
URL:https://kalenteri.niemikoti.fi/tapahtuma/borgiksen-picassot/2023-06-13/
LOCATION:Toimintakeskus Villa Borgis\, Linnavuorentie 13\, Helsinki\, 00950\, Finland
CATEGORIES:Toimintakeskus Villa Borgis
END:VEVENT
BEGIN:VEVENT
DTSTART;TZID=Europe/Helsinki:20230614T130000
DTEND;TZID=Europe/Helsinki:20230614T150000
DTSTAMP:20260422T190029
CREATED:20230606T125943Z
LAST-MODIFIED:20230621T094120Z
UID:10001159-1686747600-1686754800@kalenteri.niemikoti.fi
SUMMARY:Kesäkässä & Kuvis Elviksessä
DESCRIPTION:Yhdistetty kädentaito – ja kuvisryhmä\, vaihtuvat teemat ja tekniikat.
URL:https://kalenteri.niemikoti.fi/tapahtuma/kesakassa-kuvis-teurastamolla/2023-06-14/
LOCATION:Teurastamo\, Työpajankatu 2\, Helsinki\, 00580\, Finland
CATEGORIES:Kulttuuripaja ELVIS
END:VEVENT
BEGIN:VEVENT
DTSTART;TZID=Europe/Helsinki:20230620T103000
DTEND;TZID=Europe/Helsinki:20230620T120000
DTSTAMP:20260422T190029
CREATED:20230531T124423Z
LAST-MODIFIED:20240123T084001Z
UID:10005032-1687257000-1687262400@kalenteri.niemikoti.fi
SUMMARY:Borgiksen Picassot
DESCRIPTION:Kuvataideryhmä\, ilmoittaudu.
URL:https://kalenteri.niemikoti.fi/tapahtuma/borgiksen-picassot/2023-06-20/
LOCATION:Toimintakeskus Villa Borgis\, Linnavuorentie 13\, Helsinki\, 00950\, Finland
CATEGORIES:Toimintakeskus Villa Borgis
END:VEVENT
BEGIN:VEVENT
DTSTART;TZID=Europe/Helsinki:20230627T103000
DTEND;TZID=Europe/Helsinki:20230627T120000
DTSTAMP:20260422T190029
CREATED:20230531T124423Z
LAST-MODIFIED:20240123T084001Z
UID:10005033-1687861800-1687867200@kalenteri.niemikoti.fi
SUMMARY:Borgiksen Picassot
DESCRIPTION:Kuvataideryhmä\, ilmoittaudu.
URL:https://kalenteri.niemikoti.fi/tapahtuma/borgiksen-picassot/2023-06-27/
LOCATION:Toimintakeskus Villa Borgis\, Linnavuorentie 13\, Helsinki\, 00950\, Finland
CATEGORIES:Toimintakeskus Villa Borgis
END:VEVENT
BEGIN:VEVENT
DTSTART;TZID=Europe/Helsinki:20230628T130000
DTEND;TZID=Europe/Helsinki:20230628T150000
DTSTAMP:20260422T190029
CREATED:20230606T125943Z
LAST-MODIFIED:20230621T094120Z
UID:10001161-1687957200-1687964400@kalenteri.niemikoti.fi
SUMMARY:Kesäkässä & Kuvis Elviksessä
DESCRIPTION:Yhdistetty kädentaito – ja kuvisryhmä\, vaihtuvat teemat ja tekniikat.
URL:https://kalenteri.niemikoti.fi/tapahtuma/kesakassa-kuvis-teurastamolla/2023-06-28/
LOCATION:Teurastamo\, Työpajankatu 2\, Helsinki\, 00580\, Finland
CATEGORIES:Kulttuuripaja ELVIS
END:VEVENT
BEGIN:VEVENT
DTSTART;TZID=Europe/Helsinki:20230704T103000
DTEND;TZID=Europe/Helsinki:20230704T120000
DTSTAMP:20260422T190029
CREATED:20230531T124423Z
LAST-MODIFIED:20240123T084001Z
UID:10005034-1688466600-1688472000@kalenteri.niemikoti.fi
SUMMARY:Borgiksen Picassot
DESCRIPTION:Kuvataideryhmä\, ilmoittaudu.
URL:https://kalenteri.niemikoti.fi/tapahtuma/borgiksen-picassot/2023-07-04/
LOCATION:Toimintakeskus Villa Borgis\, Linnavuorentie 13\, Helsinki\, 00950\, Finland
CATEGORIES:Toimintakeskus Villa Borgis
END:VEVENT
BEGIN:VEVENT
DTSTART;TZID=Europe/Helsinki:20230711T103000
DTEND;TZID=Europe/Helsinki:20230711T120000
DTSTAMP:20260422T190029
CREATED:20230531T124423Z
LAST-MODIFIED:20240123T084001Z
UID:10005035-1689071400-1689076800@kalenteri.niemikoti.fi
SUMMARY:Borgiksen Picassot
DESCRIPTION:Kuvataideryhmä\, ilmoittaudu.
URL:https://kalenteri.niemikoti.fi/tapahtuma/borgiksen-picassot/2023-07-11/
LOCATION:Toimintakeskus Villa Borgis\, Linnavuorentie 13\, Helsinki\, 00950\, Finland
CATEGORIES:Toimintakeskus Villa Borgis
END:VEVENT
BEGIN:VEVENT
DTSTART;TZID=Europe/Helsinki:20230718T103000
DTEND;TZID=Europe/Helsinki:20230718T120000
DTSTAMP:20260422T190029
CREATED:20230531T124423Z
LAST-MODIFIED:20240123T084001Z
UID:10005036-1689676200-1689681600@kalenteri.niemikoti.fi
SUMMARY:Borgiksen Picassot
DESCRIPTION:Kuvataideryhmä\, ilmoittaudu.
URL:https://kalenteri.niemikoti.fi/tapahtuma/borgiksen-picassot/2023-07-18/
LOCATION:Toimintakeskus Villa Borgis\, Linnavuorentie 13\, Helsinki\, 00950\, Finland
CATEGORIES:Toimintakeskus Villa Borgis
END:VEVENT
BEGIN:VEVENT
DTSTART;TZID=Europe/Helsinki:20230725T103000
DTEND;TZID=Europe/Helsinki:20230725T120000
DTSTAMP:20260422T190029
CREATED:20230531T124423Z
LAST-MODIFIED:20240123T084001Z
UID:10005037-1690281000-1690286400@kalenteri.niemikoti.fi
SUMMARY:Borgiksen Picassot
DESCRIPTION:Kuvataideryhmä\, ilmoittaudu.
URL:https://kalenteri.niemikoti.fi/tapahtuma/borgiksen-picassot/2023-07-25/
LOCATION:Toimintakeskus Villa Borgis\, Linnavuorentie 13\, Helsinki\, 00950\, Finland
CATEGORIES:Toimintakeskus Villa Borgis
END:VEVENT
BEGIN:VEVENT
DTSTART;TZID=Europe/Helsinki:20230801T103000
DTEND;TZID=Europe/Helsinki:20230801T120000
DTSTAMP:20260422T190029
CREATED:20230531T124423Z
LAST-MODIFIED:20240123T084001Z
UID:10005038-1690885800-1690891200@kalenteri.niemikoti.fi
SUMMARY:Borgiksen Picassot
DESCRIPTION:Kuvataideryhmä\, ilmoittaudu.
URL:https://kalenteri.niemikoti.fi/tapahtuma/borgiksen-picassot/2023-08-01/
LOCATION:Toimintakeskus Villa Borgis\, Linnavuorentie 13\, Helsinki\, 00950\, Finland
CATEGORIES:Toimintakeskus Villa Borgis
END:VEVENT
BEGIN:VEVENT
DTSTART;TZID=Europe/Helsinki:20230808T103000
DTEND;TZID=Europe/Helsinki:20230808T120000
DTSTAMP:20260422T190029
CREATED:20230531T124423Z
LAST-MODIFIED:20240123T084001Z
UID:10005039-1691490600-1691496000@kalenteri.niemikoti.fi
SUMMARY:Borgiksen Picassot
DESCRIPTION:Kuvataideryhmä\, ilmoittaudu.
URL:https://kalenteri.niemikoti.fi/tapahtuma/borgiksen-picassot/2023-08-08/
LOCATION:Toimintakeskus Villa Borgis\, Linnavuorentie 13\, Helsinki\, 00950\, Finland
CATEGORIES:Toimintakeskus Villa Borgis
END:VEVENT
BEGIN:VEVENT
DTSTART;TZID=Europe/Helsinki:20230815T103000
DTEND;TZID=Europe/Helsinki:20230815T120000
DTSTAMP:20260422T190029
CREATED:20230531T124423Z
LAST-MODIFIED:20240123T084001Z
UID:10005040-1692095400-1692100800@kalenteri.niemikoti.fi
SUMMARY:Borgiksen Picassot
DESCRIPTION:Kuvataideryhmä\, ilmoittaudu.
URL:https://kalenteri.niemikoti.fi/tapahtuma/borgiksen-picassot/2023-08-15/
LOCATION:Toimintakeskus Villa Borgis\, Linnavuorentie 13\, Helsinki\, 00950\, Finland
CATEGORIES:Toimintakeskus Villa Borgis
END:VEVENT
BEGIN:VEVENT
DTSTART;TZID=Europe/Helsinki:20230822T100000
DTEND;TZID=Europe/Helsinki:20230822T120000
DTSTAMP:20260422T190029
CREATED:20230629T092111Z
LAST-MODIFIED:20230802T121411Z
UID:10001469-1692698400-1692705600@kalenteri.niemikoti.fi
SUMMARY:Avoin kuvataidepaja
DESCRIPTION:Niemikotisäätiön 40-vuotisjuhlan kunniaksi Villa Borgiksessa on kaikille toiminnastamme kiinnostuneille avointa toimintaa ti 22.8. ja 29.8.\, ke 23.8. ja 30.8. sekä pe 25.8. ja 1.9. Tervetuloa osallistumaan ohjelmaan sekä tutustumaan taloon ja toimintaan! Kahvitarjoilu. \nIlmoittaudu villaborgis@niemikoti.fi\, 0400-560176 / Ulla tai 050-4143138 / Virve.
URL:https://kalenteri.niemikoti.fi/tapahtuma/avoin-kuvataidepaja/2023-08-22/
LOCATION:Toimintakeskus Villa Borgis\, Linnavuorentie 13\, Helsinki\, 00950\, Finland
CATEGORIES:Toimintakeskus Villa Borgis
ATTACH;FMTTYPE=image/jpeg:https://kalenteri.niemikoti.fi/wp-content/uploads/2023/06/AVOIMET-OVET2387.jpg
END:VEVENT
BEGIN:VEVENT
DTSTART;TZID=Europe/Helsinki:20230823T133000
DTEND;TZID=Europe/Helsinki:20230823T141500
DTSTAMP:20260422T190029
CREATED:20230823T102707Z
LAST-MODIFIED:20240109T140331Z
UID:10003584-1692797400-1692800100@kalenteri.niemikoti.fi
SUMMARY:Taide & musiikki -ryhmä Malmilla
DESCRIPTION:Luontoteemainen taide- ja musiikkiryhmä. Myös askartelua vuodenajan mukaan. Täydentyvä ryhmä\, ilmoittaudu mukaan!
URL:https://kalenteri.niemikoti.fi/tapahtuma/taide-musiikki-ryhma-malmilla/2023-08-23/
LOCATION:Malmin päivätoimintakeskus\, Vanha Helsingintie 9\, Helsinki\, 00700\, Finland
CATEGORIES:Malmin päivätoimintakeskus
END:VEVENT
BEGIN:VEVENT
DTSTART;TZID=Europe/Helsinki:20230829T100000
DTEND;TZID=Europe/Helsinki:20230829T120000
DTSTAMP:20260422T190029
CREATED:20230629T092111Z
LAST-MODIFIED:20230802T121411Z
UID:10001470-1693303200-1693310400@kalenteri.niemikoti.fi
SUMMARY:Avoin kuvataidepaja
DESCRIPTION:Niemikotisäätiön 40-vuotisjuhlan kunniaksi Villa Borgiksessa on kaikille toiminnastamme kiinnostuneille avointa toimintaa ti 22.8. ja 29.8.\, ke 23.8. ja 30.8. sekä pe 25.8. ja 1.9. Tervetuloa osallistumaan ohjelmaan sekä tutustumaan taloon ja toimintaan! Kahvitarjoilu. \nIlmoittaudu villaborgis@niemikoti.fi\, 0400-560176 / Ulla tai 050-4143138 / Virve.
URL:https://kalenteri.niemikoti.fi/tapahtuma/avoin-kuvataidepaja/2023-08-29/
LOCATION:Toimintakeskus Villa Borgis\, Linnavuorentie 13\, Helsinki\, 00950\, Finland
CATEGORIES:Toimintakeskus Villa Borgis
ATTACH;FMTTYPE=image/jpeg:https://kalenteri.niemikoti.fi/wp-content/uploads/2023/06/AVOIMET-OVET2387.jpg
END:VEVENT
BEGIN:VEVENT
DTSTART;TZID=Europe/Helsinki:20230830T133000
DTEND;TZID=Europe/Helsinki:20230830T141500
DTSTAMP:20260422T190029
CREATED:20230823T102707Z
LAST-MODIFIED:20240109T140331Z
UID:10003585-1693402200-1693404900@kalenteri.niemikoti.fi
SUMMARY:Taide & musiikki -ryhmä Malmilla
DESCRIPTION:Luontoteemainen taide- ja musiikkiryhmä. Myös askartelua vuodenajan mukaan. Täydentyvä ryhmä\, ilmoittaudu mukaan!
URL:https://kalenteri.niemikoti.fi/tapahtuma/taide-musiikki-ryhma-malmilla/2023-08-30/
LOCATION:Malmin päivätoimintakeskus\, Vanha Helsingintie 9\, Helsinki\, 00700\, Finland
CATEGORIES:Malmin päivätoimintakeskus
END:VEVENT
BEGIN:VEVENT
DTSTART;TZID=Europe/Helsinki:20230905T103000
DTEND;TZID=Europe/Helsinki:20230905T120000
DTSTAMP:20260422T190029
CREATED:20230531T124423Z
LAST-MODIFIED:20240123T084001Z
UID:10005041-1693909800-1693915200@kalenteri.niemikoti.fi
SUMMARY:Borgiksen Picassot
DESCRIPTION:Kuvataideryhmä\, ilmoittaudu.
URL:https://kalenteri.niemikoti.fi/tapahtuma/borgiksen-picassot/2023-09-05/
LOCATION:Toimintakeskus Villa Borgis\, Linnavuorentie 13\, Helsinki\, 00950\, Finland
CATEGORIES:Toimintakeskus Villa Borgis
END:VEVENT
BEGIN:VEVENT
DTSTART;TZID=Europe/Helsinki:20230905T130000
DTEND;TZID=Europe/Helsinki:20230905T143000
DTSTAMP:20260422T190029
CREATED:20230822T114949Z
LAST-MODIFIED:20230822T123131Z
UID:10002510-1693918800-1693924200@kalenteri.niemikoti.fi
SUMMARY:TTAP
DESCRIPTION:Ryhmäkokonaisuus\, jossa hyvdynnetään erilaisia taiteen ja toiminnan keinoja yhdessä valittuun teemaan liittyen.
URL:https://kalenteri.niemikoti.fi/tapahtuma/ttap-2/2023-09-05/
LOCATION:Toimintakeskus Villa Borgis\, Linnavuorentie 13\, Helsinki\, 00950\, Finland
CATEGORIES:Toimintakeskus Villa Borgis
END:VEVENT
BEGIN:VEVENT
DTSTART;TZID=Europe/Helsinki:20230906T133000
DTEND;TZID=Europe/Helsinki:20230906T141500
DTSTAMP:20260422T190029
CREATED:20230823T102707Z
LAST-MODIFIED:20240109T140331Z
UID:10003586-1694007000-1694009700@kalenteri.niemikoti.fi
SUMMARY:Taide & musiikki -ryhmä Malmilla
DESCRIPTION:Luontoteemainen taide- ja musiikkiryhmä. Myös askartelua vuodenajan mukaan. Täydentyvä ryhmä\, ilmoittaudu mukaan!
URL:https://kalenteri.niemikoti.fi/tapahtuma/taide-musiikki-ryhma-malmilla/2023-09-06/
LOCATION:Malmin päivätoimintakeskus\, Vanha Helsingintie 9\, Helsinki\, 00700\, Finland
CATEGORIES:Malmin päivätoimintakeskus
END:VEVENT
BEGIN:VEVENT
DTSTART;TZID=Europe/Helsinki:20230912T103000
DTEND;TZID=Europe/Helsinki:20230912T120000
DTSTAMP:20260422T190029
CREATED:20230531T124423Z
LAST-MODIFIED:20240123T084001Z
UID:10005042-1694514600-1694520000@kalenteri.niemikoti.fi
SUMMARY:Borgiksen Picassot
DESCRIPTION:Kuvataideryhmä\, ilmoittaudu.
URL:https://kalenteri.niemikoti.fi/tapahtuma/borgiksen-picassot/2023-09-12/
LOCATION:Toimintakeskus Villa Borgis\, Linnavuorentie 13\, Helsinki\, 00950\, Finland
CATEGORIES:Toimintakeskus Villa Borgis
END:VEVENT
BEGIN:VEVENT
DTSTART;TZID=Europe/Helsinki:20230913T133000
DTEND;TZID=Europe/Helsinki:20230913T141500
DTSTAMP:20260422T190029
CREATED:20230823T102707Z
LAST-MODIFIED:20240109T140331Z
UID:10003587-1694611800-1694614500@kalenteri.niemikoti.fi
SUMMARY:Taide & musiikki -ryhmä Malmilla
DESCRIPTION:Luontoteemainen taide- ja musiikkiryhmä. Myös askartelua vuodenajan mukaan. Täydentyvä ryhmä\, ilmoittaudu mukaan!
URL:https://kalenteri.niemikoti.fi/tapahtuma/taide-musiikki-ryhma-malmilla/2023-09-13/
LOCATION:Malmin päivätoimintakeskus\, Vanha Helsingintie 9\, Helsinki\, 00700\, Finland
CATEGORIES:Malmin päivätoimintakeskus
END:VEVENT
BEGIN:VEVENT
DTSTART;TZID=Europe/Helsinki:20230919T103000
DTEND;TZID=Europe/Helsinki:20230919T120000
DTSTAMP:20260422T190029
CREATED:20230531T124423Z
LAST-MODIFIED:20240123T084001Z
UID:10005043-1695119400-1695124800@kalenteri.niemikoti.fi
SUMMARY:Borgiksen Picassot
DESCRIPTION:Kuvataideryhmä\, ilmoittaudu.
URL:https://kalenteri.niemikoti.fi/tapahtuma/borgiksen-picassot/2023-09-19/
LOCATION:Toimintakeskus Villa Borgis\, Linnavuorentie 13\, Helsinki\, 00950\, Finland
CATEGORIES:Toimintakeskus Villa Borgis
END:VEVENT
BEGIN:VEVENT
DTSTART;TZID=Europe/Helsinki:20230919T130000
DTEND;TZID=Europe/Helsinki:20230919T143000
DTSTAMP:20260422T190029
CREATED:20230822T114949Z
LAST-MODIFIED:20230822T123131Z
UID:10002512-1695128400-1695133800@kalenteri.niemikoti.fi
SUMMARY:TTAP
DESCRIPTION:Ryhmäkokonaisuus\, jossa hyvdynnetään erilaisia taiteen ja toiminnan keinoja yhdessä valittuun teemaan liittyen.
URL:https://kalenteri.niemikoti.fi/tapahtuma/ttap-2/2023-09-19/
LOCATION:Toimintakeskus Villa Borgis\, Linnavuorentie 13\, Helsinki\, 00950\, Finland
CATEGORIES:Toimintakeskus Villa Borgis
END:VEVENT
BEGIN:VEVENT
DTSTART;TZID=Europe/Helsinki:20230920T133000
DTEND;TZID=Europe/Helsinki:20230920T141500
DTSTAMP:20260422T190029
CREATED:20230823T102707Z
LAST-MODIFIED:20240109T140331Z
UID:10003588-1695216600-1695219300@kalenteri.niemikoti.fi
SUMMARY:Taide & musiikki -ryhmä Malmilla
DESCRIPTION:Luontoteemainen taide- ja musiikkiryhmä. Myös askartelua vuodenajan mukaan. Täydentyvä ryhmä\, ilmoittaudu mukaan!
URL:https://kalenteri.niemikoti.fi/tapahtuma/taide-musiikki-ryhma-malmilla/2023-09-20/
LOCATION:Malmin päivätoimintakeskus\, Vanha Helsingintie 9\, Helsinki\, 00700\, Finland
CATEGORIES:Malmin päivätoimintakeskus
END:VEVENT
BEGIN:VEVENT
DTSTART;TZID=Europe/Helsinki:20231003T103000
DTEND;TZID=Europe/Helsinki:20231003T120000
DTSTAMP:20260422T190029
CREATED:20230531T124423Z
LAST-MODIFIED:20240123T084001Z
UID:10005044-1696329000-1696334400@kalenteri.niemikoti.fi
SUMMARY:Borgiksen Picassot
DESCRIPTION:Kuvataideryhmä\, ilmoittaudu.
URL:https://kalenteri.niemikoti.fi/tapahtuma/borgiksen-picassot/2023-10-03/
LOCATION:Toimintakeskus Villa Borgis\, Linnavuorentie 13\, Helsinki\, 00950\, Finland
CATEGORIES:Toimintakeskus Villa Borgis
END:VEVENT
BEGIN:VEVENT
DTSTART;TZID=Europe/Helsinki:20231003T130000
DTEND;TZID=Europe/Helsinki:20231003T143000
DTSTAMP:20260422T190029
CREATED:20230822T114949Z
LAST-MODIFIED:20230822T123131Z
UID:10002513-1696338000-1696343400@kalenteri.niemikoti.fi
SUMMARY:TTAP
DESCRIPTION:Ryhmäkokonaisuus\, jossa hyvdynnetään erilaisia taiteen ja toiminnan keinoja yhdessä valittuun teemaan liittyen.
URL:https://kalenteri.niemikoti.fi/tapahtuma/ttap-2/2023-10-03/
LOCATION:Toimintakeskus Villa Borgis\, Linnavuorentie 13\, Helsinki\, 00950\, Finland
CATEGORIES:Toimintakeskus Villa Borgis
END:VEVENT
BEGIN:VEVENT
DTSTART;TZID=Europe/Helsinki:20231004T133000
DTEND;TZID=Europe/Helsinki:20231004T141500
DTSTAMP:20260422T190029
CREATED:20230823T102707Z
LAST-MODIFIED:20240109T140331Z
UID:10003589-1696426200-1696428900@kalenteri.niemikoti.fi
SUMMARY:Taide & musiikki -ryhmä Malmilla
DESCRIPTION:Luontoteemainen taide- ja musiikkiryhmä. Myös askartelua vuodenajan mukaan. Täydentyvä ryhmä\, ilmoittaudu mukaan!
URL:https://kalenteri.niemikoti.fi/tapahtuma/taide-musiikki-ryhma-malmilla/2023-10-04/
LOCATION:Malmin päivätoimintakeskus\, Vanha Helsingintie 9\, Helsinki\, 00700\, Finland
CATEGORIES:Malmin päivätoimintakeskus
END:VEVENT
BEGIN:VEVENT
DTSTART;TZID=Europe/Helsinki:20231010T103000
DTEND;TZID=Europe/Helsinki:20231010T120000
DTSTAMP:20260422T190029
CREATED:20230531T124423Z
LAST-MODIFIED:20240123T084001Z
UID:10005045-1696933800-1696939200@kalenteri.niemikoti.fi
SUMMARY:Borgiksen Picassot
DESCRIPTION:Kuvataideryhmä\, ilmoittaudu.
URL:https://kalenteri.niemikoti.fi/tapahtuma/borgiksen-picassot/2023-10-10/
LOCATION:Toimintakeskus Villa Borgis\, Linnavuorentie 13\, Helsinki\, 00950\, Finland
CATEGORIES:Toimintakeskus Villa Borgis
END:VEVENT
BEGIN:VEVENT
DTSTART;TZID=Europe/Helsinki:20231010T130000
DTEND;TZID=Europe/Helsinki:20231010T143000
DTSTAMP:20260422T190029
CREATED:20230822T114949Z
LAST-MODIFIED:20230822T123131Z
UID:10002514-1696942800-1696948200@kalenteri.niemikoti.fi
SUMMARY:TTAP
DESCRIPTION:Ryhmäkokonaisuus\, jossa hyvdynnetään erilaisia taiteen ja toiminnan keinoja yhdessä valittuun teemaan liittyen.
URL:https://kalenteri.niemikoti.fi/tapahtuma/ttap-2/2023-10-10/
LOCATION:Toimintakeskus Villa Borgis\, Linnavuorentie 13\, Helsinki\, 00950\, Finland
CATEGORIES:Toimintakeskus Villa Borgis
END:VEVENT
END:VCALENDAR