BEGIN:VCALENDAR
VERSION:2.0
PRODID:-//Tapahtumakalenteri - ECPv6.15.18//NONSGML v1.0//EN
CALSCALE:GREGORIAN
METHOD:PUBLISH
X-ORIGINAL-URL:https://kalenteri.niemikoti.fi
X-WR-CALDESC:Tapahtumat Tapahtumakalenteri
REFRESH-INTERVAL;VALUE=DURATION:PT1H
X-Robots-Tag:noindex
X-PUBLISHED-TTL:PT1H
BEGIN:VTIMEZONE
TZID:Europe/Helsinki
BEGIN:DAYLIGHT
TZOFFSETFROM:+0200
TZOFFSETTO:+0300
TZNAME:EEST
DTSTART:20230326T010000
END:DAYLIGHT
BEGIN:STANDARD
TZOFFSETFROM:+0300
TZOFFSETTO:+0200
TZNAME:EET
DTSTART:20231029T010000
END:STANDARD
BEGIN:DAYLIGHT
TZOFFSETFROM:+0200
TZOFFSETTO:+0300
TZNAME:EEST
DTSTART:20240331T010000
END:DAYLIGHT
BEGIN:STANDARD
TZOFFSETFROM:+0300
TZOFFSETTO:+0200
TZNAME:EET
DTSTART:20241027T010000
END:STANDARD
BEGIN:DAYLIGHT
TZOFFSETFROM:+0200
TZOFFSETTO:+0300
TZNAME:EEST
DTSTART:20250330T010000
END:DAYLIGHT
BEGIN:STANDARD
TZOFFSETFROM:+0300
TZOFFSETTO:+0200
TZNAME:EET
DTSTART:20251026T010000
END:STANDARD
BEGIN:DAYLIGHT
TZOFFSETFROM:+0200
TZOFFSETTO:+0300
TZNAME:EEST
DTSTART:20260329T010000
END:DAYLIGHT
BEGIN:STANDARD
TZOFFSETFROM:+0300
TZOFFSETTO:+0200
TZNAME:EET
DTSTART:20261025T010000
END:STANDARD
BEGIN:DAYLIGHT
TZOFFSETFROM:+0200
TZOFFSETTO:+0300
TZNAME:EEST
DTSTART:20270328T010000
END:DAYLIGHT
BEGIN:STANDARD
TZOFFSETFROM:+0300
TZOFFSETTO:+0200
TZNAME:EET
DTSTART:20271031T010000
END:STANDARD
END:VTIMEZONE
BEGIN:VEVENT
DTSTART;TZID=Europe/Helsinki:20240314T110000
DTEND;TZID=Europe/Helsinki:20240314T120000
DTSTAMP:20260421T202836
CREATED:20240125T131132Z
LAST-MODIFIED:20240408T123339Z
UID:10006021-1710414000-1710417600@kalenteri.niemikoti.fi
SUMMARY:Morning Coffee in english
DESCRIPTION:Opitaan ja pidetään yllä englannin kielen taitoa yhdessä keskustellen. Sopii kaikille kiinnostuneille\, ei taitotasovaatimuksia. \nConversation in English. No skill level requirements. \n 
URL:https://kalenteri.niemikoti.fi/tapahtuma/morning-coffee-in-english/2024-03-14/
LOCATION:Toimintakeskus Villa Borgis\, Linnavuorentie 13\, Helsinki\, 00950\, Finland
CATEGORIES:Toimintakeskus Villa Borgis
END:VEVENT
BEGIN:VEVENT
DTSTART;TZID=Europe/Helsinki:20240321T110000
DTEND;TZID=Europe/Helsinki:20240321T120000
DTSTAMP:20260421T202836
CREATED:20240125T131132Z
LAST-MODIFIED:20240408T123339Z
UID:10006022-1711018800-1711022400@kalenteri.niemikoti.fi
SUMMARY:Morning Coffee in english
DESCRIPTION:Opitaan ja pidetään yllä englannin kielen taitoa yhdessä keskustellen. Sopii kaikille kiinnostuneille\, ei taitotasovaatimuksia. \nConversation in English. No skill level requirements. \n 
URL:https://kalenteri.niemikoti.fi/tapahtuma/morning-coffee-in-english/2024-03-21/
LOCATION:Toimintakeskus Villa Borgis\, Linnavuorentie 13\, Helsinki\, 00950\, Finland
CATEGORIES:Toimintakeskus Villa Borgis
END:VEVENT
BEGIN:VEVENT
DTSTART;TZID=Europe/Helsinki:20240328T110000
DTEND;TZID=Europe/Helsinki:20240328T120000
DTSTAMP:20260421T202836
CREATED:20240125T131132Z
LAST-MODIFIED:20240408T123339Z
UID:10006023-1711623600-1711627200@kalenteri.niemikoti.fi
SUMMARY:Morning Coffee in english
DESCRIPTION:Opitaan ja pidetään yllä englannin kielen taitoa yhdessä keskustellen. Sopii kaikille kiinnostuneille\, ei taitotasovaatimuksia. \nConversation in English. No skill level requirements. \n 
URL:https://kalenteri.niemikoti.fi/tapahtuma/morning-coffee-in-english/2024-03-28/
LOCATION:Toimintakeskus Villa Borgis\, Linnavuorentie 13\, Helsinki\, 00950\, Finland
CATEGORIES:Toimintakeskus Villa Borgis
END:VEVENT
BEGIN:VEVENT
DTSTART;TZID=Europe/Helsinki:20240404T110000
DTEND;TZID=Europe/Helsinki:20240404T120000
DTSTAMP:20260421T202836
CREATED:20240125T131132Z
LAST-MODIFIED:20240408T123339Z
UID:10006024-1712228400-1712232000@kalenteri.niemikoti.fi
SUMMARY:Morning Coffee in english
DESCRIPTION:Opitaan ja pidetään yllä englannin kielen taitoa yhdessä keskustellen. Sopii kaikille kiinnostuneille\, ei taitotasovaatimuksia. \nConversation in English. No skill level requirements. \n 
URL:https://kalenteri.niemikoti.fi/tapahtuma/morning-coffee-in-english/2024-04-04/
LOCATION:Toimintakeskus Villa Borgis\, Linnavuorentie 13\, Helsinki\, 00950\, Finland
CATEGORIES:Toimintakeskus Villa Borgis
END:VEVENT
BEGIN:VEVENT
DTSTART;TZID=Europe/Helsinki:20240418T110000
DTEND;TZID=Europe/Helsinki:20240418T120000
DTSTAMP:20260421T202836
CREATED:20240125T131132Z
LAST-MODIFIED:20240408T123339Z
UID:10006025-1713438000-1713441600@kalenteri.niemikoti.fi
SUMMARY:Morning Coffee in english
DESCRIPTION:Opitaan ja pidetään yllä englannin kielen taitoa yhdessä keskustellen. Sopii kaikille kiinnostuneille\, ei taitotasovaatimuksia. \nConversation in English. No skill level requirements. \n 
URL:https://kalenteri.niemikoti.fi/tapahtuma/morning-coffee-in-english/2024-04-18/
LOCATION:Toimintakeskus Villa Borgis\, Linnavuorentie 13\, Helsinki\, 00950\, Finland
CATEGORIES:Toimintakeskus Villa Borgis
END:VEVENT
BEGIN:VEVENT
DTSTART;TZID=Europe/Helsinki:20240425T110000
DTEND;TZID=Europe/Helsinki:20240425T120000
DTSTAMP:20260421T202836
CREATED:20240125T131132Z
LAST-MODIFIED:20240408T123339Z
UID:10006026-1714042800-1714046400@kalenteri.niemikoti.fi
SUMMARY:Morning Coffee in english
DESCRIPTION:Opitaan ja pidetään yllä englannin kielen taitoa yhdessä keskustellen. Sopii kaikille kiinnostuneille\, ei taitotasovaatimuksia. \nConversation in English. No skill level requirements. \n 
URL:https://kalenteri.niemikoti.fi/tapahtuma/morning-coffee-in-english/2024-04-25/
LOCATION:Toimintakeskus Villa Borgis\, Linnavuorentie 13\, Helsinki\, 00950\, Finland
CATEGORIES:Toimintakeskus Villa Borgis
END:VEVENT
BEGIN:VEVENT
DTSTART;TZID=Europe/Helsinki:20251105T110000
DTEND;TZID=Europe/Helsinki:20251105T120000
DTSTAMP:20260421T202836
CREATED:20251030T092554Z
LAST-MODIFIED:20251030T093044Z
UID:10024945-1762340400-1762344000@kalenteri.niemikoti.fi
SUMMARY:Morning Coffee -englanninkielinen keskusteluryhmä
DESCRIPTION:Keskustellaan yhdessä englanniksi vaihtuvista aiheista. Sopii kaiken tasoisille englannin kielestä kiinnostuneille.
URL:https://kalenteri.niemikoti.fi/tapahtuma/morning-coffee-englanninkielinen-keskusteluryhma-3/2025-11-05/
LOCATION:Toimintakeskus Villa Borgis\, Linnavuorentie 13\, Helsinki\, 00950\, Finland
CATEGORIES:Toimintakeskus Villa Borgis
END:VEVENT
BEGIN:VEVENT
DTSTART;TZID=Europe/Helsinki:20251112T110000
DTEND;TZID=Europe/Helsinki:20251112T120000
DTSTAMP:20260421T202836
CREATED:20251030T092554Z
LAST-MODIFIED:20251030T093044Z
UID:10024946-1762945200-1762948800@kalenteri.niemikoti.fi
SUMMARY:Morning Coffee -englanninkielinen keskusteluryhmä
DESCRIPTION:Keskustellaan yhdessä englanniksi vaihtuvista aiheista. Sopii kaiken tasoisille englannin kielestä kiinnostuneille.
URL:https://kalenteri.niemikoti.fi/tapahtuma/morning-coffee-englanninkielinen-keskusteluryhma-3/2025-11-12/
LOCATION:Toimintakeskus Villa Borgis\, Linnavuorentie 13\, Helsinki\, 00950\, Finland
CATEGORIES:Toimintakeskus Villa Borgis
END:VEVENT
BEGIN:VEVENT
DTSTART;TZID=Europe/Helsinki:20251119T110000
DTEND;TZID=Europe/Helsinki:20251119T120000
DTSTAMP:20260421T202836
CREATED:20251030T092554Z
LAST-MODIFIED:20251030T093044Z
UID:10024947-1763550000-1763553600@kalenteri.niemikoti.fi
SUMMARY:Morning Coffee -englanninkielinen keskusteluryhmä
DESCRIPTION:Keskustellaan yhdessä englanniksi vaihtuvista aiheista. Sopii kaiken tasoisille englannin kielestä kiinnostuneille.
URL:https://kalenteri.niemikoti.fi/tapahtuma/morning-coffee-englanninkielinen-keskusteluryhma-3/2025-11-19/
LOCATION:Toimintakeskus Villa Borgis\, Linnavuorentie 13\, Helsinki\, 00950\, Finland
CATEGORIES:Toimintakeskus Villa Borgis
END:VEVENT
BEGIN:VEVENT
DTSTART;TZID=Europe/Helsinki:20251126T110000
DTEND;TZID=Europe/Helsinki:20251126T120000
DTSTAMP:20260421T202836
CREATED:20251030T092554Z
LAST-MODIFIED:20251030T093044Z
UID:10024948-1764154800-1764158400@kalenteri.niemikoti.fi
SUMMARY:Morning Coffee -englanninkielinen keskusteluryhmä
DESCRIPTION:Keskustellaan yhdessä englanniksi vaihtuvista aiheista. Sopii kaiken tasoisille englannin kielestä kiinnostuneille.
URL:https://kalenteri.niemikoti.fi/tapahtuma/morning-coffee-englanninkielinen-keskusteluryhma-3/2025-11-26/
LOCATION:Toimintakeskus Villa Borgis\, Linnavuorentie 13\, Helsinki\, 00950\, Finland
CATEGORIES:Toimintakeskus Villa Borgis
END:VEVENT
BEGIN:VEVENT
DTSTART;TZID=Europe/Helsinki:20260204T110000
DTEND;TZID=Europe/Helsinki:20260204T120000
DTSTAMP:20260421T202836
CREATED:20260126T120107Z
LAST-MODIFIED:20260410T062215Z
UID:10032389-1770202800-1770206400@kalenteri.niemikoti.fi
SUMMARY:Siemenestä syötäväksi -hyötypuutarharyhmä
DESCRIPTION:Taimien kasvatusta\, hyötykasvitietoutta ja Malmin lavakauluspuutarhan hoitoa kokemusasiantuntijan kanssa. Täydentyvä ryhmä\, ilmoittaudu mukaan!
URL:https://kalenteri.niemikoti.fi/tapahtuma/caffetteria-italiana-malmilla/2026-02-04/
LOCATION:Malmin päivätoimintakeskus\, Vanha Helsingintie 9\, Helsinki\, 00700\, Finland
CATEGORIES:Malmin päivätoimintakeskus
ATTACH;FMTTYPE=image/jpeg:https://kalenteri.niemikoti.fi/wp-content/uploads/2026/01/Siemenesta-syotavaksi-hyotypuutarharyhma-1.jpg
END:VEVENT
BEGIN:VEVENT
DTSTART;TZID=Europe/Helsinki:20260211T110000
DTEND;TZID=Europe/Helsinki:20260211T120000
DTSTAMP:20260421T202836
CREATED:20260126T120107Z
LAST-MODIFIED:20260410T062215Z
UID:10032390-1770807600-1770811200@kalenteri.niemikoti.fi
SUMMARY:Siemenestä syötäväksi -hyötypuutarharyhmä
DESCRIPTION:Taimien kasvatusta\, hyötykasvitietoutta ja Malmin lavakauluspuutarhan hoitoa kokemusasiantuntijan kanssa. Täydentyvä ryhmä\, ilmoittaudu mukaan!
URL:https://kalenteri.niemikoti.fi/tapahtuma/caffetteria-italiana-malmilla/2026-02-11/
LOCATION:Malmin päivätoimintakeskus\, Vanha Helsingintie 9\, Helsinki\, 00700\, Finland
CATEGORIES:Malmin päivätoimintakeskus
ATTACH;FMTTYPE=image/jpeg:https://kalenteri.niemikoti.fi/wp-content/uploads/2026/01/Siemenesta-syotavaksi-hyotypuutarharyhma-1.jpg
END:VEVENT
BEGIN:VEVENT
DTSTART;TZID=Europe/Helsinki:20260218T110000
DTEND;TZID=Europe/Helsinki:20260218T120000
DTSTAMP:20260421T202836
CREATED:20260126T120107Z
LAST-MODIFIED:20260410T062215Z
UID:10032391-1771412400-1771416000@kalenteri.niemikoti.fi
SUMMARY:Siemenestä syötäväksi -hyötypuutarharyhmä
DESCRIPTION:Taimien kasvatusta\, hyötykasvitietoutta ja Malmin lavakauluspuutarhan hoitoa kokemusasiantuntijan kanssa. Täydentyvä ryhmä\, ilmoittaudu mukaan!
URL:https://kalenteri.niemikoti.fi/tapahtuma/caffetteria-italiana-malmilla/2026-02-18/
LOCATION:Malmin päivätoimintakeskus\, Vanha Helsingintie 9\, Helsinki\, 00700\, Finland
CATEGORIES:Malmin päivätoimintakeskus
ATTACH;FMTTYPE=image/jpeg:https://kalenteri.niemikoti.fi/wp-content/uploads/2026/01/Siemenesta-syotavaksi-hyotypuutarharyhma-1.jpg
END:VEVENT
BEGIN:VEVENT
DTSTART;TZID=Europe/Helsinki:20260225T110000
DTEND;TZID=Europe/Helsinki:20260225T120000
DTSTAMP:20260421T202836
CREATED:20260126T120107Z
LAST-MODIFIED:20260410T062215Z
UID:10032392-1772017200-1772020800@kalenteri.niemikoti.fi
SUMMARY:Siemenestä syötäväksi -hyötypuutarharyhmä
DESCRIPTION:Taimien kasvatusta\, hyötykasvitietoutta ja Malmin lavakauluspuutarhan hoitoa kokemusasiantuntijan kanssa. Täydentyvä ryhmä\, ilmoittaudu mukaan!
URL:https://kalenteri.niemikoti.fi/tapahtuma/caffetteria-italiana-malmilla/2026-02-25/
LOCATION:Malmin päivätoimintakeskus\, Vanha Helsingintie 9\, Helsinki\, 00700\, Finland
CATEGORIES:Malmin päivätoimintakeskus
ATTACH;FMTTYPE=image/jpeg:https://kalenteri.niemikoti.fi/wp-content/uploads/2026/01/Siemenesta-syotavaksi-hyotypuutarharyhma-1.jpg
END:VEVENT
BEGIN:VEVENT
DTSTART;TZID=Europe/Helsinki:20260304T110000
DTEND;TZID=Europe/Helsinki:20260304T120000
DTSTAMP:20260421T202836
CREATED:20260126T120107Z
LAST-MODIFIED:20260410T062215Z
UID:10032393-1772622000-1772625600@kalenteri.niemikoti.fi
SUMMARY:Siemenestä syötäväksi -hyötypuutarharyhmä
DESCRIPTION:Taimien kasvatusta\, hyötykasvitietoutta ja Malmin lavakauluspuutarhan hoitoa kokemusasiantuntijan kanssa. Täydentyvä ryhmä\, ilmoittaudu mukaan!
URL:https://kalenteri.niemikoti.fi/tapahtuma/caffetteria-italiana-malmilla/2026-03-04/
LOCATION:Malmin päivätoimintakeskus\, Vanha Helsingintie 9\, Helsinki\, 00700\, Finland
CATEGORIES:Malmin päivätoimintakeskus
ATTACH;FMTTYPE=image/jpeg:https://kalenteri.niemikoti.fi/wp-content/uploads/2026/01/Siemenesta-syotavaksi-hyotypuutarharyhma-1.jpg
END:VEVENT
BEGIN:VEVENT
DTSTART;TZID=Europe/Helsinki:20260311T110000
DTEND;TZID=Europe/Helsinki:20260311T120000
DTSTAMP:20260421T202836
CREATED:20260126T120107Z
LAST-MODIFIED:20260410T062215Z
UID:10032394-1773226800-1773230400@kalenteri.niemikoti.fi
SUMMARY:Siemenestä syötäväksi -hyötypuutarharyhmä
DESCRIPTION:Taimien kasvatusta\, hyötykasvitietoutta ja Malmin lavakauluspuutarhan hoitoa kokemusasiantuntijan kanssa. Täydentyvä ryhmä\, ilmoittaudu mukaan!
URL:https://kalenteri.niemikoti.fi/tapahtuma/caffetteria-italiana-malmilla/2026-03-11/
LOCATION:Malmin päivätoimintakeskus\, Vanha Helsingintie 9\, Helsinki\, 00700\, Finland
CATEGORIES:Malmin päivätoimintakeskus
ATTACH;FMTTYPE=image/jpeg:https://kalenteri.niemikoti.fi/wp-content/uploads/2026/01/Siemenesta-syotavaksi-hyotypuutarharyhma-1.jpg
END:VEVENT
BEGIN:VEVENT
DTSTART;TZID=Europe/Helsinki:20260318T110000
DTEND;TZID=Europe/Helsinki:20260318T120000
DTSTAMP:20260421T202836
CREATED:20260126T120107Z
LAST-MODIFIED:20260410T062215Z
UID:10032395-1773831600-1773835200@kalenteri.niemikoti.fi
SUMMARY:Siemenestä syötäväksi -hyötypuutarharyhmä
DESCRIPTION:Taimien kasvatusta\, hyötykasvitietoutta ja Malmin lavakauluspuutarhan hoitoa kokemusasiantuntijan kanssa. Täydentyvä ryhmä\, ilmoittaudu mukaan!
URL:https://kalenteri.niemikoti.fi/tapahtuma/caffetteria-italiana-malmilla/2026-03-18/
LOCATION:Malmin päivätoimintakeskus\, Vanha Helsingintie 9\, Helsinki\, 00700\, Finland
CATEGORIES:Malmin päivätoimintakeskus
ATTACH;FMTTYPE=image/jpeg:https://kalenteri.niemikoti.fi/wp-content/uploads/2026/01/Siemenesta-syotavaksi-hyotypuutarharyhma-1.jpg
END:VEVENT
BEGIN:VEVENT
DTSTART;TZID=Europe/Helsinki:20260325T110000
DTEND;TZID=Europe/Helsinki:20260325T120000
DTSTAMP:20260421T202836
CREATED:20260126T120107Z
LAST-MODIFIED:20260410T062215Z
UID:10032396-1774436400-1774440000@kalenteri.niemikoti.fi
SUMMARY:Siemenestä syötäväksi -hyötypuutarharyhmä
DESCRIPTION:Taimien kasvatusta\, hyötykasvitietoutta ja Malmin lavakauluspuutarhan hoitoa kokemusasiantuntijan kanssa. Täydentyvä ryhmä\, ilmoittaudu mukaan!
URL:https://kalenteri.niemikoti.fi/tapahtuma/caffetteria-italiana-malmilla/2026-03-25/
LOCATION:Malmin päivätoimintakeskus\, Vanha Helsingintie 9\, Helsinki\, 00700\, Finland
CATEGORIES:Malmin päivätoimintakeskus
ATTACH;FMTTYPE=image/jpeg:https://kalenteri.niemikoti.fi/wp-content/uploads/2026/01/Siemenesta-syotavaksi-hyotypuutarharyhma-1.jpg
END:VEVENT
BEGIN:VEVENT
DTSTART;TZID=Europe/Helsinki:20260401T110000
DTEND;TZID=Europe/Helsinki:20260401T120000
DTSTAMP:20260421T202836
CREATED:20260126T120107Z
LAST-MODIFIED:20260410T062215Z
UID:10032397-1775041200-1775044800@kalenteri.niemikoti.fi
SUMMARY:Siemenestä syötäväksi -hyötypuutarharyhmä
DESCRIPTION:Taimien kasvatusta\, hyötykasvitietoutta ja Malmin lavakauluspuutarhan hoitoa kokemusasiantuntijan kanssa. Täydentyvä ryhmä\, ilmoittaudu mukaan!
URL:https://kalenteri.niemikoti.fi/tapahtuma/caffetteria-italiana-malmilla/2026-04-01/
LOCATION:Malmin päivätoimintakeskus\, Vanha Helsingintie 9\, Helsinki\, 00700\, Finland
CATEGORIES:Malmin päivätoimintakeskus
ATTACH;FMTTYPE=image/jpeg:https://kalenteri.niemikoti.fi/wp-content/uploads/2026/01/Siemenesta-syotavaksi-hyotypuutarharyhma-1.jpg
END:VEVENT
BEGIN:VEVENT
DTSTART;TZID=Europe/Helsinki:20260408T110000
DTEND;TZID=Europe/Helsinki:20260408T120000
DTSTAMP:20260421T202836
CREATED:20260126T120107Z
LAST-MODIFIED:20260410T062215Z
UID:10032398-1775646000-1775649600@kalenteri.niemikoti.fi
SUMMARY:Siemenestä syötäväksi -hyötypuutarharyhmä
DESCRIPTION:Taimien kasvatusta\, hyötykasvitietoutta ja Malmin lavakauluspuutarhan hoitoa kokemusasiantuntijan kanssa. Täydentyvä ryhmä\, ilmoittaudu mukaan!
URL:https://kalenteri.niemikoti.fi/tapahtuma/caffetteria-italiana-malmilla/2026-04-08/
LOCATION:Malmin päivätoimintakeskus\, Vanha Helsingintie 9\, Helsinki\, 00700\, Finland
CATEGORIES:Malmin päivätoimintakeskus
ATTACH;FMTTYPE=image/jpeg:https://kalenteri.niemikoti.fi/wp-content/uploads/2026/01/Siemenesta-syotavaksi-hyotypuutarharyhma-1.jpg
END:VEVENT
BEGIN:VEVENT
DTSTART;TZID=Europe/Helsinki:20260415T110000
DTEND;TZID=Europe/Helsinki:20260415T120000
DTSTAMP:20260421T202836
CREATED:20260126T120107Z
LAST-MODIFIED:20260410T062215Z
UID:10032399-1776250800-1776254400@kalenteri.niemikoti.fi
SUMMARY:Siemenestä syötäväksi -hyötypuutarharyhmä
DESCRIPTION:Taimien kasvatusta\, hyötykasvitietoutta ja Malmin lavakauluspuutarhan hoitoa kokemusasiantuntijan kanssa. Täydentyvä ryhmä\, ilmoittaudu mukaan!
URL:https://kalenteri.niemikoti.fi/tapahtuma/caffetteria-italiana-malmilla/2026-04-15/
LOCATION:Malmin päivätoimintakeskus\, Vanha Helsingintie 9\, Helsinki\, 00700\, Finland
CATEGORIES:Malmin päivätoimintakeskus
ATTACH;FMTTYPE=image/jpeg:https://kalenteri.niemikoti.fi/wp-content/uploads/2026/01/Siemenesta-syotavaksi-hyotypuutarharyhma-1.jpg
END:VEVENT
END:VCALENDAR