BEGIN:VCALENDAR
VERSION:2.0
PRODID:-//Tapahtumakalenteri - ECPv6.15.18//NONSGML v1.0//EN
CALSCALE:GREGORIAN
METHOD:PUBLISH
X-WR-CALNAME:Tapahtumakalenteri
X-ORIGINAL-URL:https://kalenteri.niemikoti.fi
X-WR-CALDESC:Tapahtumat Tapahtumakalenteri
REFRESH-INTERVAL;VALUE=DURATION:PT1H
X-Robots-Tag:noindex
X-PUBLISHED-TTL:PT1H
BEGIN:VTIMEZONE
TZID:Europe/Helsinki
BEGIN:DAYLIGHT
TZOFFSETFROM:+0200
TZOFFSETTO:+0300
TZNAME:EEST
DTSTART:20220327T010000
END:DAYLIGHT
BEGIN:STANDARD
TZOFFSETFROM:+0300
TZOFFSETTO:+0200
TZNAME:EET
DTSTART:20221030T010000
END:STANDARD
BEGIN:DAYLIGHT
TZOFFSETFROM:+0200
TZOFFSETTO:+0300
TZNAME:EEST
DTSTART:20230326T010000
END:DAYLIGHT
BEGIN:STANDARD
TZOFFSETFROM:+0300
TZOFFSETTO:+0200
TZNAME:EET
DTSTART:20231029T010000
END:STANDARD
BEGIN:DAYLIGHT
TZOFFSETFROM:+0200
TZOFFSETTO:+0300
TZNAME:EEST
DTSTART:20240331T010000
END:DAYLIGHT
BEGIN:STANDARD
TZOFFSETFROM:+0300
TZOFFSETTO:+0200
TZNAME:EET
DTSTART:20241027T010000
END:STANDARD
BEGIN:DAYLIGHT
TZOFFSETFROM:+0200
TZOFFSETTO:+0300
TZNAME:EEST
DTSTART:20250330T010000
END:DAYLIGHT
BEGIN:STANDARD
TZOFFSETFROM:+0300
TZOFFSETTO:+0200
TZNAME:EET
DTSTART:20251026T010000
END:STANDARD
BEGIN:DAYLIGHT
TZOFFSETFROM:+0200
TZOFFSETTO:+0300
TZNAME:EEST
DTSTART:20260329T010000
END:DAYLIGHT
BEGIN:STANDARD
TZOFFSETFROM:+0300
TZOFFSETTO:+0200
TZNAME:EET
DTSTART:20261025T010000
END:STANDARD
END:VTIMEZONE
BEGIN:VEVENT
DTSTART;VALUE=DATE:20251201
DTEND;VALUE=DATE:20251206
DTSTAMP:20260424T162605
CREATED:20251202T182554Z
LAST-MODIFIED:20251202T182744Z
UID:10025649-1764547200-1764979199@kalenteri.niemikoti.fi
SUMMARY:Talvileiri Kesäharjussa 1.-5.12.2025
DESCRIPTION:Päivätoiminnan Talvileiri Iitin Kesäharjussa 1.-5.12.2025. \n  \nIlmoittautumiset 14.11. mennessä: \nMalmin päivätoimintakeskus: 050-4040025\, malmi@niemikoti.fi \nToimintakeskus Villa Borgis: 0400-560176\, villaborgis@niemikoti.fi
URL:https://kalenteri.niemikoti.fi/tapahtuma/talvileiri-kesaharjussa-1-5-12-2025/
LOCATION:Malmin päivätoimintakeskus\, Vanha Helsingintie 9\, Helsinki\, 00700\, Finland
CATEGORIES:Malmin päivätoimintakeskus,Toimintakeskus Villa Borgis
ATTACH;FMTTYPE=image/jpeg:https://kalenteri.niemikoti.fi/wp-content/uploads/2025/12/Talvileiri.jpg
END:VEVENT
BEGIN:VEVENT
DTSTART;VALUE=DATE:20250728
DTEND;VALUE=DATE:20250802
DTSTAMP:20260424T162605
CREATED:20250612T134948Z
LAST-MODIFIED:20250612T135358Z
UID:10023267-1753660800-1754092799@kalenteri.niemikoti.fi
SUMMARY:Päivätoiminnan kesäleiri
DESCRIPTION:Päivätoiminnan kesäleiri Iitin Kesäharjussa 28.7.-1.8.2025. \n  \nIlmoittautumiset 10.7. mennessä: \nMalmin päivätoimintakeskus: 050-4040025\, malmi@niemikoti.fi \nToimintakeskus Villa Borgis: 0400-560176\, villaborgis@niemikoti.fi
URL:https://kalenteri.niemikoti.fi/tapahtuma/paivatoiminnan-kesaleiri/
LOCATION:Malmin päivätoimintakeskus\, Vanha Helsingintie 9\, Helsinki\, 00700\, Finland
CATEGORIES:Malmin päivätoimintakeskus,Toimintakeskus Villa Borgis
ATTACH;FMTTYPE=image/jpeg:https://kalenteri.niemikoti.fi/wp-content/uploads/2025/06/Kesaleiri_2025.jpg
END:VEVENT
BEGIN:VEVENT
DTSTART;VALUE=DATE:20241213
DTEND;VALUE=DATE:20241214
DTSTAMP:20260424T162605
CREATED:20241209T113811Z
LAST-MODIFIED:20251202T182843Z
UID:10013638-1734048000-1734134399@kalenteri.niemikoti.fi
SUMMARY:Talvileiri Kesäharjussa 9.-13.12.2024
DESCRIPTION:Malmin päivätoimintakeskuksen ja Toimintakeskus Villa Borgiksen yhteinen talvileiri Iitin Kesäharjussa 9.-13.12.2024. Ennakkoilmoittautuminen 28.11. mennessä!
URL:https://kalenteri.niemikoti.fi/tapahtuma/talvileiri-kesaharjussa-9-13-12-2024/2024-12-13/
LOCATION:Malmin päivätoimintakeskus\, Vanha Helsingintie 9\, Helsinki\, 00700\, Finland
CATEGORIES:Malmin päivätoimintakeskus,Toimintakeskus Villa Borgis
ATTACH;FMTTYPE=image/jpeg:https://kalenteri.niemikoti.fi/wp-content/uploads/2024/12/Talvileiri.jpg
END:VEVENT
BEGIN:VEVENT
DTSTART;VALUE=DATE:20241212
DTEND;VALUE=DATE:20241213
DTSTAMP:20260424T162605
CREATED:20241209T113811Z
LAST-MODIFIED:20251202T182843Z
UID:10013637-1733961600-1734047999@kalenteri.niemikoti.fi
SUMMARY:Talvileiri Kesäharjussa 9.-13.12.2024
DESCRIPTION:Malmin päivätoimintakeskuksen ja Toimintakeskus Villa Borgiksen yhteinen talvileiri Iitin Kesäharjussa 9.-13.12.2024. Ennakkoilmoittautuminen 28.11. mennessä!
URL:https://kalenteri.niemikoti.fi/tapahtuma/talvileiri-kesaharjussa-9-13-12-2024/2024-12-12/
LOCATION:Malmin päivätoimintakeskus\, Vanha Helsingintie 9\, Helsinki\, 00700\, Finland
CATEGORIES:Malmin päivätoimintakeskus,Toimintakeskus Villa Borgis
ATTACH;FMTTYPE=image/jpeg:https://kalenteri.niemikoti.fi/wp-content/uploads/2024/12/Talvileiri.jpg
END:VEVENT
BEGIN:VEVENT
DTSTART;VALUE=DATE:20241211
DTEND;VALUE=DATE:20241212
DTSTAMP:20260424T162605
CREATED:20241209T113811Z
LAST-MODIFIED:20251202T182843Z
UID:10013636-1733875200-1733961599@kalenteri.niemikoti.fi
SUMMARY:Talvileiri Kesäharjussa 9.-13.12.2024
DESCRIPTION:Malmin päivätoimintakeskuksen ja Toimintakeskus Villa Borgiksen yhteinen talvileiri Iitin Kesäharjussa 9.-13.12.2024. Ennakkoilmoittautuminen 28.11. mennessä!
URL:https://kalenteri.niemikoti.fi/tapahtuma/talvileiri-kesaharjussa-9-13-12-2024/2024-12-11/
LOCATION:Malmin päivätoimintakeskus\, Vanha Helsingintie 9\, Helsinki\, 00700\, Finland
CATEGORIES:Malmin päivätoimintakeskus,Toimintakeskus Villa Borgis
ATTACH;FMTTYPE=image/jpeg:https://kalenteri.niemikoti.fi/wp-content/uploads/2024/12/Talvileiri.jpg
END:VEVENT
BEGIN:VEVENT
DTSTART;VALUE=DATE:20241210
DTEND;VALUE=DATE:20241211
DTSTAMP:20260424T162605
CREATED:20241209T113811Z
LAST-MODIFIED:20251202T182843Z
UID:10013635-1733788800-1733875199@kalenteri.niemikoti.fi
SUMMARY:Talvileiri Kesäharjussa 9.-13.12.2024
DESCRIPTION:Malmin päivätoimintakeskuksen ja Toimintakeskus Villa Borgiksen yhteinen talvileiri Iitin Kesäharjussa 9.-13.12.2024. Ennakkoilmoittautuminen 28.11. mennessä!
URL:https://kalenteri.niemikoti.fi/tapahtuma/talvileiri-kesaharjussa-9-13-12-2024/2024-12-10/
LOCATION:Malmin päivätoimintakeskus\, Vanha Helsingintie 9\, Helsinki\, 00700\, Finland
CATEGORIES:Malmin päivätoimintakeskus,Toimintakeskus Villa Borgis
ATTACH;FMTTYPE=image/jpeg:https://kalenteri.niemikoti.fi/wp-content/uploads/2024/12/Talvileiri.jpg
END:VEVENT
BEGIN:VEVENT
DTSTART;VALUE=DATE:20241209
DTEND;VALUE=DATE:20241210
DTSTAMP:20260424T162605
CREATED:20241209T113811Z
LAST-MODIFIED:20251202T182843Z
UID:10013634-1733702400-1733788799@kalenteri.niemikoti.fi
SUMMARY:Talvileiri Kesäharjussa 9.-13.12.2024
DESCRIPTION:Malmin päivätoimintakeskuksen ja Toimintakeskus Villa Borgiksen yhteinen talvileiri Iitin Kesäharjussa 9.-13.12.2024. Ennakkoilmoittautuminen 28.11. mennessä!
URL:https://kalenteri.niemikoti.fi/tapahtuma/talvileiri-kesaharjussa-9-13-12-2024/2024-12-09/
LOCATION:Malmin päivätoimintakeskus\, Vanha Helsingintie 9\, Helsinki\, 00700\, Finland
CATEGORIES:Malmin päivätoimintakeskus,Toimintakeskus Villa Borgis
ATTACH;FMTTYPE=image/jpeg:https://kalenteri.niemikoti.fi/wp-content/uploads/2024/12/Talvileiri.jpg
END:VEVENT
BEGIN:VEVENT
DTSTART;TZID=Europe/Helsinki:20240506T080000
DTEND;TZID=Europe/Helsinki:20240508T150000
DTSTAMP:20260424T162605
CREATED:20240409T073548Z
LAST-MODIFIED:20240409T073548Z
UID:10010518-1714982400-1715180400@kalenteri.niemikoti.fi
SUMMARY:Kevätleiri Kesäharjussa
DESCRIPTION:Lähde mukaan keväiseen Kesäharjuun! Luvassa mukavaa keväistä ohjelmaa\, mm. piha- ja lautapelejä\, kädentaitoja\, liikkumista ja tietenkin saunomista ja hyvää ruokaa. Leirille voivat ilmoittautua kaikki Niemikotisäätiön palvelunkäyttäjät. Paikat täytetään ilmoittautumisjärjestyksessä.
URL:https://kalenteri.niemikoti.fi/tapahtuma/kevatleiri-kesaharjussa/
CATEGORIES:Kesäharjun toimintakeskus,Malmin päivätoimintakeskus,Toimintakeskus Villa Borgis
ATTACH;FMTTYPE=image/jpeg:https://kalenteri.niemikoti.fi/wp-content/uploads/2024/04/Kopio-Villa-Borgiksen-ja-Malmin-paivatoiminnan-kevatleiri-Iitin-Kesaharjussa-ma-ke-6.-8.5.jpg
END:VEVENT
BEGIN:VEVENT
DTSTART;TZID=Europe/Helsinki:20240212T090000
DTEND;TZID=Europe/Helsinki:20240216T160000
DTSTAMP:20260424T162605
CREATED:20240129T152312Z
LAST-MODIFIED:20240129T152312Z
UID:10005811-1707728400-1708099200@kalenteri.niemikoti.fi
SUMMARY:Kulttuuripaja Elviksen talvileiri Kesäharjussa
DESCRIPTION:Leirillä on tilaa\, joten jos olet niemikotisäätiöläisiä ja iältäsi 18-35v. ja haluat leireilemään\, niin ota yhteyttä ASAP Elvikseen! Leirin ohjelmassa mm. ulkoilua\, joogaa\, kuvista\, kädentaitoja\, lautapelejä\, musisointia\, pilkkiretki\, pulkkamäki\, nokipannukaffet ja leffan katselua. Leirin hinta 105€ ja se sisältää matkat\, ruuat (aamupala\, lounas\, päiväkahvit ja iltapala)\, liinavaatteet ja ohjelman.
URL:https://kalenteri.niemikoti.fi/tapahtuma/kulttuuripaja-elviksen-talvileiri-kesaharjussa/
CATEGORIES:Kulttuuripaja ELVIS
ATTACH;FMTTYPE=image/png:https://kalenteri.niemikoti.fi/wp-content/uploads/2024/01/Elviksen-talvileiri-2024.png
END:VEVENT
BEGIN:VEVENT
DTSTART;TZID=Europe/Helsinki:20231215T090000
DTEND;TZID=Europe/Helsinki:20231215T180000
DTSTAMP:20260424T162605
CREATED:20231027T072039Z
LAST-MODIFIED:20231211T104614Z
UID:10004151-1702630800-1702663200@kalenteri.niemikoti.fi
SUMMARY:Pikkujouluretki Kesäharjuun
DESCRIPTION:Koko päivätoiminnan yhdessä järjestämä pikkujouluretki Iitin Kesäharjuun. Ilmoittaudu!
URL:https://kalenteri.niemikoti.fi/tapahtuma/pikkujouluretki-kesaharjuun/
LOCATION:Toimintakeskus Villa Borgis\, Linnavuorentie 13\, Helsinki\, 00950\, Finland
CATEGORIES:Toimintakeskus Villa Borgis
ATTACH;FMTTYPE=image/jpeg:https://kalenteri.niemikoti.fi/wp-content/uploads/2023/10/pikkujouluretki2023.jpg
END:VEVENT
BEGIN:VEVENT
DTSTART;VALUE=DATE:20230925
DTEND;VALUE=DATE:20230928
DTSTAMP:20260424T162605
CREATED:20230822T115903Z
LAST-MODIFIED:20230823T064703Z
UID:10001961-1695600000-1695859199@kalenteri.niemikoti.fi
SUMMARY:Luontoleiri
DESCRIPTION:Syksyinen luontoleiri Iitin Kesäharjussa yhdessä Malmin päivätoimintakeskuksen kanssa. Leirin hintaan (n. 80-90 €\, tarkka summa lasketaan kun leirille osallistuvien tarkka määrä on tiedossa) sisältyy bussikyydit Helsingistä\, majoitus\, ruoat\, lakanat\, leiriohjelma ja mahtava leiriseura! Ilmoittaudu mukaan! \nLeirin kesto ma 25.9. klo 9 – ke 27.9. klo 15
URL:https://kalenteri.niemikoti.fi/tapahtuma/luontoleiri/
LOCATION:Toimintakeskus Villa Borgis\, Linnavuorentie 13\, Helsinki\, 00950\, Finland
CATEGORIES:Toimintakeskus Villa Borgis
END:VEVENT
END:VCALENDAR