BEGIN:VCALENDAR
VERSION:2.0
PRODID:-//Tapahtumakalenteri - ECPv6.15.18//NONSGML v1.0//EN
CALSCALE:GREGORIAN
METHOD:PUBLISH
X-WR-CALNAME:Tapahtumakalenteri
X-ORIGINAL-URL:https://kalenteri.niemikoti.fi
X-WR-CALDESC:Tapahtumat Tapahtumakalenteri
REFRESH-INTERVAL;VALUE=DURATION:PT1H
X-Robots-Tag:noindex
X-PUBLISHED-TTL:PT1H
BEGIN:VTIMEZONE
TZID:Europe/Helsinki
BEGIN:DAYLIGHT
TZOFFSETFROM:+0200
TZOFFSETTO:+0300
TZNAME:EEST
DTSTART:20250330T010000
END:DAYLIGHT
BEGIN:STANDARD
TZOFFSETFROM:+0300
TZOFFSETTO:+0200
TZNAME:EET
DTSTART:20251026T010000
END:STANDARD
BEGIN:DAYLIGHT
TZOFFSETFROM:+0200
TZOFFSETTO:+0300
TZNAME:EEST
DTSTART:20260329T010000
END:DAYLIGHT
BEGIN:STANDARD
TZOFFSETFROM:+0300
TZOFFSETTO:+0200
TZNAME:EET
DTSTART:20261025T010000
END:STANDARD
BEGIN:DAYLIGHT
TZOFFSETFROM:+0200
TZOFFSETTO:+0300
TZNAME:EEST
DTSTART:20270328T010000
END:DAYLIGHT
BEGIN:STANDARD
TZOFFSETFROM:+0300
TZOFFSETTO:+0200
TZNAME:EET
DTSTART:20271031T010000
END:STANDARD
END:VTIMEZONE
BEGIN:VEVENT
DTSTART;TZID=Europe/Helsinki:20260302T113000
DTEND;TZID=Europe/Helsinki:20260302T120000
DTSTAMP:20260421T030510
CREATED:20251217T074626Z
LAST-MODIFIED:20260331T081041Z
UID:10033952-1772451000-1772452800@kalenteri.niemikoti.fi
SUMMARY:Kävelyryhmä
DESCRIPTION:Pieni kävelyretki Villa Borgiksen lähiluontoon.
URL:https://kalenteri.niemikoti.fi/tapahtuma/kavelyryhma-4/2026-03-02/
LOCATION:Toimintakeskus Villa Borgis\, Linnavuorentie 13\, Helsinki\, 00950\, Finland
CATEGORIES:Toimintakeskus Villa Borgis
END:VEVENT
BEGIN:VEVENT
DTSTART;TZID=Europe/Helsinki:20260303T110000
DTEND;TZID=Europe/Helsinki:20260303T120000
DTSTAMP:20260421T030510
CREATED:20260126T114459Z
LAST-MODIFIED:20260126T114459Z
UID:10032131-1772535600-1772539200@kalenteri.niemikoti.fi
SUMMARY:Luonto & liikunta -kävelyryhmä Malmilla
DESCRIPTION:Uusille tilaa\, ilmoittaudu mukaan! Kaksi ryhmää tarpeen mukaan\, tehdään sekä pidempi että lyhyempi kävelylenkki.
URL:https://kalenteri.niemikoti.fi/tapahtuma/luonto-liikunta-kavelyryhma-malmilla-3/2026-03-03/
LOCATION:Malmin päivätoimintakeskus\, Vanha Helsingintie 9\, Helsinki\, 00700\, Finland
CATEGORIES:Malmin päivätoimintakeskus
END:VEVENT
BEGIN:VEVENT
DTSTART;TZID=Europe/Helsinki:20260305T111500
DTEND;TZID=Europe/Helsinki:20260305T120000
DTSTAMP:20260421T030510
CREATED:20260213T090216Z
LAST-MODIFIED:20260213T090216Z
UID:10033794-1772709300-1772712000@kalenteri.niemikoti.fi
SUMMARY:Lempeä liikunta
DESCRIPTION:Kaikille sopivaa rauhallista liikuskelua; tuolijumppaa\, keppijumppaa\, kävelylenkkejä ym.
URL:https://kalenteri.niemikoti.fi/tapahtuma/lempea-liikunta-5/2026-03-05/
LOCATION:Toimintakeskus Villa Borgis\, Linnavuorentie 13\, Helsinki\, 00950\, Finland
CATEGORIES:Toimintakeskus Villa Borgis
END:VEVENT
BEGIN:VEVENT
DTSTART;TZID=Europe/Helsinki:20260306T100000
DTEND;TZID=Europe/Helsinki:20260306T110000
DTSTAMP:20260421T030510
CREATED:20260126T132848Z
LAST-MODIFIED:20260304T131909Z
UID:10036058-1772791200-1772794800@kalenteri.niemikoti.fi
SUMMARY:Tuolijooga
DESCRIPTION:Rauhallista venyttelyä tuolilla istuen ja tuolia tukena käyttäen. Lopussa rentoutus. \nTäydentyvä ryhmä\, ilmoittaudu.
URL:https://kalenteri.niemikoti.fi/tapahtuma/tuolijooga-malmilla/2026-03-06/
LOCATION:Malmin päivätoimintakeskus\, Vanha Helsingintie 9\, Helsinki\, 00700\, Finland
CATEGORIES:Malmin päivätoimintakeskus
ATTACH;FMTTYPE=image/jpeg:https://kalenteri.niemikoti.fi/wp-content/uploads/2026/01/Tuolijooga.jpg
END:VEVENT
BEGIN:VEVENT
DTSTART;TZID=Europe/Helsinki:20260309T113000
DTEND;TZID=Europe/Helsinki:20260309T120000
DTSTAMP:20260421T030510
CREATED:20251217T074626Z
LAST-MODIFIED:20260331T081041Z
UID:10033953-1773055800-1773057600@kalenteri.niemikoti.fi
SUMMARY:Kävelyryhmä
DESCRIPTION:Pieni kävelyretki Villa Borgiksen lähiluontoon.
URL:https://kalenteri.niemikoti.fi/tapahtuma/kavelyryhma-4/2026-03-09/
LOCATION:Toimintakeskus Villa Borgis\, Linnavuorentie 13\, Helsinki\, 00950\, Finland
CATEGORIES:Toimintakeskus Villa Borgis
END:VEVENT
BEGIN:VEVENT
DTSTART;TZID=Europe/Helsinki:20260310T110000
DTEND;TZID=Europe/Helsinki:20260310T120000
DTSTAMP:20260421T030510
CREATED:20260126T114459Z
LAST-MODIFIED:20260126T114459Z
UID:10032132-1773140400-1773144000@kalenteri.niemikoti.fi
SUMMARY:Luonto & liikunta -kävelyryhmä Malmilla
DESCRIPTION:Uusille tilaa\, ilmoittaudu mukaan! Kaksi ryhmää tarpeen mukaan\, tehdään sekä pidempi että lyhyempi kävelylenkki.
URL:https://kalenteri.niemikoti.fi/tapahtuma/luonto-liikunta-kavelyryhma-malmilla-3/2026-03-10/
LOCATION:Malmin päivätoimintakeskus\, Vanha Helsingintie 9\, Helsinki\, 00700\, Finland
CATEGORIES:Malmin päivätoimintakeskus
END:VEVENT
BEGIN:VEVENT
DTSTART;TZID=Europe/Helsinki:20260313T100000
DTEND;TZID=Europe/Helsinki:20260313T110000
DTSTAMP:20260421T030510
CREATED:20260126T132848Z
LAST-MODIFIED:20260304T131909Z
UID:10036059-1773396000-1773399600@kalenteri.niemikoti.fi
SUMMARY:Tuolijooga
DESCRIPTION:Rauhallista venyttelyä tuolilla istuen ja tuolia tukena käyttäen. Lopussa rentoutus. \nTäydentyvä ryhmä\, ilmoittaudu.
URL:https://kalenteri.niemikoti.fi/tapahtuma/tuolijooga-malmilla/2026-03-13/
LOCATION:Malmin päivätoimintakeskus\, Vanha Helsingintie 9\, Helsinki\, 00700\, Finland
CATEGORIES:Malmin päivätoimintakeskus
ATTACH;FMTTYPE=image/jpeg:https://kalenteri.niemikoti.fi/wp-content/uploads/2026/01/Tuolijooga.jpg
END:VEVENT
BEGIN:VEVENT
DTSTART;TZID=Europe/Helsinki:20260316T113000
DTEND;TZID=Europe/Helsinki:20260316T120000
DTSTAMP:20260421T030510
CREATED:20251217T074626Z
LAST-MODIFIED:20260331T081041Z
UID:10033954-1773660600-1773662400@kalenteri.niemikoti.fi
SUMMARY:Kävelyryhmä
DESCRIPTION:Pieni kävelyretki Villa Borgiksen lähiluontoon.
URL:https://kalenteri.niemikoti.fi/tapahtuma/kavelyryhma-4/2026-03-16/
LOCATION:Toimintakeskus Villa Borgis\, Linnavuorentie 13\, Helsinki\, 00950\, Finland
CATEGORIES:Toimintakeskus Villa Borgis
END:VEVENT
BEGIN:VEVENT
DTSTART;TZID=Europe/Helsinki:20260317T110000
DTEND;TZID=Europe/Helsinki:20260317T120000
DTSTAMP:20260421T030510
CREATED:20260126T114459Z
LAST-MODIFIED:20260126T114459Z
UID:10032133-1773745200-1773748800@kalenteri.niemikoti.fi
SUMMARY:Luonto & liikunta -kävelyryhmä Malmilla
DESCRIPTION:Uusille tilaa\, ilmoittaudu mukaan! Kaksi ryhmää tarpeen mukaan\, tehdään sekä pidempi että lyhyempi kävelylenkki.
URL:https://kalenteri.niemikoti.fi/tapahtuma/luonto-liikunta-kavelyryhma-malmilla-3/2026-03-17/
LOCATION:Malmin päivätoimintakeskus\, Vanha Helsingintie 9\, Helsinki\, 00700\, Finland
CATEGORIES:Malmin päivätoimintakeskus
END:VEVENT
BEGIN:VEVENT
DTSTART;TZID=Europe/Helsinki:20260319T111500
DTEND;TZID=Europe/Helsinki:20260319T120000
DTSTAMP:20260421T030510
CREATED:20260213T090216Z
LAST-MODIFIED:20260213T090216Z
UID:10033795-1773918900-1773921600@kalenteri.niemikoti.fi
SUMMARY:Lempeä liikunta
DESCRIPTION:Kaikille sopivaa rauhallista liikuskelua; tuolijumppaa\, keppijumppaa\, kävelylenkkejä ym.
URL:https://kalenteri.niemikoti.fi/tapahtuma/lempea-liikunta-5/2026-03-19/
LOCATION:Toimintakeskus Villa Borgis\, Linnavuorentie 13\, Helsinki\, 00950\, Finland
CATEGORIES:Toimintakeskus Villa Borgis
END:VEVENT
BEGIN:VEVENT
DTSTART;TZID=Europe/Helsinki:20260320T100000
DTEND;TZID=Europe/Helsinki:20260320T110000
DTSTAMP:20260421T030510
CREATED:20260126T132848Z
LAST-MODIFIED:20260304T131909Z
UID:10036060-1774000800-1774004400@kalenteri.niemikoti.fi
SUMMARY:Tuolijooga
DESCRIPTION:Rauhallista venyttelyä tuolilla istuen ja tuolia tukena käyttäen. Lopussa rentoutus. \nTäydentyvä ryhmä\, ilmoittaudu.
URL:https://kalenteri.niemikoti.fi/tapahtuma/tuolijooga-malmilla/2026-03-20/
LOCATION:Malmin päivätoimintakeskus\, Vanha Helsingintie 9\, Helsinki\, 00700\, Finland
CATEGORIES:Malmin päivätoimintakeskus
ATTACH;FMTTYPE=image/jpeg:https://kalenteri.niemikoti.fi/wp-content/uploads/2026/01/Tuolijooga.jpg
END:VEVENT
BEGIN:VEVENT
DTSTART;TZID=Europe/Helsinki:20260323T113000
DTEND;TZID=Europe/Helsinki:20260323T120000
DTSTAMP:20260421T030510
CREATED:20251217T074626Z
LAST-MODIFIED:20260331T081041Z
UID:10033955-1774265400-1774267200@kalenteri.niemikoti.fi
SUMMARY:Kävelyryhmä
DESCRIPTION:Pieni kävelyretki Villa Borgiksen lähiluontoon.
URL:https://kalenteri.niemikoti.fi/tapahtuma/kavelyryhma-4/2026-03-23/
LOCATION:Toimintakeskus Villa Borgis\, Linnavuorentie 13\, Helsinki\, 00950\, Finland
CATEGORIES:Toimintakeskus Villa Borgis
END:VEVENT
BEGIN:VEVENT
DTSTART;TZID=Europe/Helsinki:20260324T110000
DTEND;TZID=Europe/Helsinki:20260324T120000
DTSTAMP:20260421T030510
CREATED:20260126T114459Z
LAST-MODIFIED:20260126T114459Z
UID:10032134-1774350000-1774353600@kalenteri.niemikoti.fi
SUMMARY:Luonto & liikunta -kävelyryhmä Malmilla
DESCRIPTION:Uusille tilaa\, ilmoittaudu mukaan! Kaksi ryhmää tarpeen mukaan\, tehdään sekä pidempi että lyhyempi kävelylenkki.
URL:https://kalenteri.niemikoti.fi/tapahtuma/luonto-liikunta-kavelyryhma-malmilla-3/2026-03-24/
LOCATION:Malmin päivätoimintakeskus\, Vanha Helsingintie 9\, Helsinki\, 00700\, Finland
CATEGORIES:Malmin päivätoimintakeskus
END:VEVENT
BEGIN:VEVENT
DTSTART;TZID=Europe/Helsinki:20260326T111500
DTEND;TZID=Europe/Helsinki:20260326T120000
DTSTAMP:20260421T030510
CREATED:20260213T090216Z
LAST-MODIFIED:20260213T090216Z
UID:10033796-1774523700-1774526400@kalenteri.niemikoti.fi
SUMMARY:Lempeä liikunta
DESCRIPTION:Kaikille sopivaa rauhallista liikuskelua; tuolijumppaa\, keppijumppaa\, kävelylenkkejä ym.
URL:https://kalenteri.niemikoti.fi/tapahtuma/lempea-liikunta-5/2026-03-26/
LOCATION:Toimintakeskus Villa Borgis\, Linnavuorentie 13\, Helsinki\, 00950\, Finland
CATEGORIES:Toimintakeskus Villa Borgis
END:VEVENT
BEGIN:VEVENT
DTSTART;TZID=Europe/Helsinki:20260327T100000
DTEND;TZID=Europe/Helsinki:20260327T110000
DTSTAMP:20260421T030510
CREATED:20260126T132848Z
LAST-MODIFIED:20260304T131909Z
UID:10036061-1774605600-1774609200@kalenteri.niemikoti.fi
SUMMARY:Tuolijooga
DESCRIPTION:Rauhallista venyttelyä tuolilla istuen ja tuolia tukena käyttäen. Lopussa rentoutus. \nTäydentyvä ryhmä\, ilmoittaudu.
URL:https://kalenteri.niemikoti.fi/tapahtuma/tuolijooga-malmilla/2026-03-27/
LOCATION:Malmin päivätoimintakeskus\, Vanha Helsingintie 9\, Helsinki\, 00700\, Finland
CATEGORIES:Malmin päivätoimintakeskus
ATTACH;FMTTYPE=image/jpeg:https://kalenteri.niemikoti.fi/wp-content/uploads/2026/01/Tuolijooga.jpg
END:VEVENT
BEGIN:VEVENT
DTSTART;TZID=Europe/Helsinki:20260330T113000
DTEND;TZID=Europe/Helsinki:20260330T120000
DTSTAMP:20260421T030510
CREATED:20251217T074626Z
LAST-MODIFIED:20260331T081041Z
UID:10036982-1774870200-1774872000@kalenteri.niemikoti.fi
SUMMARY:Kävelyryhmä
DESCRIPTION:Pieni kävelyretki Villa Borgiksen lähiluontoon.
URL:https://kalenteri.niemikoti.fi/tapahtuma/kavelyryhma-4/2026-03-30/
LOCATION:Toimintakeskus Villa Borgis\, Linnavuorentie 13\, Helsinki\, 00950\, Finland
CATEGORIES:Toimintakeskus Villa Borgis
END:VEVENT
BEGIN:VEVENT
DTSTART;TZID=Europe/Helsinki:20260331T110000
DTEND;TZID=Europe/Helsinki:20260331T120000
DTSTAMP:20260421T030510
CREATED:20260126T114459Z
LAST-MODIFIED:20260126T114459Z
UID:10032135-1774954800-1774958400@kalenteri.niemikoti.fi
SUMMARY:Luonto & liikunta -kävelyryhmä Malmilla
DESCRIPTION:Uusille tilaa\, ilmoittaudu mukaan! Kaksi ryhmää tarpeen mukaan\, tehdään sekä pidempi että lyhyempi kävelylenkki.
URL:https://kalenteri.niemikoti.fi/tapahtuma/luonto-liikunta-kavelyryhma-malmilla-3/2026-03-31/
LOCATION:Malmin päivätoimintakeskus\, Vanha Helsingintie 9\, Helsinki\, 00700\, Finland
CATEGORIES:Malmin päivätoimintakeskus
END:VEVENT
END:VCALENDAR