BEGIN:VCALENDAR
VERSION:2.0
PRODID:-//Tapahtumakalenteri - ECPv6.15.18//NONSGML v1.0//EN
CALSCALE:GREGORIAN
METHOD:PUBLISH
X-WR-CALNAME:Tapahtumakalenteri
X-ORIGINAL-URL:https://kalenteri.niemikoti.fi
X-WR-CALDESC:Tapahtumat Tapahtumakalenteri
REFRESH-INTERVAL;VALUE=DURATION:PT1H
X-Robots-Tag:noindex
X-PUBLISHED-TTL:PT1H
BEGIN:VTIMEZONE
TZID:Europe/Helsinki
BEGIN:DAYLIGHT
TZOFFSETFROM:+0200
TZOFFSETTO:+0300
TZNAME:EEST
DTSTART:20240331T010000
END:DAYLIGHT
BEGIN:STANDARD
TZOFFSETFROM:+0300
TZOFFSETTO:+0200
TZNAME:EET
DTSTART:20241027T010000
END:STANDARD
BEGIN:DAYLIGHT
TZOFFSETFROM:+0200
TZOFFSETTO:+0300
TZNAME:EEST
DTSTART:20250330T010000
END:DAYLIGHT
BEGIN:STANDARD
TZOFFSETFROM:+0300
TZOFFSETTO:+0200
TZNAME:EET
DTSTART:20251026T010000
END:STANDARD
BEGIN:DAYLIGHT
TZOFFSETFROM:+0200
TZOFFSETTO:+0300
TZNAME:EEST
DTSTART:20260329T010000
END:DAYLIGHT
BEGIN:STANDARD
TZOFFSETFROM:+0300
TZOFFSETTO:+0200
TZNAME:EET
DTSTART:20261025T010000
END:STANDARD
END:VTIMEZONE
BEGIN:VEVENT
DTSTART;TZID=Europe/Helsinki:20250912T110000
DTEND;TZID=Europe/Helsinki:20250912T130000
DTSTAMP:20260423T132957
CREATED:20250907T083535Z
LAST-MODIFIED:20250907T083712Z
UID:10024815-1757674800-1757682000@kalenteri.niemikoti.fi
SUMMARY:🌿 Hyvinvoinnin ja kohtaamisen tila
DESCRIPTION:🌿 Hyvinvoinnin ja kohtaamisen tila \n\n\nTule mukaan ryhmään\, jossa jaetaan kokemuksia\, vahvistetaan hyvinvointia ja tehdään unelmista toteuttamiskelpoisia. \n\n \nRyhmä on avoin kaikille Niemikotisäätiön palveluidenkäyttäjille. Ryhmään osallistuminen ei vaadi aikaisempaa kokemusta. Kokemusta karttuu tekemällä! \n \nHyvinvoinnin ja kohtaamisen tila on paikka\, jossa yhdessä tekeminen\, keskustelu ja ideat muuttuvat teoiksi. \n \n  \nTervetuloa!
URL:https://kalenteri.niemikoti.fi/tapahtuma/%f0%9f%8c%bf-hyvinvoinnin-ja-kohtaamisen-tila/
CATEGORIES:Kulttuuripaja ELVIS,Malmin päivätoimintakeskus,Tapahtumat palvelunkäyttäjille,Toimintakeskus Villa Borgis
ATTACH;FMTTYPE=image/jpeg:https://kalenteri.niemikoti.fi/wp-content/uploads/2025/09/HVKT-syyskuu.jpg
END:VEVENT
END:VCALENDAR