BEGIN:VCALENDAR
VERSION:2.0
PRODID:-//Tapahtumakalenteri - ECPv6.15.18//NONSGML v1.0//EN
CALSCALE:GREGORIAN
METHOD:PUBLISH
X-WR-CALNAME:Tapahtumakalenteri
X-ORIGINAL-URL:https://kalenteri.niemikoti.fi
X-WR-CALDESC:Tapahtumat Tapahtumakalenteri
REFRESH-INTERVAL;VALUE=DURATION:PT1H
X-Robots-Tag:noindex
X-PUBLISHED-TTL:PT1H
BEGIN:VTIMEZONE
TZID:Europe/Helsinki
BEGIN:DAYLIGHT
TZOFFSETFROM:+0200
TZOFFSETTO:+0300
TZNAME:EEST
DTSTART:20240331T010000
END:DAYLIGHT
BEGIN:STANDARD
TZOFFSETFROM:+0300
TZOFFSETTO:+0200
TZNAME:EET
DTSTART:20241027T010000
END:STANDARD
BEGIN:DAYLIGHT
TZOFFSETFROM:+0200
TZOFFSETTO:+0300
TZNAME:EEST
DTSTART:20250330T010000
END:DAYLIGHT
BEGIN:STANDARD
TZOFFSETFROM:+0300
TZOFFSETTO:+0200
TZNAME:EET
DTSTART:20251026T010000
END:STANDARD
BEGIN:DAYLIGHT
TZOFFSETFROM:+0200
TZOFFSETTO:+0300
TZNAME:EEST
DTSTART:20260329T010000
END:DAYLIGHT
BEGIN:STANDARD
TZOFFSETFROM:+0300
TZOFFSETTO:+0200
TZNAME:EET
DTSTART:20261025T010000
END:STANDARD
END:VTIMEZONE
BEGIN:VEVENT
DTSTART;TZID=Europe/Helsinki:20251117T110000
DTEND;TZID=Europe/Helsinki:20251117T120000
DTSTAMP:20260421T181909
CREATED:20251103T125051Z
LAST-MODIFIED:20251103T125051Z
UID:10025031-1763377200-1763380800@kalenteri.niemikoti.fi
SUMMARY:Villi kortti
DESCRIPTION:Ohjelmaa yhteisön toiveiden mukaan. Liikuntaa\, rentoutusta\, luovaa toimintaa tai musiikkiohjelmaa. \nTäydentyvä ryhmä\, ilmoittaudu.
URL:https://kalenteri.niemikoti.fi/tapahtuma/villi-kortti-2/2025-11-17/
LOCATION:Malmin päivätoimintakeskus\, Vanha Helsingintie 9\, Helsinki\, 00700\, Finland
CATEGORIES:Malmin päivätoimintakeskus
END:VEVENT
BEGIN:VEVENT
DTSTART;TZID=Europe/Helsinki:20251117T113000
DTEND;TZID=Europe/Helsinki:20251117T120000
DTSTAMP:20260421T181909
CREATED:20251029T083009Z
LAST-MODIFIED:20251029T083009Z
UID:10024933-1763379000-1763380800@kalenteri.niemikoti.fi
SUMMARY:Kävelyryhmä
DESCRIPTION:Teemme pienen kävelyn lähiympäristössä.
URL:https://kalenteri.niemikoti.fi/tapahtuma/kavelyryhma-3/2025-11-17/
LOCATION:Toimintakeskus Villa Borgis\, Linnavuorentie 13\, Helsinki\, 00950\, Finland
CATEGORIES:Toimintakeskus Villa Borgis
END:VEVENT
BEGIN:VEVENT
DTSTART;TZID=Europe/Helsinki:20251117T130000
DTEND;TZID=Europe/Helsinki:20251117T140000
DTSTAMP:20260421T181909
CREATED:20251029T084528Z
LAST-MODIFIED:20251031T112023Z
UID:10024937-1763384400-1763388000@kalenteri.niemikoti.fi
SUMMARY:Mukavat muuvit
DESCRIPTION:Kaikille sopivaa luovaa liikuskelua musiikin tahdissa.
URL:https://kalenteri.niemikoti.fi/tapahtuma/mukavat-muuvit/2025-11-17/
LOCATION:Toimintakeskus Villa Borgis\, Linnavuorentie 13\, Helsinki\, 00950\, Finland
CATEGORIES:Toimintakeskus Villa Borgis
ATTACH;FMTTYPE=image/jpeg:https://kalenteri.niemikoti.fi/wp-content/uploads/2025/10/mukavat-muuvit.jpg
END:VEVENT
BEGIN:VEVENT
DTSTART;TZID=Europe/Helsinki:20251119T110000
DTEND;TZID=Europe/Helsinki:20251119T120000
DTSTAMP:20260421T181909
CREATED:20250811T000409Z
LAST-MODIFIED:20250930T114507Z
UID:10024151-1763550000-1763553600@kalenteri.niemikoti.fi
SUMMARY:Luonto & liikunta -kävelyryhmä
DESCRIPTION:Kävelemme Malmin päivätoimintakeskuksen lähiluonnossa mukavan kävelylenkin. Kaksi ryhmää\, joista voit valita rauhallisesti tai reippaasti etenevän ryhmän. \nTäydentyvä ryhmä\, ilmoittaudu mukaan! \nEi ryhmää 1.10. (Pihatalkoot)
URL:https://kalenteri.niemikoti.fi/tapahtuma/luonto-liikunta-kavelyryhma-5/2025-11-19/
LOCATION:Malmin päivätoimintakeskus\, Vanha Helsingintie 9\, Helsinki\, 00700\, Finland
CATEGORIES:Malmin päivätoimintakeskus
ATTACH;FMTTYPE=image/jpeg:https://kalenteri.niemikoti.fi/wp-content/uploads/2025/08/Kavelyryhma.jpg
END:VEVENT
BEGIN:VEVENT
DTSTART;TZID=Europe/Helsinki:20251120T111500
DTEND;TZID=Europe/Helsinki:20251120T120000
DTSTAMP:20260421T181909
CREATED:20251030T131752Z
LAST-MODIFIED:20251030T131752Z
UID:10024956-1763637300-1763640000@kalenteri.niemikoti.fi
SUMMARY:Aamukävely
DESCRIPTION:Käymme yhdessä aamukävelyllä lähiluonnossa. Sateella ryhmä on luontoaiheista toimintaa sisällä.
URL:https://kalenteri.niemikoti.fi/tapahtuma/aamukavely/2025-11-20/
LOCATION:Toimintakeskus Villa Borgis\, Linnavuorentie 13\, Helsinki\, 00950\, Finland
CATEGORIES:Toimintakeskus Villa Borgis
END:VEVENT
BEGIN:VEVENT
DTSTART;TZID=Europe/Helsinki:20251121T110000
DTEND;TZID=Europe/Helsinki:20251121T120000
DTSTAMP:20260421T181909
CREATED:20250930T100310Z
LAST-MODIFIED:20251202T181031Z
UID:10025047-1763722800-1763726400@kalenteri.niemikoti.fi
SUMMARY:Zumba
DESCRIPTION:Letkeää tanssillista jumppaa rytmikkään musiikin tahdissa. \nUusille tilaa\, ilmoittaudu mukaan.
URL:https://kalenteri.niemikoti.fi/tapahtuma/zumba/2025-11-21/
LOCATION:Malmin päivätoimintakeskus\, Vanha Helsingintie 9\, Helsinki\, 00700\, Finland
CATEGORIES:Malmin päivätoimintakeskus
ATTACH;FMTTYPE=image/jpeg:https://kalenteri.niemikoti.fi/wp-content/uploads/2025/09/Zumba.jpg
END:VEVENT
END:VCALENDAR