BEGIN:VCALENDAR
VERSION:2.0
PRODID:-//Tapahtumakalenteri - ECPv6.15.18//NONSGML v1.0//EN
CALSCALE:GREGORIAN
METHOD:PUBLISH
X-WR-CALNAME:Tapahtumakalenteri
X-ORIGINAL-URL:https://kalenteri.niemikoti.fi
X-WR-CALDESC:Tapahtumat Tapahtumakalenteri
REFRESH-INTERVAL;VALUE=DURATION:PT1H
X-Robots-Tag:noindex
X-PUBLISHED-TTL:PT1H
BEGIN:VTIMEZONE
TZID:Europe/Helsinki
BEGIN:DAYLIGHT
TZOFFSETFROM:+0200
TZOFFSETTO:+0300
TZNAME:EEST
DTSTART:20240331T010000
END:DAYLIGHT
BEGIN:STANDARD
TZOFFSETFROM:+0300
TZOFFSETTO:+0200
TZNAME:EET
DTSTART:20241027T010000
END:STANDARD
BEGIN:DAYLIGHT
TZOFFSETFROM:+0200
TZOFFSETTO:+0300
TZNAME:EEST
DTSTART:20250330T010000
END:DAYLIGHT
BEGIN:STANDARD
TZOFFSETFROM:+0300
TZOFFSETTO:+0200
TZNAME:EET
DTSTART:20251026T010000
END:STANDARD
BEGIN:DAYLIGHT
TZOFFSETFROM:+0200
TZOFFSETTO:+0300
TZNAME:EEST
DTSTART:20260329T010000
END:DAYLIGHT
BEGIN:STANDARD
TZOFFSETFROM:+0300
TZOFFSETTO:+0200
TZNAME:EET
DTSTART:20261025T010000
END:STANDARD
END:VTIMEZONE
BEGIN:VEVENT
DTSTART;TZID=Europe/Helsinki:20251217T110000
DTEND;TZID=Europe/Helsinki:20251217T120000
DTSTAMP:20260421T181907
CREATED:20250811T000409Z
LAST-MODIFIED:20250930T114507Z
UID:10024155-1765969200-1765972800@kalenteri.niemikoti.fi
SUMMARY:Luonto & liikunta -kävelyryhmä
DESCRIPTION:Kävelemme Malmin päivätoimintakeskuksen lähiluonnossa mukavan kävelylenkin. Kaksi ryhmää\, joista voit valita rauhallisesti tai reippaasti etenevän ryhmän. \nTäydentyvä ryhmä\, ilmoittaudu mukaan! \nEi ryhmää 1.10. (Pihatalkoot)
URL:https://kalenteri.niemikoti.fi/tapahtuma/luonto-liikunta-kavelyryhma-5/2025-12-17/
LOCATION:Malmin päivätoimintakeskus\, Vanha Helsingintie 9\, Helsinki\, 00700\, Finland
CATEGORIES:Malmin päivätoimintakeskus
ATTACH;FMTTYPE=image/jpeg:https://kalenteri.niemikoti.fi/wp-content/uploads/2025/08/Kavelyryhma.jpg
END:VEVENT
BEGIN:VEVENT
DTSTART;TZID=Europe/Helsinki:20251218T110000
DTEND;TZID=Europe/Helsinki:20251218T120000
DTSTAMP:20260421T181907
CREATED:20251128T083815Z
LAST-MODIFIED:20251128T083815Z
UID:10025552-1766055600-1766059200@kalenteri.niemikoti.fi
SUMMARY:Aamuvenyttely
DESCRIPTION:Lempeää kaikille sopivaa aamuista liikettä ja venyttelyä.
URL:https://kalenteri.niemikoti.fi/tapahtuma/aamuvenyttely/2025-12-18/
LOCATION:Toimintakeskus Villa Borgis\, Linnavuorentie 13\, Helsinki\, 00950\, Finland
CATEGORIES:Toimintakeskus Villa Borgis
END:VEVENT
BEGIN:VEVENT
DTSTART;TZID=Europe/Helsinki:20251219T110000
DTEND;TZID=Europe/Helsinki:20251219T120000
DTSTAMP:20260421T181907
CREATED:20250930T100310Z
LAST-MODIFIED:20251202T181031Z
UID:10025648-1766142000-1766145600@kalenteri.niemikoti.fi
SUMMARY:Zumba
DESCRIPTION:Letkeää tanssillista jumppaa rytmikkään musiikin tahdissa. \nUusille tilaa\, ilmoittaudu mukaan.
URL:https://kalenteri.niemikoti.fi/tapahtuma/zumba/2025-12-19/
LOCATION:Malmin päivätoimintakeskus\, Vanha Helsingintie 9\, Helsinki\, 00700\, Finland
CATEGORIES:Malmin päivätoimintakeskus
ATTACH;FMTTYPE=image/jpeg:https://kalenteri.niemikoti.fi/wp-content/uploads/2025/09/Zumba.jpg
END:VEVENT
END:VCALENDAR