BEGIN:VCALENDAR
VERSION:2.0
PRODID:-//Tapahtumakalenteri - ECPv6.15.18//NONSGML v1.0//EN
CALSCALE:GREGORIAN
METHOD:PUBLISH
X-ORIGINAL-URL:https://kalenteri.niemikoti.fi
X-WR-CALDESC:Tapahtumat Tapahtumakalenteri
REFRESH-INTERVAL;VALUE=DURATION:PT1H
X-Robots-Tag:noindex
X-PUBLISHED-TTL:PT1H
BEGIN:VTIMEZONE
TZID:Europe/Helsinki
BEGIN:DAYLIGHT
TZOFFSETFROM:+0200
TZOFFSETTO:+0300
TZNAME:EEST
DTSTART:20250330T010000
END:DAYLIGHT
BEGIN:STANDARD
TZOFFSETFROM:+0300
TZOFFSETTO:+0200
TZNAME:EET
DTSTART:20251026T010000
END:STANDARD
BEGIN:DAYLIGHT
TZOFFSETFROM:+0200
TZOFFSETTO:+0300
TZNAME:EEST
DTSTART:20260329T010000
END:DAYLIGHT
BEGIN:STANDARD
TZOFFSETFROM:+0300
TZOFFSETTO:+0200
TZNAME:EET
DTSTART:20261025T010000
END:STANDARD
BEGIN:DAYLIGHT
TZOFFSETFROM:+0200
TZOFFSETTO:+0300
TZNAME:EEST
DTSTART:20270328T010000
END:DAYLIGHT
BEGIN:STANDARD
TZOFFSETFROM:+0300
TZOFFSETTO:+0200
TZNAME:EET
DTSTART:20271031T010000
END:STANDARD
END:VTIMEZONE
BEGIN:VEVENT
DTSTART;TZID=Europe/Helsinki:20260415T130000
DTEND;TZID=Europe/Helsinki:20260415T143000
DTSTAMP:20260426T050306
CREATED:20251217T133448Z
LAST-MODIFIED:20260327T091310Z
UID:10036886-1776258000-1776263400@kalenteri.niemikoti.fi
SUMMARY:Puutyöryhmä
DESCRIPTION:Tehdään pieniä puutöitä käsityökaluilla. Ryhmään mahtuu kerralla max. 4 osallistujaa. Ilmoittaudu mukaan.
URL:https://kalenteri.niemikoti.fi/tapahtuma/puutyoryhma-4/2026-04-15/
LOCATION:Toimintakeskus Villa Borgis\, Linnavuorentie 13\, Helsinki\, 00950\, Finland
CATEGORIES:Toimintakeskus Villa Borgis
END:VEVENT
BEGIN:VEVENT
DTSTART;TZID=Europe/Helsinki:20260415T090000
DTEND;TZID=Europe/Helsinki:20260415T094500
DTSTAMP:20260426T050306
CREATED:20250820T065259Z
LAST-MODIFIED:20260331T081723Z
UID:10025718-1776243600-1776246300@kalenteri.niemikoti.fi
SUMMARY:Yhteisön aamiainen
DESCRIPTION:Aamiainen yhteisöpäivän kävijöille. Sisältää puuron\, talon omenahilloa\, leipää\, leivänpäällisiä\, jugurttia\, hedelmiä\, kahvia\, teetä ja mehua. Hinta aamiaiselle 3 e\, sisältää myös iltapäiväkahvin.
URL:https://kalenteri.niemikoti.fi/tapahtuma/yhteison-aamiainen-3/2026-04-15/
LOCATION:Toimintakeskus Villa Borgis\, Linnavuorentie 13\, Helsinki\, 00950\, Finland
CATEGORIES:Toimintakeskus Villa Borgis
END:VEVENT
BEGIN:VEVENT
DTSTART;TZID=Europe/Helsinki:20260414T090000
DTEND;TZID=Europe/Helsinki:20260414T094500
DTSTAMP:20260426T050306
CREATED:20250820T065259Z
LAST-MODIFIED:20260331T081723Z
UID:10025717-1776157200-1776159900@kalenteri.niemikoti.fi
SUMMARY:Yhteisön aamiainen
DESCRIPTION:Aamiainen yhteisöpäivän kävijöille. Sisältää puuron\, talon omenahilloa\, leipää\, leivänpäällisiä\, jugurttia\, hedelmiä\, kahvia\, teetä ja mehua. Hinta aamiaiselle 3 e\, sisältää myös iltapäiväkahvin.
URL:https://kalenteri.niemikoti.fi/tapahtuma/yhteison-aamiainen-3/2026-04-14/
LOCATION:Toimintakeskus Villa Borgis\, Linnavuorentie 13\, Helsinki\, 00950\, Finland
CATEGORIES:Toimintakeskus Villa Borgis
END:VEVENT
BEGIN:VEVENT
DTSTART;TZID=Europe/Helsinki:20260413T090000
DTEND;TZID=Europe/Helsinki:20260413T094500
DTSTAMP:20260426T050306
CREATED:20250820T065259Z
LAST-MODIFIED:20260331T081723Z
UID:10025716-1776070800-1776073500@kalenteri.niemikoti.fi
SUMMARY:Yhteisön aamiainen
DESCRIPTION:Aamiainen yhteisöpäivän kävijöille. Sisältää puuron\, talon omenahilloa\, leipää\, leivänpäällisiä\, jugurttia\, hedelmiä\, kahvia\, teetä ja mehua. Hinta aamiaiselle 3 e\, sisältää myös iltapäiväkahvin.
URL:https://kalenteri.niemikoti.fi/tapahtuma/yhteison-aamiainen-3/2026-04-13/
LOCATION:Toimintakeskus Villa Borgis\, Linnavuorentie 13\, Helsinki\, 00950\, Finland
CATEGORIES:Toimintakeskus Villa Borgis
END:VEVENT
BEGIN:VEVENT
DTSTART;TZID=Europe/Helsinki:20260410T120000
DTEND;TZID=Europe/Helsinki:20260410T130000
DTSTAMP:20260426T050306
CREATED:20260217T130252Z
LAST-MODIFIED:20260327T091849Z
UID:10036887-1775822400-1775826000@kalenteri.niemikoti.fi
SUMMARY:Perjantai-chillailut
DESCRIPTION:Leppoisaa yhteistä tekemistä; kädentaitoja\, lautapelejä\, musiikin kuuntelua yms.
URL:https://kalenteri.niemikoti.fi/tapahtuma/perjantai-chillailut/2026-04-10/
LOCATION:Toimintakeskus Villa Borgis\, Linnavuorentie 13\, Helsinki\, 00950\, Finland
CATEGORIES:Toimintakeskus Villa Borgis
END:VEVENT
BEGIN:VEVENT
DTSTART;TZID=Europe/Helsinki:20260409T130000
DTEND;TZID=Europe/Helsinki:20260409T150000
DTSTAMP:20260426T050306
CREATED:20260217T094948Z
LAST-MODIFIED:20260331T083245Z
UID:10036991-1775739600-1775746800@kalenteri.niemikoti.fi
SUMMARY:Kädentaitotorstai
DESCRIPTION:Kädentaitopaja\, jossa vaihtuva teema tai voit tehdä omaa käsityöprojektia tai keskeneräisiä töitäsi. Ilmoittaudu. \n5.3. Uusiopaperia \n19.3. Merikarttakoruja \n26.3. Kestokääre – vaihtoehto muovikelmulle
URL:https://kalenteri.niemikoti.fi/tapahtuma/kadentaitotorstai-7/2026-04-09/
LOCATION:Toimintakeskus Villa Borgis\, Linnavuorentie 13\, Helsinki\, 00950\, Finland
CATEGORIES:Toimintakeskus Villa Borgis
END:VEVENT
BEGIN:VEVENT
DTSTART;TZID=Europe/Helsinki:20260408T090000
DTEND;TZID=Europe/Helsinki:20260408T094500
DTSTAMP:20260426T050306
CREATED:20250820T065259Z
LAST-MODIFIED:20260331T081723Z
UID:10025715-1775638800-1775641500@kalenteri.niemikoti.fi
SUMMARY:Yhteisön aamiainen
DESCRIPTION:Aamiainen yhteisöpäivän kävijöille. Sisältää puuron\, talon omenahilloa\, leipää\, leivänpäällisiä\, jugurttia\, hedelmiä\, kahvia\, teetä ja mehua. Hinta aamiaiselle 3 e\, sisältää myös iltapäiväkahvin.
URL:https://kalenteri.niemikoti.fi/tapahtuma/yhteison-aamiainen-3/2026-04-08/
LOCATION:Toimintakeskus Villa Borgis\, Linnavuorentie 13\, Helsinki\, 00950\, Finland
CATEGORIES:Toimintakeskus Villa Borgis
END:VEVENT
BEGIN:VEVENT
DTSTART;TZID=Europe/Helsinki:20260407T090000
DTEND;TZID=Europe/Helsinki:20260407T094500
DTSTAMP:20260426T050306
CREATED:20250820T065259Z
LAST-MODIFIED:20260331T081723Z
UID:10025714-1775552400-1775555100@kalenteri.niemikoti.fi
SUMMARY:Yhteisön aamiainen
DESCRIPTION:Aamiainen yhteisöpäivän kävijöille. Sisältää puuron\, talon omenahilloa\, leipää\, leivänpäällisiä\, jugurttia\, hedelmiä\, kahvia\, teetä ja mehua. Hinta aamiaiselle 3 e\, sisältää myös iltapäiväkahvin.
URL:https://kalenteri.niemikoti.fi/tapahtuma/yhteison-aamiainen-3/2026-04-07/
LOCATION:Toimintakeskus Villa Borgis\, Linnavuorentie 13\, Helsinki\, 00950\, Finland
CATEGORIES:Toimintakeskus Villa Borgis
END:VEVENT
BEGIN:VEVENT
DTSTART;TZID=Europe/Helsinki:20260401T130000
DTEND;TZID=Europe/Helsinki:20260401T143000
DTSTAMP:20260426T050306
CREATED:20251217T133448Z
LAST-MODIFIED:20260327T091310Z
UID:10036885-1775048400-1775053800@kalenteri.niemikoti.fi
SUMMARY:Puutyöryhmä
DESCRIPTION:Tehdään pieniä puutöitä käsityökaluilla. Ryhmään mahtuu kerralla max. 4 osallistujaa. Ilmoittaudu mukaan.
URL:https://kalenteri.niemikoti.fi/tapahtuma/puutyoryhma-4/2026-04-01/
LOCATION:Toimintakeskus Villa Borgis\, Linnavuorentie 13\, Helsinki\, 00950\, Finland
CATEGORIES:Toimintakeskus Villa Borgis
END:VEVENT
BEGIN:VEVENT
DTSTART;TZID=Europe/Helsinki:20260401T090000
DTEND;TZID=Europe/Helsinki:20260401T094500
DTSTAMP:20260426T050306
CREATED:20250820T065259Z
LAST-MODIFIED:20260331T081723Z
UID:10025712-1775034000-1775036700@kalenteri.niemikoti.fi
SUMMARY:Yhteisön aamiainen
DESCRIPTION:Aamiainen yhteisöpäivän kävijöille. Sisältää puuron\, talon omenahilloa\, leipää\, leivänpäällisiä\, jugurttia\, hedelmiä\, kahvia\, teetä ja mehua. Hinta aamiaiselle 3 e\, sisältää myös iltapäiväkahvin.
URL:https://kalenteri.niemikoti.fi/tapahtuma/yhteison-aamiainen-3/2026-04-01/
LOCATION:Toimintakeskus Villa Borgis\, Linnavuorentie 13\, Helsinki\, 00950\, Finland
CATEGORIES:Toimintakeskus Villa Borgis
END:VEVENT
BEGIN:VEVENT
DTSTART;TZID=Europe/Helsinki:20260331T090000
DTEND;TZID=Europe/Helsinki:20260331T094500
DTSTAMP:20260426T050306
CREATED:20250820T065259Z
LAST-MODIFIED:20260331T081723Z
UID:10025711-1774947600-1774950300@kalenteri.niemikoti.fi
SUMMARY:Yhteisön aamiainen
DESCRIPTION:Aamiainen yhteisöpäivän kävijöille. Sisältää puuron\, talon omenahilloa\, leipää\, leivänpäällisiä\, jugurttia\, hedelmiä\, kahvia\, teetä ja mehua. Hinta aamiaiselle 3 e\, sisältää myös iltapäiväkahvin.
URL:https://kalenteri.niemikoti.fi/tapahtuma/yhteison-aamiainen-3/2026-03-31/
LOCATION:Toimintakeskus Villa Borgis\, Linnavuorentie 13\, Helsinki\, 00950\, Finland
CATEGORIES:Toimintakeskus Villa Borgis
END:VEVENT
BEGIN:VEVENT
DTSTART;TZID=Europe/Helsinki:20260330T110000
DTEND;TZID=Europe/Helsinki:20260330T114000
DTSTAMP:20260426T050306
CREATED:20260224T090646Z
LAST-MODIFIED:20260224T090813Z
UID:10033950-1774868400-1774870800@kalenteri.niemikoti.fi
SUMMARY:Yhteisön lounas
DESCRIPTION:Lounas yhteisöpäivän kävijöille. Lounaaseen sisältyy ravitsevaa arkiruokaa ja välillä lisäksi salaattia. Lounaan hinta 3 e\, sisältää iltapäiväkahvin.
URL:https://kalenteri.niemikoti.fi/tapahtuma/yhteison-lounas-4/
LOCATION:Toimintakeskus Villa Borgis\, Linnavuorentie 13\, Helsinki\, 00950\, Finland
CATEGORIES:Toimintakeskus Villa Borgis
END:VEVENT
BEGIN:VEVENT
DTSTART;TZID=Europe/Helsinki:20260330T090000
DTEND;TZID=Europe/Helsinki:20260330T094500
DTSTAMP:20260426T050306
CREATED:20250820T065259Z
LAST-MODIFIED:20260331T081723Z
UID:10025710-1774861200-1774863900@kalenteri.niemikoti.fi
SUMMARY:Yhteisön aamiainen
DESCRIPTION:Aamiainen yhteisöpäivän kävijöille. Sisältää puuron\, talon omenahilloa\, leipää\, leivänpäällisiä\, jugurttia\, hedelmiä\, kahvia\, teetä ja mehua. Hinta aamiaiselle 3 e\, sisältää myös iltapäiväkahvin.
URL:https://kalenteri.niemikoti.fi/tapahtuma/yhteison-aamiainen-3/2026-03-30/
LOCATION:Toimintakeskus Villa Borgis\, Linnavuorentie 13\, Helsinki\, 00950\, Finland
CATEGORIES:Toimintakeskus Villa Borgis
END:VEVENT
BEGIN:VEVENT
DTSTART;TZID=Europe/Helsinki:20260327T120000
DTEND;TZID=Europe/Helsinki:20260327T130000
DTSTAMP:20260426T050306
CREATED:20260217T130252Z
LAST-MODIFIED:20260327T091849Z
UID:10033948-1774612800-1774616400@kalenteri.niemikoti.fi
SUMMARY:Perjantai-chillailut
DESCRIPTION:Leppoisaa yhteistä tekemistä; kädentaitoja\, lautapelejä\, musiikin kuuntelua yms.
URL:https://kalenteri.niemikoti.fi/tapahtuma/perjantai-chillailut/2026-03-27/
LOCATION:Toimintakeskus Villa Borgis\, Linnavuorentie 13\, Helsinki\, 00950\, Finland
CATEGORIES:Toimintakeskus Villa Borgis
END:VEVENT
BEGIN:VEVENT
DTSTART;TZID=Europe/Helsinki:20260326T130000
DTEND;TZID=Europe/Helsinki:20260326T150000
DTSTAMP:20260426T050306
CREATED:20260217T094948Z
LAST-MODIFIED:20260331T083245Z
UID:10033943-1774530000-1774537200@kalenteri.niemikoti.fi
SUMMARY:Kädentaitotorstai
DESCRIPTION:Kädentaitopaja\, jossa vaihtuva teema tai voit tehdä omaa käsityöprojektia tai keskeneräisiä töitäsi. Ilmoittaudu. \n5.3. Uusiopaperia \n19.3. Merikarttakoruja \n26.3. Kestokääre – vaihtoehto muovikelmulle
URL:https://kalenteri.niemikoti.fi/tapahtuma/kadentaitotorstai-7/2026-03-26/
LOCATION:Toimintakeskus Villa Borgis\, Linnavuorentie 13\, Helsinki\, 00950\, Finland
CATEGORIES:Toimintakeskus Villa Borgis
END:VEVENT
BEGIN:VEVENT
DTSTART;TZID=Europe/Helsinki:20260325T130000
DTEND;TZID=Europe/Helsinki:20260325T143000
DTSTAMP:20260426T050306
CREATED:20251217T133448Z
LAST-MODIFIED:20260327T091310Z
UID:10033940-1774443600-1774449000@kalenteri.niemikoti.fi
SUMMARY:Puutyöryhmä
DESCRIPTION:Tehdään pieniä puutöitä käsityökaluilla. Ryhmään mahtuu kerralla max. 4 osallistujaa. Ilmoittaudu mukaan.
URL:https://kalenteri.niemikoti.fi/tapahtuma/puutyoryhma-4/2026-03-25/
LOCATION:Toimintakeskus Villa Borgis\, Linnavuorentie 13\, Helsinki\, 00950\, Finland
CATEGORIES:Toimintakeskus Villa Borgis
END:VEVENT
BEGIN:VEVENT
DTSTART;TZID=Europe/Helsinki:20260325T090000
DTEND;TZID=Europe/Helsinki:20260325T094500
DTSTAMP:20260426T050306
CREATED:20250820T065259Z
LAST-MODIFIED:20260331T081723Z
UID:10025709-1774429200-1774431900@kalenteri.niemikoti.fi
SUMMARY:Yhteisön aamiainen
DESCRIPTION:Aamiainen yhteisöpäivän kävijöille. Sisältää puuron\, talon omenahilloa\, leipää\, leivänpäällisiä\, jugurttia\, hedelmiä\, kahvia\, teetä ja mehua. Hinta aamiaiselle 3 e\, sisältää myös iltapäiväkahvin.
URL:https://kalenteri.niemikoti.fi/tapahtuma/yhteison-aamiainen-3/2026-03-25/
LOCATION:Toimintakeskus Villa Borgis\, Linnavuorentie 13\, Helsinki\, 00950\, Finland
CATEGORIES:Toimintakeskus Villa Borgis
END:VEVENT
BEGIN:VEVENT
DTSTART;TZID=Europe/Helsinki:20260324T090000
DTEND;TZID=Europe/Helsinki:20260324T094500
DTSTAMP:20260426T050306
CREATED:20250820T065259Z
LAST-MODIFIED:20260331T081723Z
UID:10025708-1774342800-1774345500@kalenteri.niemikoti.fi
SUMMARY:Yhteisön aamiainen
DESCRIPTION:Aamiainen yhteisöpäivän kävijöille. Sisältää puuron\, talon omenahilloa\, leipää\, leivänpäällisiä\, jugurttia\, hedelmiä\, kahvia\, teetä ja mehua. Hinta aamiaiselle 3 e\, sisältää myös iltapäiväkahvin.
URL:https://kalenteri.niemikoti.fi/tapahtuma/yhteison-aamiainen-3/2026-03-24/
LOCATION:Toimintakeskus Villa Borgis\, Linnavuorentie 13\, Helsinki\, 00950\, Finland
CATEGORIES:Toimintakeskus Villa Borgis
END:VEVENT
BEGIN:VEVENT
DTSTART;TZID=Europe/Helsinki:20260323T090000
DTEND;TZID=Europe/Helsinki:20260323T094500
DTSTAMP:20260426T050306
CREATED:20250820T065259Z
LAST-MODIFIED:20260331T081723Z
UID:10025707-1774256400-1774259100@kalenteri.niemikoti.fi
SUMMARY:Yhteisön aamiainen
DESCRIPTION:Aamiainen yhteisöpäivän kävijöille. Sisältää puuron\, talon omenahilloa\, leipää\, leivänpäällisiä\, jugurttia\, hedelmiä\, kahvia\, teetä ja mehua. Hinta aamiaiselle 3 e\, sisältää myös iltapäiväkahvin.
URL:https://kalenteri.niemikoti.fi/tapahtuma/yhteison-aamiainen-3/2026-03-23/
LOCATION:Toimintakeskus Villa Borgis\, Linnavuorentie 13\, Helsinki\, 00950\, Finland
CATEGORIES:Toimintakeskus Villa Borgis
END:VEVENT
BEGIN:VEVENT
DTSTART;TZID=Europe/Helsinki:20260320T120000
DTEND;TZID=Europe/Helsinki:20260320T130000
DTSTAMP:20260426T050306
CREATED:20260217T130252Z
LAST-MODIFIED:20260327T091849Z
UID:10033947-1774008000-1774011600@kalenteri.niemikoti.fi
SUMMARY:Perjantai-chillailut
DESCRIPTION:Leppoisaa yhteistä tekemistä; kädentaitoja\, lautapelejä\, musiikin kuuntelua yms.
URL:https://kalenteri.niemikoti.fi/tapahtuma/perjantai-chillailut/2026-03-20/
LOCATION:Toimintakeskus Villa Borgis\, Linnavuorentie 13\, Helsinki\, 00950\, Finland
CATEGORIES:Toimintakeskus Villa Borgis
END:VEVENT
BEGIN:VEVENT
DTSTART;TZID=Europe/Helsinki:20260319T130000
DTEND;TZID=Europe/Helsinki:20260319T150000
DTSTAMP:20260426T050306
CREATED:20260217T094948Z
LAST-MODIFIED:20260331T083245Z
UID:10033942-1773925200-1773932400@kalenteri.niemikoti.fi
SUMMARY:Kädentaitotorstai
DESCRIPTION:Kädentaitopaja\, jossa vaihtuva teema tai voit tehdä omaa käsityöprojektia tai keskeneräisiä töitäsi. Ilmoittaudu. \n5.3. Uusiopaperia \n19.3. Merikarttakoruja \n26.3. Kestokääre – vaihtoehto muovikelmulle
URL:https://kalenteri.niemikoti.fi/tapahtuma/kadentaitotorstai-7/2026-03-19/
LOCATION:Toimintakeskus Villa Borgis\, Linnavuorentie 13\, Helsinki\, 00950\, Finland
CATEGORIES:Toimintakeskus Villa Borgis
END:VEVENT
BEGIN:VEVENT
DTSTART;TZID=Europe/Helsinki:20260318T130000
DTEND;TZID=Europe/Helsinki:20260318T143000
DTSTAMP:20260426T050306
CREATED:20251217T133448Z
LAST-MODIFIED:20260327T091310Z
UID:10033939-1773838800-1773844200@kalenteri.niemikoti.fi
SUMMARY:Puutyöryhmä
DESCRIPTION:Tehdään pieniä puutöitä käsityökaluilla. Ryhmään mahtuu kerralla max. 4 osallistujaa. Ilmoittaudu mukaan.
URL:https://kalenteri.niemikoti.fi/tapahtuma/puutyoryhma-4/2026-03-18/
LOCATION:Toimintakeskus Villa Borgis\, Linnavuorentie 13\, Helsinki\, 00950\, Finland
CATEGORIES:Toimintakeskus Villa Borgis
END:VEVENT
BEGIN:VEVENT
DTSTART;TZID=Europe/Helsinki:20260318T090000
DTEND;TZID=Europe/Helsinki:20260318T094500
DTSTAMP:20260426T050306
CREATED:20250820T065259Z
LAST-MODIFIED:20260331T081723Z
UID:10025706-1773824400-1773827100@kalenteri.niemikoti.fi
SUMMARY:Yhteisön aamiainen
DESCRIPTION:Aamiainen yhteisöpäivän kävijöille. Sisältää puuron\, talon omenahilloa\, leipää\, leivänpäällisiä\, jugurttia\, hedelmiä\, kahvia\, teetä ja mehua. Hinta aamiaiselle 3 e\, sisältää myös iltapäiväkahvin.
URL:https://kalenteri.niemikoti.fi/tapahtuma/yhteison-aamiainen-3/2026-03-18/
LOCATION:Toimintakeskus Villa Borgis\, Linnavuorentie 13\, Helsinki\, 00950\, Finland
CATEGORIES:Toimintakeskus Villa Borgis
END:VEVENT
BEGIN:VEVENT
DTSTART;TZID=Europe/Helsinki:20260317T090000
DTEND;TZID=Europe/Helsinki:20260317T094500
DTSTAMP:20260426T050306
CREATED:20250820T065259Z
LAST-MODIFIED:20260331T081723Z
UID:10025705-1773738000-1773740700@kalenteri.niemikoti.fi
SUMMARY:Yhteisön aamiainen
DESCRIPTION:Aamiainen yhteisöpäivän kävijöille. Sisältää puuron\, talon omenahilloa\, leipää\, leivänpäällisiä\, jugurttia\, hedelmiä\, kahvia\, teetä ja mehua. Hinta aamiaiselle 3 e\, sisältää myös iltapäiväkahvin.
URL:https://kalenteri.niemikoti.fi/tapahtuma/yhteison-aamiainen-3/2026-03-17/
LOCATION:Toimintakeskus Villa Borgis\, Linnavuorentie 13\, Helsinki\, 00950\, Finland
CATEGORIES:Toimintakeskus Villa Borgis
END:VEVENT
BEGIN:VEVENT
DTSTART;TZID=Europe/Helsinki:20260316T090000
DTEND;TZID=Europe/Helsinki:20260316T094500
DTSTAMP:20260426T050306
CREATED:20250820T065259Z
LAST-MODIFIED:20260331T081723Z
UID:10025704-1773651600-1773654300@kalenteri.niemikoti.fi
SUMMARY:Yhteisön aamiainen
DESCRIPTION:Aamiainen yhteisöpäivän kävijöille. Sisältää puuron\, talon omenahilloa\, leipää\, leivänpäällisiä\, jugurttia\, hedelmiä\, kahvia\, teetä ja mehua. Hinta aamiaiselle 3 e\, sisältää myös iltapäiväkahvin.
URL:https://kalenteri.niemikoti.fi/tapahtuma/yhteison-aamiainen-3/2026-03-16/
LOCATION:Toimintakeskus Villa Borgis\, Linnavuorentie 13\, Helsinki\, 00950\, Finland
CATEGORIES:Toimintakeskus Villa Borgis
END:VEVENT
BEGIN:VEVENT
DTSTART;TZID=Europe/Helsinki:20260313T120000
DTEND;TZID=Europe/Helsinki:20260313T130000
DTSTAMP:20260426T050306
CREATED:20260217T130252Z
LAST-MODIFIED:20260327T091849Z
UID:10033946-1773403200-1773406800@kalenteri.niemikoti.fi
SUMMARY:Perjantai-chillailut
DESCRIPTION:Leppoisaa yhteistä tekemistä; kädentaitoja\, lautapelejä\, musiikin kuuntelua yms.
URL:https://kalenteri.niemikoti.fi/tapahtuma/perjantai-chillailut/2026-03-13/
LOCATION:Toimintakeskus Villa Borgis\, Linnavuorentie 13\, Helsinki\, 00950\, Finland
CATEGORIES:Toimintakeskus Villa Borgis
END:VEVENT
BEGIN:VEVENT
DTSTART;TZID=Europe/Helsinki:20260311T130000
DTEND;TZID=Europe/Helsinki:20260311T143000
DTSTAMP:20260426T050306
CREATED:20251217T133448Z
LAST-MODIFIED:20260327T091310Z
UID:10033938-1773234000-1773239400@kalenteri.niemikoti.fi
SUMMARY:Puutyöryhmä
DESCRIPTION:Tehdään pieniä puutöitä käsityökaluilla. Ryhmään mahtuu kerralla max. 4 osallistujaa. Ilmoittaudu mukaan.
URL:https://kalenteri.niemikoti.fi/tapahtuma/puutyoryhma-4/2026-03-11/
LOCATION:Toimintakeskus Villa Borgis\, Linnavuorentie 13\, Helsinki\, 00950\, Finland
CATEGORIES:Toimintakeskus Villa Borgis
END:VEVENT
BEGIN:VEVENT
DTSTART;TZID=Europe/Helsinki:20260311T090000
DTEND;TZID=Europe/Helsinki:20260311T094500
DTSTAMP:20260426T050306
CREATED:20250820T065259Z
LAST-MODIFIED:20260331T081723Z
UID:10025703-1773219600-1773222300@kalenteri.niemikoti.fi
SUMMARY:Yhteisön aamiainen
DESCRIPTION:Aamiainen yhteisöpäivän kävijöille. Sisältää puuron\, talon omenahilloa\, leipää\, leivänpäällisiä\, jugurttia\, hedelmiä\, kahvia\, teetä ja mehua. Hinta aamiaiselle 3 e\, sisältää myös iltapäiväkahvin.
URL:https://kalenteri.niemikoti.fi/tapahtuma/yhteison-aamiainen-3/2026-03-11/
LOCATION:Toimintakeskus Villa Borgis\, Linnavuorentie 13\, Helsinki\, 00950\, Finland
CATEGORIES:Toimintakeskus Villa Borgis
END:VEVENT
BEGIN:VEVENT
DTSTART;TZID=Europe/Helsinki:20260310T090000
DTEND;TZID=Europe/Helsinki:20260310T094500
DTSTAMP:20260426T050306
CREATED:20250820T065259Z
LAST-MODIFIED:20260331T081723Z
UID:10025702-1773133200-1773135900@kalenteri.niemikoti.fi
SUMMARY:Yhteisön aamiainen
DESCRIPTION:Aamiainen yhteisöpäivän kävijöille. Sisältää puuron\, talon omenahilloa\, leipää\, leivänpäällisiä\, jugurttia\, hedelmiä\, kahvia\, teetä ja mehua. Hinta aamiaiselle 3 e\, sisältää myös iltapäiväkahvin.
URL:https://kalenteri.niemikoti.fi/tapahtuma/yhteison-aamiainen-3/2026-03-10/
LOCATION:Toimintakeskus Villa Borgis\, Linnavuorentie 13\, Helsinki\, 00950\, Finland
CATEGORIES:Toimintakeskus Villa Borgis
END:VEVENT
BEGIN:VEVENT
DTSTART;TZID=Europe/Helsinki:20260309T090000
DTEND;TZID=Europe/Helsinki:20260309T094500
DTSTAMP:20260426T050306
CREATED:20250820T065259Z
LAST-MODIFIED:20260331T081723Z
UID:10025701-1773046800-1773049500@kalenteri.niemikoti.fi
SUMMARY:Yhteisön aamiainen
DESCRIPTION:Aamiainen yhteisöpäivän kävijöille. Sisältää puuron\, talon omenahilloa\, leipää\, leivänpäällisiä\, jugurttia\, hedelmiä\, kahvia\, teetä ja mehua. Hinta aamiaiselle 3 e\, sisältää myös iltapäiväkahvin.
URL:https://kalenteri.niemikoti.fi/tapahtuma/yhteison-aamiainen-3/2026-03-09/
LOCATION:Toimintakeskus Villa Borgis\, Linnavuorentie 13\, Helsinki\, 00950\, Finland
CATEGORIES:Toimintakeskus Villa Borgis
END:VEVENT
END:VCALENDAR