BEGIN:VCALENDAR
VERSION:2.0
PRODID:-//Tapahtumakalenteri - ECPv6.15.18//NONSGML v1.0//EN
CALSCALE:GREGORIAN
METHOD:PUBLISH
X-WR-CALNAME:Tapahtumakalenteri
X-ORIGINAL-URL:https://kalenteri.niemikoti.fi
X-WR-CALDESC:Tapahtumat Tapahtumakalenteri
REFRESH-INTERVAL;VALUE=DURATION:PT1H
X-Robots-Tag:noindex
X-PUBLISHED-TTL:PT1H
BEGIN:VTIMEZONE
TZID:Europe/Helsinki
BEGIN:DAYLIGHT
TZOFFSETFROM:+0200
TZOFFSETTO:+0300
TZNAME:EEST
DTSTART:20230326T010000
END:DAYLIGHT
BEGIN:STANDARD
TZOFFSETFROM:+0300
TZOFFSETTO:+0200
TZNAME:EET
DTSTART:20231029T010000
END:STANDARD
BEGIN:DAYLIGHT
TZOFFSETFROM:+0200
TZOFFSETTO:+0300
TZNAME:EEST
DTSTART:20240331T010000
END:DAYLIGHT
BEGIN:STANDARD
TZOFFSETFROM:+0300
TZOFFSETTO:+0200
TZNAME:EET
DTSTART:20241027T010000
END:STANDARD
BEGIN:DAYLIGHT
TZOFFSETFROM:+0200
TZOFFSETTO:+0300
TZNAME:EEST
DTSTART:20250330T010000
END:DAYLIGHT
BEGIN:STANDARD
TZOFFSETFROM:+0300
TZOFFSETTO:+0200
TZNAME:EET
DTSTART:20251026T010000
END:STANDARD
END:VTIMEZONE
BEGIN:VEVENT
DTSTART;TZID=Europe/Helsinki:20240202T123000
DTEND;TZID=Europe/Helsinki:20240202T140000
DTSTAMP:20260424T212921
CREATED:20240129T123333Z
LAST-MODIFIED:20240528T092459Z
UID:10005549-1706877000-1706882400@kalenteri.niemikoti.fi
SUMMARY:Sirkuspaja Malmilla
DESCRIPTION:Tehdään yhdessä sirkusvälineitä ja harjoitellaan pihalla temppuja. Ilmoittaudu mukaan!
URL:https://kalenteri.niemikoti.fi/tapahtuma/perjantaidokkari-malmilla/2024-02-02/
LOCATION:Malmin päivätoimintakeskus\, Vanha Helsingintie 9\, Helsinki\, 00700\, Finland
CATEGORIES:Malmin päivätoimintakeskus
END:VEVENT
BEGIN:VEVENT
DTSTART;TZID=Europe/Helsinki:20240209T123000
DTEND;TZID=Europe/Helsinki:20240209T140000
DTSTAMP:20260424T212921
CREATED:20240129T123333Z
LAST-MODIFIED:20240528T092459Z
UID:10005550-1707481800-1707487200@kalenteri.niemikoti.fi
SUMMARY:Sirkuspaja Malmilla
DESCRIPTION:Tehdään yhdessä sirkusvälineitä ja harjoitellaan pihalla temppuja. Ilmoittaudu mukaan!
URL:https://kalenteri.niemikoti.fi/tapahtuma/perjantaidokkari-malmilla/2024-02-09/
LOCATION:Malmin päivätoimintakeskus\, Vanha Helsingintie 9\, Helsinki\, 00700\, Finland
CATEGORIES:Malmin päivätoimintakeskus
END:VEVENT
BEGIN:VEVENT
DTSTART;TZID=Europe/Helsinki:20240216T123000
DTEND;TZID=Europe/Helsinki:20240216T140000
DTSTAMP:20260424T212921
CREATED:20240129T123333Z
LAST-MODIFIED:20240528T092459Z
UID:10005551-1708086600-1708092000@kalenteri.niemikoti.fi
SUMMARY:Sirkuspaja Malmilla
DESCRIPTION:Tehdään yhdessä sirkusvälineitä ja harjoitellaan pihalla temppuja. Ilmoittaudu mukaan!
URL:https://kalenteri.niemikoti.fi/tapahtuma/perjantaidokkari-malmilla/2024-02-16/
LOCATION:Malmin päivätoimintakeskus\, Vanha Helsingintie 9\, Helsinki\, 00700\, Finland
CATEGORIES:Malmin päivätoimintakeskus
END:VEVENT
BEGIN:VEVENT
DTSTART;TZID=Europe/Helsinki:20240223T123000
DTEND;TZID=Europe/Helsinki:20240223T140000
DTSTAMP:20260424T212921
CREATED:20240129T123333Z
LAST-MODIFIED:20240528T092459Z
UID:10005552-1708691400-1708696800@kalenteri.niemikoti.fi
SUMMARY:Sirkuspaja Malmilla
DESCRIPTION:Tehdään yhdessä sirkusvälineitä ja harjoitellaan pihalla temppuja. Ilmoittaudu mukaan!
URL:https://kalenteri.niemikoti.fi/tapahtuma/perjantaidokkari-malmilla/2024-02-23/
LOCATION:Malmin päivätoimintakeskus\, Vanha Helsingintie 9\, Helsinki\, 00700\, Finland
CATEGORIES:Malmin päivätoimintakeskus
END:VEVENT
BEGIN:VEVENT
DTSTART;TZID=Europe/Helsinki:20240301T123000
DTEND;TZID=Europe/Helsinki:20240301T140000
DTSTAMP:20260424T212921
CREATED:20240129T123333Z
LAST-MODIFIED:20240528T092459Z
UID:10005553-1709296200-1709301600@kalenteri.niemikoti.fi
SUMMARY:Sirkuspaja Malmilla
DESCRIPTION:Tehdään yhdessä sirkusvälineitä ja harjoitellaan pihalla temppuja. Ilmoittaudu mukaan!
URL:https://kalenteri.niemikoti.fi/tapahtuma/perjantaidokkari-malmilla/2024-03-01/
LOCATION:Malmin päivätoimintakeskus\, Vanha Helsingintie 9\, Helsinki\, 00700\, Finland
CATEGORIES:Malmin päivätoimintakeskus
END:VEVENT
BEGIN:VEVENT
DTSTART;TZID=Europe/Helsinki:20240308T123000
DTEND;TZID=Europe/Helsinki:20240308T140000
DTSTAMP:20260424T212921
CREATED:20240129T123333Z
LAST-MODIFIED:20240528T092459Z
UID:10005554-1709901000-1709906400@kalenteri.niemikoti.fi
SUMMARY:Sirkuspaja Malmilla
DESCRIPTION:Tehdään yhdessä sirkusvälineitä ja harjoitellaan pihalla temppuja. Ilmoittaudu mukaan!
URL:https://kalenteri.niemikoti.fi/tapahtuma/perjantaidokkari-malmilla/2024-03-08/
LOCATION:Malmin päivätoimintakeskus\, Vanha Helsingintie 9\, Helsinki\, 00700\, Finland
CATEGORIES:Malmin päivätoimintakeskus
END:VEVENT
BEGIN:VEVENT
DTSTART;TZID=Europe/Helsinki:20240314T110000
DTEND;TZID=Europe/Helsinki:20240314T120000
DTSTAMP:20260424T212921
CREATED:20240125T131132Z
LAST-MODIFIED:20240408T123339Z
UID:10006021-1710414000-1710417600@kalenteri.niemikoti.fi
SUMMARY:Morning Coffee in english
DESCRIPTION:Opitaan ja pidetään yllä englannin kielen taitoa yhdessä keskustellen. Sopii kaikille kiinnostuneille\, ei taitotasovaatimuksia. \nConversation in English. No skill level requirements. \n 
URL:https://kalenteri.niemikoti.fi/tapahtuma/morning-coffee-in-english/2024-03-14/
LOCATION:Toimintakeskus Villa Borgis\, Linnavuorentie 13\, Helsinki\, 00950\, Finland
CATEGORIES:Toimintakeskus Villa Borgis
END:VEVENT
BEGIN:VEVENT
DTSTART;TZID=Europe/Helsinki:20240315T123000
DTEND;TZID=Europe/Helsinki:20240315T140000
DTSTAMP:20260424T212921
CREATED:20240129T123333Z
LAST-MODIFIED:20240528T092459Z
UID:10005555-1710505800-1710511200@kalenteri.niemikoti.fi
SUMMARY:Sirkuspaja Malmilla
DESCRIPTION:Tehdään yhdessä sirkusvälineitä ja harjoitellaan pihalla temppuja. Ilmoittaudu mukaan!
URL:https://kalenteri.niemikoti.fi/tapahtuma/perjantaidokkari-malmilla/2024-03-15/
LOCATION:Malmin päivätoimintakeskus\, Vanha Helsingintie 9\, Helsinki\, 00700\, Finland
CATEGORIES:Malmin päivätoimintakeskus
END:VEVENT
BEGIN:VEVENT
DTSTART;TZID=Europe/Helsinki:20240321T110000
DTEND;TZID=Europe/Helsinki:20240321T120000
DTSTAMP:20260424T212921
CREATED:20240125T131132Z
LAST-MODIFIED:20240408T123339Z
UID:10006022-1711018800-1711022400@kalenteri.niemikoti.fi
SUMMARY:Morning Coffee in english
DESCRIPTION:Opitaan ja pidetään yllä englannin kielen taitoa yhdessä keskustellen. Sopii kaikille kiinnostuneille\, ei taitotasovaatimuksia. \nConversation in English. No skill level requirements. \n 
URL:https://kalenteri.niemikoti.fi/tapahtuma/morning-coffee-in-english/2024-03-21/
LOCATION:Toimintakeskus Villa Borgis\, Linnavuorentie 13\, Helsinki\, 00950\, Finland
CATEGORIES:Toimintakeskus Villa Borgis
END:VEVENT
BEGIN:VEVENT
DTSTART;TZID=Europe/Helsinki:20240322T123000
DTEND;TZID=Europe/Helsinki:20240322T140000
DTSTAMP:20260424T212921
CREATED:20240129T123333Z
LAST-MODIFIED:20240528T092459Z
UID:10005556-1711110600-1711116000@kalenteri.niemikoti.fi
SUMMARY:Sirkuspaja Malmilla
DESCRIPTION:Tehdään yhdessä sirkusvälineitä ja harjoitellaan pihalla temppuja. Ilmoittaudu mukaan!
URL:https://kalenteri.niemikoti.fi/tapahtuma/perjantaidokkari-malmilla/2024-03-22/
LOCATION:Malmin päivätoimintakeskus\, Vanha Helsingintie 9\, Helsinki\, 00700\, Finland
CATEGORIES:Malmin päivätoimintakeskus
END:VEVENT
BEGIN:VEVENT
DTSTART;TZID=Europe/Helsinki:20240328T110000
DTEND;TZID=Europe/Helsinki:20240328T120000
DTSTAMP:20260424T212921
CREATED:20240125T131132Z
LAST-MODIFIED:20240408T123339Z
UID:10006023-1711623600-1711627200@kalenteri.niemikoti.fi
SUMMARY:Morning Coffee in english
DESCRIPTION:Opitaan ja pidetään yllä englannin kielen taitoa yhdessä keskustellen. Sopii kaikille kiinnostuneille\, ei taitotasovaatimuksia. \nConversation in English. No skill level requirements. \n 
URL:https://kalenteri.niemikoti.fi/tapahtuma/morning-coffee-in-english/2024-03-28/
LOCATION:Toimintakeskus Villa Borgis\, Linnavuorentie 13\, Helsinki\, 00950\, Finland
CATEGORIES:Toimintakeskus Villa Borgis
END:VEVENT
BEGIN:VEVENT
DTSTART;TZID=Europe/Helsinki:20240329T123000
DTEND;TZID=Europe/Helsinki:20240329T140000
DTSTAMP:20260424T212921
CREATED:20240129T123333Z
LAST-MODIFIED:20240528T092459Z
UID:10005557-1711715400-1711720800@kalenteri.niemikoti.fi
SUMMARY:Sirkuspaja Malmilla
DESCRIPTION:Tehdään yhdessä sirkusvälineitä ja harjoitellaan pihalla temppuja. Ilmoittaudu mukaan!
URL:https://kalenteri.niemikoti.fi/tapahtuma/perjantaidokkari-malmilla/2024-03-29/
LOCATION:Malmin päivätoimintakeskus\, Vanha Helsingintie 9\, Helsinki\, 00700\, Finland
CATEGORIES:Malmin päivätoimintakeskus
END:VEVENT
BEGIN:VEVENT
DTSTART;TZID=Europe/Helsinki:20240404T110000
DTEND;TZID=Europe/Helsinki:20240404T120000
DTSTAMP:20260424T212921
CREATED:20240125T131132Z
LAST-MODIFIED:20240408T123339Z
UID:10006024-1712228400-1712232000@kalenteri.niemikoti.fi
SUMMARY:Morning Coffee in english
DESCRIPTION:Opitaan ja pidetään yllä englannin kielen taitoa yhdessä keskustellen. Sopii kaikille kiinnostuneille\, ei taitotasovaatimuksia. \nConversation in English. No skill level requirements. \n 
URL:https://kalenteri.niemikoti.fi/tapahtuma/morning-coffee-in-english/2024-04-04/
LOCATION:Toimintakeskus Villa Borgis\, Linnavuorentie 13\, Helsinki\, 00950\, Finland
CATEGORIES:Toimintakeskus Villa Borgis
END:VEVENT
BEGIN:VEVENT
DTSTART;TZID=Europe/Helsinki:20240405T123000
DTEND;TZID=Europe/Helsinki:20240405T140000
DTSTAMP:20260424T212921
CREATED:20240129T123333Z
LAST-MODIFIED:20240528T092459Z
UID:10005558-1712320200-1712325600@kalenteri.niemikoti.fi
SUMMARY:Sirkuspaja Malmilla
DESCRIPTION:Tehdään yhdessä sirkusvälineitä ja harjoitellaan pihalla temppuja. Ilmoittaudu mukaan!
URL:https://kalenteri.niemikoti.fi/tapahtuma/perjantaidokkari-malmilla/2024-04-05/
LOCATION:Malmin päivätoimintakeskus\, Vanha Helsingintie 9\, Helsinki\, 00700\, Finland
CATEGORIES:Malmin päivätoimintakeskus
END:VEVENT
BEGIN:VEVENT
DTSTART;TZID=Europe/Helsinki:20240412T123000
DTEND;TZID=Europe/Helsinki:20240412T140000
DTSTAMP:20260424T212921
CREATED:20240129T123333Z
LAST-MODIFIED:20240528T092459Z
UID:10005559-1712925000-1712930400@kalenteri.niemikoti.fi
SUMMARY:Sirkuspaja Malmilla
DESCRIPTION:Tehdään yhdessä sirkusvälineitä ja harjoitellaan pihalla temppuja. Ilmoittaudu mukaan!
URL:https://kalenteri.niemikoti.fi/tapahtuma/perjantaidokkari-malmilla/2024-04-12/
LOCATION:Malmin päivätoimintakeskus\, Vanha Helsingintie 9\, Helsinki\, 00700\, Finland
CATEGORIES:Malmin päivätoimintakeskus
END:VEVENT
BEGIN:VEVENT
DTSTART;TZID=Europe/Helsinki:20240418T110000
DTEND;TZID=Europe/Helsinki:20240418T120000
DTSTAMP:20260424T212921
CREATED:20240125T131132Z
LAST-MODIFIED:20240408T123339Z
UID:10006025-1713438000-1713441600@kalenteri.niemikoti.fi
SUMMARY:Morning Coffee in english
DESCRIPTION:Opitaan ja pidetään yllä englannin kielen taitoa yhdessä keskustellen. Sopii kaikille kiinnostuneille\, ei taitotasovaatimuksia. \nConversation in English. No skill level requirements. \n 
URL:https://kalenteri.niemikoti.fi/tapahtuma/morning-coffee-in-english/2024-04-18/
LOCATION:Toimintakeskus Villa Borgis\, Linnavuorentie 13\, Helsinki\, 00950\, Finland
CATEGORIES:Toimintakeskus Villa Borgis
END:VEVENT
BEGIN:VEVENT
DTSTART;TZID=Europe/Helsinki:20240419T123000
DTEND;TZID=Europe/Helsinki:20240419T140000
DTSTAMP:20260424T212921
CREATED:20240129T123333Z
LAST-MODIFIED:20240528T092459Z
UID:10005560-1713529800-1713535200@kalenteri.niemikoti.fi
SUMMARY:Sirkuspaja Malmilla
DESCRIPTION:Tehdään yhdessä sirkusvälineitä ja harjoitellaan pihalla temppuja. Ilmoittaudu mukaan!
URL:https://kalenteri.niemikoti.fi/tapahtuma/perjantaidokkari-malmilla/2024-04-19/
LOCATION:Malmin päivätoimintakeskus\, Vanha Helsingintie 9\, Helsinki\, 00700\, Finland
CATEGORIES:Malmin päivätoimintakeskus
END:VEVENT
BEGIN:VEVENT
DTSTART;TZID=Europe/Helsinki:20240424T130000
DTEND;TZID=Europe/Helsinki:20240424T150000
DTSTAMP:20260424T212921
CREATED:20240423T063942Z
LAST-MODIFIED:20240423T063942Z
UID:10010596-1713963600-1713970800@kalenteri.niemikoti.fi
SUMMARY:CV-PAJA
DESCRIPTION:Saat tukea CV:si tekemiseen tai päivittämiseen. Pohditaan yhdessä osaamistasi ja vahvuuksiasi ja tuodaan ne esille. Opit käyttämään CV:n tekemiseen erilaisia mallipohjia tai luomaan ihan oman. Jos sinulla on työ-\, koulu- tai kurssitodistuksia\, ota ne mukaan. Jos sinulta puuttuu työhistoriaa tai koulutus\, sekään ei haittaa. Taitoja ja vahvuuksia kertyy niin paljon muustakin! Ei ennakkoilmoittautumista\, tule vain paikalle :).
URL:https://kalenteri.niemikoti.fi/tapahtuma/cv-paja-3/2024-04-24/
LOCATION:Valtti Valmennus\, Elimäenkatu 26\, Helsinki\, 00510\, Finland
CATEGORIES:Valtti Valmennus
ATTACH;FMTTYPE=image/png:https://kalenteri.niemikoti.fi/wp-content/uploads/2024/04/cv-paja-2.png
END:VEVENT
BEGIN:VEVENT
DTSTART;TZID=Europe/Helsinki:20240425T110000
DTEND;TZID=Europe/Helsinki:20240425T120000
DTSTAMP:20260424T212921
CREATED:20240125T131132Z
LAST-MODIFIED:20240408T123339Z
UID:10006026-1714042800-1714046400@kalenteri.niemikoti.fi
SUMMARY:Morning Coffee in english
DESCRIPTION:Opitaan ja pidetään yllä englannin kielen taitoa yhdessä keskustellen. Sopii kaikille kiinnostuneille\, ei taitotasovaatimuksia. \nConversation in English. No skill level requirements. \n 
URL:https://kalenteri.niemikoti.fi/tapahtuma/morning-coffee-in-english/2024-04-25/
LOCATION:Toimintakeskus Villa Borgis\, Linnavuorentie 13\, Helsinki\, 00950\, Finland
CATEGORIES:Toimintakeskus Villa Borgis
END:VEVENT
BEGIN:VEVENT
DTSTART;TZID=Europe/Helsinki:20240425T140000
DTEND;TZID=Europe/Helsinki:20240425T153000
DTSTAMP:20260424T212921
CREATED:20240318T130645Z
LAST-MODIFIED:20240318T130645Z
UID:10006768-1714053600-1714059000@kalenteri.niemikoti.fi
SUMMARY:Kaupunkiviljelyinfo Malmilla
DESCRIPTION:Kaupunkiviljelyryhmän esittely Perho Liiketalousopiston Malmin toimipisteen auditoriossa (Osoite Vanha Helsingintie 13). Niemikotisäätiön ja Green City Farmin kaupunkiviljelyryhmät pyörähtävät taas käyntiin toukokuun alusta alkaen. Tule kuuntelemaan mitä kaupunkiviljely tarkoittaa ja mitä mukavaa luontolähtöistä tekemistä ryhmä voisi sinulle tarjota.
URL:https://kalenteri.niemikoti.fi/tapahtuma/kaupunkiviljelyinfo-malmilla/
LOCATION:Green City Farm c/o Perho Liiketalousopisto\, Vanha Helsingintie 13\, Helsinki\, 00700
CATEGORIES:Kulttuuripaja ELVIS,Malmin päivätoimintakeskus,Toimintakeskus Villa Borgis
END:VEVENT
BEGIN:VEVENT
DTSTART;TZID=Europe/Helsinki:20240426T123000
DTEND;TZID=Europe/Helsinki:20240426T140000
DTSTAMP:20260424T212921
CREATED:20240129T123333Z
LAST-MODIFIED:20240528T092459Z
UID:10005561-1714134600-1714140000@kalenteri.niemikoti.fi
SUMMARY:Sirkuspaja Malmilla
DESCRIPTION:Tehdään yhdessä sirkusvälineitä ja harjoitellaan pihalla temppuja. Ilmoittaudu mukaan!
URL:https://kalenteri.niemikoti.fi/tapahtuma/perjantaidokkari-malmilla/2024-04-26/
LOCATION:Malmin päivätoimintakeskus\, Vanha Helsingintie 9\, Helsinki\, 00700\, Finland
CATEGORIES:Malmin päivätoimintakeskus
END:VEVENT
BEGIN:VEVENT
DTSTART;TZID=Europe/Helsinki:20240503T123000
DTEND;TZID=Europe/Helsinki:20240503T140000
DTSTAMP:20260424T212921
CREATED:20240129T123333Z
LAST-MODIFIED:20240528T092459Z
UID:10005562-1714739400-1714744800@kalenteri.niemikoti.fi
SUMMARY:Sirkuspaja Malmilla
DESCRIPTION:Tehdään yhdessä sirkusvälineitä ja harjoitellaan pihalla temppuja. Ilmoittaudu mukaan!
URL:https://kalenteri.niemikoti.fi/tapahtuma/perjantaidokkari-malmilla/2024-05-03/
LOCATION:Malmin päivätoimintakeskus\, Vanha Helsingintie 9\, Helsinki\, 00700\, Finland
CATEGORIES:Malmin päivätoimintakeskus
END:VEVENT
BEGIN:VEVENT
DTSTART;TZID=Europe/Helsinki:20240510T123000
DTEND;TZID=Europe/Helsinki:20240510T140000
DTSTAMP:20260424T212921
CREATED:20240129T123333Z
LAST-MODIFIED:20240528T092459Z
UID:10005563-1715344200-1715349600@kalenteri.niemikoti.fi
SUMMARY:Sirkuspaja Malmilla
DESCRIPTION:Tehdään yhdessä sirkusvälineitä ja harjoitellaan pihalla temppuja. Ilmoittaudu mukaan!
URL:https://kalenteri.niemikoti.fi/tapahtuma/perjantaidokkari-malmilla/2024-05-10/
LOCATION:Malmin päivätoimintakeskus\, Vanha Helsingintie 9\, Helsinki\, 00700\, Finland
CATEGORIES:Malmin päivätoimintakeskus
END:VEVENT
BEGIN:VEVENT
DTSTART;TZID=Europe/Helsinki:20240514T100000
DTEND;TZID=Europe/Helsinki:20240514T140000
DTSTAMP:20260424T212921
CREATED:20240510T052830Z
LAST-MODIFIED:20240510T052830Z
UID:10011697-1715680800-1715695200@kalenteri.niemikoti.fi
SUMMARY:Löytöretki Niilon maailmaan
DESCRIPTION:Tervetuloa löytöretkelle Niilon maailmaan! \nMieli Töihin – yksikössä (Maistraatinkatu 6\, 00240 Helsinki) pidetään kaksi samansisältöistä työpajaa 14.5. ja 15.5. klo 10–14. Työpajoissa tutustutaan Niilo-sovelluksen käyttöön ja muihin Niilon käyttäjiin. Päivän päätteeksi on grillausta. \nTarvitset: Älykännykän\, mutta jos sinulla ei ole omaa kännykkää\, on mahdollista lainata talon puhelimia. \nIlmoittautuminen:\ntuki.niilo@niemikoti.fi\n0505882282 Teppo\n0505992019 Santtu \nPaikat täytetään ilmoittautumisjärjestyksessä. Paikkasi varmistuu saatuasi vastausmeilin. Kerro mahdollinen erityisruokavalio ilmoittautumisen yhteydessä. \nNiilo-sovelluksen löydät osoitteesta. https://niilo.niemikoti.fi
URL:https://kalenteri.niemikoti.fi/tapahtuma/loytoretki-niilon-maailmaan/
ATTACH;FMTTYPE=image/jpeg:https://kalenteri.niemikoti.fi/wp-content/uploads/2024/05/LNM-2024-Pasilassa.jpg
END:VEVENT
BEGIN:VEVENT
DTSTART;TZID=Europe/Helsinki:20240515T100000
DTEND;TZID=Europe/Helsinki:20240515T140000
DTSTAMP:20260424T212921
CREATED:20240510T053343Z
LAST-MODIFIED:20240510T053343Z
UID:10011698-1715767200-1715781600@kalenteri.niemikoti.fi
SUMMARY:Löytöretki Niilon maailmaan
DESCRIPTION:Tervetuloa löytöretkelle Niilon maailmaan! \nMieli Töihin – yksikössä (Maistraatinkatu 6\, 00240 Helsinki) pidetään kaksi samansisältöistä työpajaa 14.5. ja 15.5. klo 10–14. Työpajoissa tutustutaan Niilo-sovelluksen käyttöön ja muihin Niilon käyttäjiin. Päivän päätteeksi on grillausta. \nTarvitset: Älykännykän\, mutta jos sinulla ei ole omaa kännykkää\, on mahdollista lainata talon puhelimia. \nIlmoittautuminen:\ntuki.niilo@niemikoti.fi\n0505882282 Teppo\n0505992019 Santtu \nPaikat täytetään ilmoittautumisjärjestyksessä. Paikkasi varmistuu saatuasi vastausmeilin. Kerro mahdollinen erityisruokavalio ilmoittautumisen yhteydessä. \nNiilo-sovelluksen löydät osoitteesta. https://niilo.niemikoti.fi
URL:https://kalenteri.niemikoti.fi/tapahtuma/loytoretki-niilon-maailmaan-2/
LOCATION:Mieli Töihin -valmennus\, Maistraatinkatu 6\, Helsinki\, 00240\, Finland
CATEGORIES:Mieli Töihin -valmennus
ATTACH;FMTTYPE=image/jpeg:https://kalenteri.niemikoti.fi/wp-content/uploads/2024/05/LNM-2024-Pasilassa-1.jpg
END:VEVENT
BEGIN:VEVENT
DTSTART;TZID=Europe/Helsinki:20240517T123000
DTEND;TZID=Europe/Helsinki:20240517T140000
DTSTAMP:20260424T212921
CREATED:20240129T123333Z
LAST-MODIFIED:20240528T092459Z
UID:10005564-1715949000-1715954400@kalenteri.niemikoti.fi
SUMMARY:Sirkuspaja Malmilla
DESCRIPTION:Tehdään yhdessä sirkusvälineitä ja harjoitellaan pihalla temppuja. Ilmoittaudu mukaan!
URL:https://kalenteri.niemikoti.fi/tapahtuma/perjantaidokkari-malmilla/2024-05-17/
LOCATION:Malmin päivätoimintakeskus\, Vanha Helsingintie 9\, Helsinki\, 00700\, Finland
CATEGORIES:Malmin päivätoimintakeskus
END:VEVENT
BEGIN:VEVENT
DTSTART;TZID=Europe/Helsinki:20240529T130000
DTEND;TZID=Europe/Helsinki:20240529T150000
DTSTAMP:20260424T212921
CREATED:20240423T063942Z
LAST-MODIFIED:20240423T063942Z
UID:10010597-1716987600-1716994800@kalenteri.niemikoti.fi
SUMMARY:CV-PAJA
DESCRIPTION:Saat tukea CV:si tekemiseen tai päivittämiseen. Pohditaan yhdessä osaamistasi ja vahvuuksiasi ja tuodaan ne esille. Opit käyttämään CV:n tekemiseen erilaisia mallipohjia tai luomaan ihan oman. Jos sinulla on työ-\, koulu- tai kurssitodistuksia\, ota ne mukaan. Jos sinulta puuttuu työhistoriaa tai koulutus\, sekään ei haittaa. Taitoja ja vahvuuksia kertyy niin paljon muustakin! Ei ennakkoilmoittautumista\, tule vain paikalle :).
URL:https://kalenteri.niemikoti.fi/tapahtuma/cv-paja-3/2024-05-29/
LOCATION:Valtti Valmennus\, Elimäenkatu 26\, Helsinki\, 00510\, Finland
CATEGORIES:Valtti Valmennus
ATTACH;FMTTYPE=image/png:https://kalenteri.niemikoti.fi/wp-content/uploads/2024/04/cv-paja-2.png
END:VEVENT
BEGIN:VEVENT
DTSTART;TZID=Europe/Helsinki:20240531T123000
DTEND;TZID=Europe/Helsinki:20240531T140000
DTSTAMP:20260424T212921
CREATED:20240129T123333Z
LAST-MODIFIED:20240528T092459Z
UID:10005566-1717158600-1717164000@kalenteri.niemikoti.fi
SUMMARY:Sirkuspaja Malmilla
DESCRIPTION:Tehdään yhdessä sirkusvälineitä ja harjoitellaan pihalla temppuja. Ilmoittaudu mukaan!
URL:https://kalenteri.niemikoti.fi/tapahtuma/perjantaidokkari-malmilla/2024-05-31/
LOCATION:Malmin päivätoimintakeskus\, Vanha Helsingintie 9\, Helsinki\, 00700\, Finland
CATEGORIES:Malmin päivätoimintakeskus
END:VEVENT
BEGIN:VEVENT
DTSTART;TZID=Europe/Helsinki:20240605T110000
DTEND;TZID=Europe/Helsinki:20240605T123000
DTSTAMP:20260424T212921
CREATED:20240429T070043Z
LAST-MODIFIED:20240429T070043Z
UID:10010615-1717585200-1717590600@kalenteri.niemikoti.fi
SUMMARY:Työelämä- ryhmä: Oma osaaminen ja vahvuudet
DESCRIPTION:Onko oman osaamisen sanoittaminen vaikeata? Mitkä ovat vahvuutesi? Tule yhdessä miettimään ja keskustelemaan omista osaamisista ja vahvuuksista. Omien vahvuuksien ja osaamisten miettiminen auttaa sinua esimerkiksi työhaastatteluissa ja CV:n tekemisessä.
URL:https://kalenteri.niemikoti.fi/tapahtuma/tyoelama-ryhma-oma-osaaminen-ja-vahvuudet-2/
LOCATION:Valtti Valmennus\, Elimäenkatu 26\, Helsinki\, 00510\, Finland
CATEGORIES:Valtti Valmennus
END:VEVENT
BEGIN:VEVENT
DTSTART;TZID=Europe/Helsinki:20240607T123000
DTEND;TZID=Europe/Helsinki:20240607T140000
DTSTAMP:20260424T212921
CREATED:20240129T123333Z
LAST-MODIFIED:20240528T092459Z
UID:10005567-1717763400-1717768800@kalenteri.niemikoti.fi
SUMMARY:Sirkuspaja Malmilla
DESCRIPTION:Tehdään yhdessä sirkusvälineitä ja harjoitellaan pihalla temppuja. Ilmoittaudu mukaan!
URL:https://kalenteri.niemikoti.fi/tapahtuma/perjantaidokkari-malmilla/2024-06-07/
LOCATION:Malmin päivätoimintakeskus\, Vanha Helsingintie 9\, Helsinki\, 00700\, Finland
CATEGORIES:Malmin päivätoimintakeskus
END:VEVENT
END:VCALENDAR