BEGIN:VCALENDAR
VERSION:2.0
PRODID:-//Tapahtumakalenteri - ECPv6.15.18//NONSGML v1.0//EN
CALSCALE:GREGORIAN
METHOD:PUBLISH
X-ORIGINAL-URL:https://kalenteri.niemikoti.fi
X-WR-CALDESC:Tapahtumat Tapahtumakalenteri
REFRESH-INTERVAL;VALUE=DURATION:PT1H
X-Robots-Tag:noindex
X-PUBLISHED-TTL:PT1H
BEGIN:VTIMEZONE
TZID:Europe/Helsinki
BEGIN:DAYLIGHT
TZOFFSETFROM:+0200
TZOFFSETTO:+0300
TZNAME:EEST
DTSTART:20240331T010000
END:DAYLIGHT
BEGIN:STANDARD
TZOFFSETFROM:+0300
TZOFFSETTO:+0200
TZNAME:EET
DTSTART:20241027T010000
END:STANDARD
BEGIN:DAYLIGHT
TZOFFSETFROM:+0200
TZOFFSETTO:+0300
TZNAME:EEST
DTSTART:20250330T010000
END:DAYLIGHT
BEGIN:STANDARD
TZOFFSETFROM:+0300
TZOFFSETTO:+0200
TZNAME:EET
DTSTART:20251026T010000
END:STANDARD
BEGIN:DAYLIGHT
TZOFFSETFROM:+0200
TZOFFSETTO:+0300
TZNAME:EEST
DTSTART:20260329T010000
END:DAYLIGHT
BEGIN:STANDARD
TZOFFSETFROM:+0300
TZOFFSETTO:+0200
TZNAME:EET
DTSTART:20261025T010000
END:STANDARD
BEGIN:DAYLIGHT
TZOFFSETFROM:+0200
TZOFFSETTO:+0300
TZNAME:EEST
DTSTART:20270328T010000
END:DAYLIGHT
BEGIN:STANDARD
TZOFFSETFROM:+0300
TZOFFSETTO:+0200
TZNAME:EET
DTSTART:20271031T010000
END:STANDARD
END:VTIMEZONE
BEGIN:VEVENT
DTSTART;TZID=Europe/Helsinki:20260416T120000
DTEND;TZID=Europe/Helsinki:20260416T160000
DTSTAMP:20260421T204024
CREATED:20260320T090751Z
LAST-MODIFIED:20260320T091039Z
UID:10036879-1776340800-1776355200@kalenteri.niemikoti.fi
SUMMARY:Auta luontoa – autat itseäsi -ympäristötapahtuma
DESCRIPTION:Tervetuloa päivätoiminnan ja Ympäristötyöryhmän järjestämään tapahtumaan. Tapahtuma tarjoaa mahdollisuuden oppia uutta\, osallistua yhdessä tekemiseen ja vahvistaa yhteistä vastuuta ympäristöstä – pienin teoin arjessa. Jos haluat tehdä ostoksia kädentaitopöydästä\, varaa mukaan hieman käteistä rahaa – tuotto lahjoitetaan luonnonsuojeluun. Tapahtuma on avoin myös läheisille. Kahvitarjoilu.
URL:https://kalenteri.niemikoti.fi/tapahtuma/auta-luontoa-autat-itseasi-ymparistotapahtuma/
LOCATION:Malmin päivätoimintakeskus\, Vanha Helsingintie 9\, Helsinki\, 00700\, Finland
ATTACH;FMTTYPE=image/jpeg:https://kalenteri.niemikoti.fi/wp-content/uploads/2026/03/Ymparistotapahtuma16042026.jpg
END:VEVENT
BEGIN:VEVENT
DTSTART;TZID=Europe/Helsinki:20251223T110000
DTEND;TZID=Europe/Helsinki:20251223T130000
DTSTAMP:20260421T204024
CREATED:20251212T072026Z
LAST-MODIFIED:20251212T072026Z
UID:10025655-1766487600-1766494800@kalenteri.niemikoti.fi
SUMMARY:Puutyöpajat
DESCRIPTION:Tule mukaan Villa Borgiksen joulu-etkoille! Puutyöpajoissa tehdään pieniä puutöitä käsityökaluilla. Ilmoittaudu. \nMa 22.12 klo 11 – 14 \nTi 23.12 klo 11 – 13
URL:https://kalenteri.niemikoti.fi/tapahtuma/puutyopajat-2/
LOCATION:Toimintakeskus Villa Borgis\, Linnavuorentie 13\, Helsinki\, 00950\, Finland
CATEGORIES:Toimintakeskus Villa Borgis
ATTACH;FMTTYPE=image/jpeg:https://kalenteri.niemikoti.fi/wp-content/uploads/2025/12/Red-and-White-Watercolor-Illustrative-Christmas-Menu-1.jpg
END:VEVENT
BEGIN:VEVENT
DTSTART;TZID=Europe/Helsinki:20251222T110000
DTEND;TZID=Europe/Helsinki:20251222T140000
DTSTAMP:20260421T204024
CREATED:20251212T071518Z
LAST-MODIFIED:20251217T075342Z
UID:10025654-1766401200-1766412000@kalenteri.niemikoti.fi
SUMMARY:Puutyöpajat
DESCRIPTION:Tule mukaan Villa Borgiksen joulu-etkoille! Puutyöpajoissa tehdään pieniä puutöitä käsityökaluilla. Ilmoittaudu. \nMa 22.12 klo 11 – 14 \nTi 23.12 klo 11 – 13
URL:https://kalenteri.niemikoti.fi/tapahtuma/puutyopajat/
LOCATION:Toimintakeskus Villa Borgis\, Linnavuorentie 13\, Helsinki\, 00950\, Finland
CATEGORIES:Toimintakeskus Villa Borgis
ATTACH;FMTTYPE=image/jpeg:https://kalenteri.niemikoti.fi/wp-content/uploads/2025/12/Red-and-White-Watercolor-Illustrative-Christmas-Menu.jpg
END:VEVENT
BEGIN:VEVENT
DTSTART;TZID=Europe/Helsinki:20251217T093000
DTEND;TZID=Europe/Helsinki:20251217T120000
DTSTAMP:20260421T204024
CREATED:20251127T090708Z
LAST-MODIFIED:20251127T090708Z
UID:10025546-1765963800-1765972800@kalenteri.niemikoti.fi
SUMMARY:Joululeipurit
DESCRIPTION:Leivotaan yhdessä joulukuisia herkkuja.
URL:https://kalenteri.niemikoti.fi/tapahtuma/joululeipurit-3/2025-12-17/
LOCATION:Toimintakeskus Villa Borgis\, Linnavuorentie 13\, Helsinki\, 00950\, Finland
CATEGORIES:Toimintakeskus Villa Borgis
END:VEVENT
BEGIN:VEVENT
DTSTART;TZID=Europe/Helsinki:20251211T130000
DTEND;TZID=Europe/Helsinki:20251211T150000
DTSTAMP:20260421T204024
CREATED:20251128T084638Z
LAST-MODIFIED:20251128T101907Z
UID:10025554-1765458000-1765465200@kalenteri.niemikoti.fi
SUMMARY:Villa Borgiksen joulupajat
DESCRIPTION:Tervetuloa tekemään jouluisia kädentaitoja. Ilmoittaudu mukaan. \n4.12. Kranssipaja \n11.12. Koristepaja – himmelit\, tähdet\, sydämet
URL:https://kalenteri.niemikoti.fi/tapahtuma/joulupajat/2025-12-11/
LOCATION:Toimintakeskus Villa Borgis\, Linnavuorentie 13\, Helsinki\, 00950\, Finland
CATEGORIES:Toimintakeskus Villa Borgis
ATTACH;FMTTYPE=image/jpeg:https://kalenteri.niemikoti.fi/wp-content/uploads/2025/11/Villa-Borgiksen-joulupajat-1.jpg
END:VEVENT
BEGIN:VEVENT
DTSTART;TZID=Europe/Helsinki:20251210T093000
DTEND;TZID=Europe/Helsinki:20251210T120000
DTSTAMP:20260421T204024
CREATED:20251127T090708Z
LAST-MODIFIED:20251127T090708Z
UID:10025545-1765359000-1765368000@kalenteri.niemikoti.fi
SUMMARY:Joululeipurit
DESCRIPTION:Leivotaan yhdessä joulukuisia herkkuja.
URL:https://kalenteri.niemikoti.fi/tapahtuma/joululeipurit-3/2025-12-10/
LOCATION:Toimintakeskus Villa Borgis\, Linnavuorentie 13\, Helsinki\, 00950\, Finland
CATEGORIES:Toimintakeskus Villa Borgis
END:VEVENT
BEGIN:VEVENT
DTSTART;TZID=Europe/Helsinki:20251204T130000
DTEND;TZID=Europe/Helsinki:20251204T150000
DTSTAMP:20260421T204024
CREATED:20251128T084638Z
LAST-MODIFIED:20251128T101907Z
UID:10025553-1764853200-1764860400@kalenteri.niemikoti.fi
SUMMARY:Villa Borgiksen joulupajat
DESCRIPTION:Tervetuloa tekemään jouluisia kädentaitoja. Ilmoittaudu mukaan. \n4.12. Kranssipaja \n11.12. Koristepaja – himmelit\, tähdet\, sydämet
URL:https://kalenteri.niemikoti.fi/tapahtuma/joulupajat/2025-12-04/
LOCATION:Toimintakeskus Villa Borgis\, Linnavuorentie 13\, Helsinki\, 00950\, Finland
CATEGORIES:Toimintakeskus Villa Borgis
ATTACH;FMTTYPE=image/jpeg:https://kalenteri.niemikoti.fi/wp-content/uploads/2025/11/Villa-Borgiksen-joulupajat-1.jpg
END:VEVENT
BEGIN:VEVENT
DTSTART;TZID=Europe/Helsinki:20251030T110000
DTEND;TZID=Europe/Helsinki:20251030T120000
DTSTAMP:20260421T204024
CREATED:20250723T115553Z
LAST-MODIFIED:20250924T123615Z
UID:10024834-1761822000-1761825600@kalenteri.niemikoti.fi
SUMMARY:Morning Coffee -englanninkielinen keskusteluryhmä
DESCRIPTION:Opitaan ja pidetään yllä englannin kielen taitoa yhdessä keskustellen. Learning English  together by talking about different items.
URL:https://kalenteri.niemikoti.fi/tapahtuma/morning-coffee-englanninkielinen-keskusteluryhma-2/2025-10-30/
LOCATION:Toimintakeskus Villa Borgis\, Linnavuorentie 13\, Helsinki\, 00950\, Finland
CATEGORIES:Toimintakeskus Villa Borgis
END:VEVENT
BEGIN:VEVENT
DTSTART;TZID=Europe/Helsinki:20251023T110000
DTEND;TZID=Europe/Helsinki:20251023T120000
DTSTAMP:20260421T204024
CREATED:20250723T115553Z
LAST-MODIFIED:20250924T123615Z
UID:10024833-1761217200-1761220800@kalenteri.niemikoti.fi
SUMMARY:Morning Coffee -englanninkielinen keskusteluryhmä
DESCRIPTION:Opitaan ja pidetään yllä englannin kielen taitoa yhdessä keskustellen. Learning English  together by talking about different items.
URL:https://kalenteri.niemikoti.fi/tapahtuma/morning-coffee-englanninkielinen-keskusteluryhma-2/2025-10-23/
LOCATION:Toimintakeskus Villa Borgis\, Linnavuorentie 13\, Helsinki\, 00950\, Finland
CATEGORIES:Toimintakeskus Villa Borgis
END:VEVENT
BEGIN:VEVENT
DTSTART;TZID=Europe/Helsinki:20251016T110000
DTEND;TZID=Europe/Helsinki:20251016T120000
DTSTAMP:20260421T204024
CREATED:20250723T115553Z
LAST-MODIFIED:20250924T123615Z
UID:10024832-1760612400-1760616000@kalenteri.niemikoti.fi
SUMMARY:Morning Coffee -englanninkielinen keskusteluryhmä
DESCRIPTION:Opitaan ja pidetään yllä englannin kielen taitoa yhdessä keskustellen. Learning English  together by talking about different items.
URL:https://kalenteri.niemikoti.fi/tapahtuma/morning-coffee-englanninkielinen-keskusteluryhma-2/2025-10-16/
LOCATION:Toimintakeskus Villa Borgis\, Linnavuorentie 13\, Helsinki\, 00950\, Finland
CATEGORIES:Toimintakeskus Villa Borgis
END:VEVENT
BEGIN:VEVENT
DTSTART;TZID=Europe/Helsinki:20251009T110000
DTEND;TZID=Europe/Helsinki:20251009T120000
DTSTAMP:20260421T204024
CREATED:20250723T115553Z
LAST-MODIFIED:20250924T123615Z
UID:10024831-1760007600-1760011200@kalenteri.niemikoti.fi
SUMMARY:Morning Coffee -englanninkielinen keskusteluryhmä
DESCRIPTION:Opitaan ja pidetään yllä englannin kielen taitoa yhdessä keskustellen. Learning English  together by talking about different items.
URL:https://kalenteri.niemikoti.fi/tapahtuma/morning-coffee-englanninkielinen-keskusteluryhma-2/2025-10-09/
LOCATION:Toimintakeskus Villa Borgis\, Linnavuorentie 13\, Helsinki\, 00950\, Finland
CATEGORIES:Toimintakeskus Villa Borgis
END:VEVENT
BEGIN:VEVENT
DTSTART;TZID=Europe/Helsinki:20251002T110000
DTEND;TZID=Europe/Helsinki:20251002T120000
DTSTAMP:20260421T204024
CREATED:20250723T115553Z
LAST-MODIFIED:20250924T123615Z
UID:10024830-1759402800-1759406400@kalenteri.niemikoti.fi
SUMMARY:Morning Coffee -englanninkielinen keskusteluryhmä
DESCRIPTION:Opitaan ja pidetään yllä englannin kielen taitoa yhdessä keskustellen. Learning English  together by talking about different items.
URL:https://kalenteri.niemikoti.fi/tapahtuma/morning-coffee-englanninkielinen-keskusteluryhma-2/2025-10-02/
LOCATION:Toimintakeskus Villa Borgis\, Linnavuorentie 13\, Helsinki\, 00950\, Finland
CATEGORIES:Toimintakeskus Villa Borgis
END:VEVENT
BEGIN:VEVENT
DTSTART;TZID=Europe/Helsinki:20250929T110000
DTEND;TZID=Europe/Helsinki:20250929T120000
DTSTAMP:20260421T204024
CREATED:20250810T184858Z
LAST-MODIFIED:20250930T083849Z
UID:10024065-1759143600-1759147200@kalenteri.niemikoti.fi
SUMMARY:Maanantaidokkari
DESCRIPTION:Täydentyvä ryhmä\, ilmoittaudu. Katsotaan yhdessä ajankohtainen tai muuten kiinnostava dokumentti ja keskustellaan siitä.  \nTäydentyvä ryhmä\, ilmoittaudu mukaan.
URL:https://kalenteri.niemikoti.fi/tapahtuma/maanantaidokkari-2/2025-09-29/
LOCATION:Malmin päivätoimintakeskus\, Vanha Helsingintie 9\, Helsinki\, 00700\, Finland
CATEGORIES:Malmin päivätoimintakeskus
ATTACH;FMTTYPE=image/jpeg:https://kalenteri.niemikoti.fi/wp-content/uploads/2025/08/Maanantaidokkari.jpg
END:VEVENT
BEGIN:VEVENT
DTSTART;TZID=Europe/Helsinki:20250924T130000
DTEND;TZID=Europe/Helsinki:20250924T143000
DTSTAMP:20260421T204024
CREATED:20250903T115215Z
LAST-MODIFIED:20250903T115215Z
UID:10024813-1758718800-1758724200@kalenteri.niemikoti.fi
SUMMARY:Puukäsitöitä
DESCRIPTION:Puun tuoksua ja onnistumisen iloa – tule veistämään yhdessä!\nPuutyöt ovat paljon enemmän kuin lautoja ja työkaluja. Kun tekeminen tarttuu käsiin\, kiireet unohtuvat ja keskittyminen löytää uuden suunnan. \nTule mukaan ryhmään\, jossa opit rauhassa\, saat tukea ohjaajalta ja pääset jakamaan onnistumisen hetket muiden kanssa. Et tarvitse aiempaa osaamista – into riittää. Yhdessä veistäminen on mukavaa seuraa\, uutta oppia ja oman käden jäljen näkemisen riemua. \nKokeile\, innostu ja veistä itsellesi hyvää mieltä!
URL:https://kalenteri.niemikoti.fi/tapahtuma/puukasitoita/
CATEGORIES:Toimintakeskus Villa Borgis
ATTACH;FMTTYPE=image/jpeg:https://kalenteri.niemikoti.fi/wp-content/uploads/2025/09/Puutyot-kuva-ja-teksti-keskitetty-1.jpg
END:VEVENT
BEGIN:VEVENT
DTSTART;TZID=Europe/Helsinki:20250922T110000
DTEND;TZID=Europe/Helsinki:20250922T120000
DTSTAMP:20260421T204024
CREATED:20250810T184858Z
LAST-MODIFIED:20250930T083849Z
UID:10024064-1758538800-1758542400@kalenteri.niemikoti.fi
SUMMARY:Maanantaidokkari
DESCRIPTION:Täydentyvä ryhmä\, ilmoittaudu. Katsotaan yhdessä ajankohtainen tai muuten kiinnostava dokumentti ja keskustellaan siitä.  \nTäydentyvä ryhmä\, ilmoittaudu mukaan.
URL:https://kalenteri.niemikoti.fi/tapahtuma/maanantaidokkari-2/2025-09-22/
LOCATION:Malmin päivätoimintakeskus\, Vanha Helsingintie 9\, Helsinki\, 00700\, Finland
CATEGORIES:Malmin päivätoimintakeskus
ATTACH;FMTTYPE=image/jpeg:https://kalenteri.niemikoti.fi/wp-content/uploads/2025/08/Maanantaidokkari.jpg
END:VEVENT
BEGIN:VEVENT
DTSTART;TZID=Europe/Helsinki:20250915T110000
DTEND;TZID=Europe/Helsinki:20250915T120000
DTSTAMP:20260421T204024
CREATED:20250810T184858Z
LAST-MODIFIED:20250930T083849Z
UID:10024063-1757934000-1757937600@kalenteri.niemikoti.fi
SUMMARY:Maanantaidokkari
DESCRIPTION:Täydentyvä ryhmä\, ilmoittaudu. Katsotaan yhdessä ajankohtainen tai muuten kiinnostava dokumentti ja keskustellaan siitä.  \nTäydentyvä ryhmä\, ilmoittaudu mukaan.
URL:https://kalenteri.niemikoti.fi/tapahtuma/maanantaidokkari-2/2025-09-15/
LOCATION:Malmin päivätoimintakeskus\, Vanha Helsingintie 9\, Helsinki\, 00700\, Finland
CATEGORIES:Malmin päivätoimintakeskus
ATTACH;FMTTYPE=image/jpeg:https://kalenteri.niemikoti.fi/wp-content/uploads/2025/08/Maanantaidokkari.jpg
END:VEVENT
BEGIN:VEVENT
DTSTART;TZID=Europe/Helsinki:20250911T110000
DTEND;TZID=Europe/Helsinki:20250911T120000
DTSTAMP:20260421T204024
CREATED:20250723T115553Z
LAST-MODIFIED:20250924T123615Z
UID:10024498-1757588400-1757592000@kalenteri.niemikoti.fi
SUMMARY:Morning Coffee -englanninkielinen keskusteluryhmä
DESCRIPTION:Opitaan ja pidetään yllä englannin kielen taitoa yhdessä keskustellen. Learning English  together by talking about different items.
URL:https://kalenteri.niemikoti.fi/tapahtuma/morning-coffee-englanninkielinen-keskusteluryhma-2/2025-09-11/
LOCATION:Toimintakeskus Villa Borgis\, Linnavuorentie 13\, Helsinki\, 00950\, Finland
CATEGORIES:Toimintakeskus Villa Borgis
END:VEVENT
BEGIN:VEVENT
DTSTART;TZID=Europe/Helsinki:20250908T110000
DTEND;TZID=Europe/Helsinki:20250908T120000
DTSTAMP:20260421T204024
CREATED:20250810T184858Z
LAST-MODIFIED:20250930T083849Z
UID:10024062-1757329200-1757332800@kalenteri.niemikoti.fi
SUMMARY:Maanantaidokkari
DESCRIPTION:Täydentyvä ryhmä\, ilmoittaudu. Katsotaan yhdessä ajankohtainen tai muuten kiinnostava dokumentti ja keskustellaan siitä.  \nTäydentyvä ryhmä\, ilmoittaudu mukaan.
URL:https://kalenteri.niemikoti.fi/tapahtuma/maanantaidokkari-2/2025-09-08/
LOCATION:Malmin päivätoimintakeskus\, Vanha Helsingintie 9\, Helsinki\, 00700\, Finland
CATEGORIES:Malmin päivätoimintakeskus
ATTACH;FMTTYPE=image/jpeg:https://kalenteri.niemikoti.fi/wp-content/uploads/2025/08/Maanantaidokkari.jpg
END:VEVENT
BEGIN:VEVENT
DTSTART;TZID=Europe/Helsinki:20250904T110000
DTEND;TZID=Europe/Helsinki:20250904T120000
DTSTAMP:20260421T204024
CREATED:20250723T115553Z
LAST-MODIFIED:20250924T123615Z
UID:10024497-1756983600-1756987200@kalenteri.niemikoti.fi
SUMMARY:Morning Coffee -englanninkielinen keskusteluryhmä
DESCRIPTION:Opitaan ja pidetään yllä englannin kielen taitoa yhdessä keskustellen. Learning English  together by talking about different items.
URL:https://kalenteri.niemikoti.fi/tapahtuma/morning-coffee-englanninkielinen-keskusteluryhma-2/2025-09-04/
LOCATION:Toimintakeskus Villa Borgis\, Linnavuorentie 13\, Helsinki\, 00950\, Finland
CATEGORIES:Toimintakeskus Villa Borgis
END:VEVENT
BEGIN:VEVENT
DTSTART;TZID=Europe/Helsinki:20250901T110000
DTEND;TZID=Europe/Helsinki:20250901T120000
DTSTAMP:20260421T204024
CREATED:20250810T184858Z
LAST-MODIFIED:20250930T083849Z
UID:10024061-1756724400-1756728000@kalenteri.niemikoti.fi
SUMMARY:Maanantaidokkari
DESCRIPTION:Täydentyvä ryhmä\, ilmoittaudu. Katsotaan yhdessä ajankohtainen tai muuten kiinnostava dokumentti ja keskustellaan siitä.  \nTäydentyvä ryhmä\, ilmoittaudu mukaan.
URL:https://kalenteri.niemikoti.fi/tapahtuma/maanantaidokkari-2/2025-09-01/
LOCATION:Malmin päivätoimintakeskus\, Vanha Helsingintie 9\, Helsinki\, 00700\, Finland
CATEGORIES:Malmin päivätoimintakeskus
ATTACH;FMTTYPE=image/jpeg:https://kalenteri.niemikoti.fi/wp-content/uploads/2025/08/Maanantaidokkari.jpg
END:VEVENT
BEGIN:VEVENT
DTSTART;TZID=Europe/Helsinki:20250828T110000
DTEND;TZID=Europe/Helsinki:20250828T120000
DTSTAMP:20260421T204024
CREATED:20250723T115553Z
LAST-MODIFIED:20250924T123615Z
UID:10023330-1756378800-1756382400@kalenteri.niemikoti.fi
SUMMARY:Morning Coffee -englanninkielinen keskusteluryhmä
DESCRIPTION:Opitaan ja pidetään yllä englannin kielen taitoa yhdessä keskustellen. Learning English  together by talking about different items.
URL:https://kalenteri.niemikoti.fi/tapahtuma/morning-coffee-englanninkielinen-keskusteluryhma-2/2025-08-28/
LOCATION:Toimintakeskus Villa Borgis\, Linnavuorentie 13\, Helsinki\, 00950\, Finland
CATEGORIES:Toimintakeskus Villa Borgis
END:VEVENT
BEGIN:VEVENT
DTSTART;TZID=Europe/Helsinki:20250825T110000
DTEND;TZID=Europe/Helsinki:20250825T120000
DTSTAMP:20260421T204024
CREATED:20250810T184858Z
LAST-MODIFIED:20250930T083849Z
UID:10024060-1756119600-1756123200@kalenteri.niemikoti.fi
SUMMARY:Maanantaidokkari
DESCRIPTION:Täydentyvä ryhmä\, ilmoittaudu. Katsotaan yhdessä ajankohtainen tai muuten kiinnostava dokumentti ja keskustellaan siitä.  \nTäydentyvä ryhmä\, ilmoittaudu mukaan.
URL:https://kalenteri.niemikoti.fi/tapahtuma/maanantaidokkari-2/2025-08-25/
LOCATION:Malmin päivätoimintakeskus\, Vanha Helsingintie 9\, Helsinki\, 00700\, Finland
CATEGORIES:Malmin päivätoimintakeskus
ATTACH;FMTTYPE=image/jpeg:https://kalenteri.niemikoti.fi/wp-content/uploads/2025/08/Maanantaidokkari.jpg
END:VEVENT
BEGIN:VEVENT
DTSTART;TZID=Europe/Helsinki:20250821T110000
DTEND;TZID=Europe/Helsinki:20250821T120000
DTSTAMP:20260421T204024
CREATED:20250723T115553Z
LAST-MODIFIED:20250924T123615Z
UID:10023329-1755774000-1755777600@kalenteri.niemikoti.fi
SUMMARY:Morning Coffee -englanninkielinen keskusteluryhmä
DESCRIPTION:Opitaan ja pidetään yllä englannin kielen taitoa yhdessä keskustellen. Learning English  together by talking about different items.
URL:https://kalenteri.niemikoti.fi/tapahtuma/morning-coffee-englanninkielinen-keskusteluryhma-2/2025-08-21/
LOCATION:Toimintakeskus Villa Borgis\, Linnavuorentie 13\, Helsinki\, 00950\, Finland
CATEGORIES:Toimintakeskus Villa Borgis
END:VEVENT
BEGIN:VEVENT
DTSTART;TZID=Europe/Helsinki:20250818T110000
DTEND;TZID=Europe/Helsinki:20250818T120000
DTSTAMP:20260421T204024
CREATED:20250810T184858Z
LAST-MODIFIED:20250930T083849Z
UID:10024059-1755514800-1755518400@kalenteri.niemikoti.fi
SUMMARY:Maanantaidokkari
DESCRIPTION:Täydentyvä ryhmä\, ilmoittaudu. Katsotaan yhdessä ajankohtainen tai muuten kiinnostava dokumentti ja keskustellaan siitä.  \nTäydentyvä ryhmä\, ilmoittaudu mukaan.
URL:https://kalenteri.niemikoti.fi/tapahtuma/maanantaidokkari-2/2025-08-18/
LOCATION:Malmin päivätoimintakeskus\, Vanha Helsingintie 9\, Helsinki\, 00700\, Finland
CATEGORIES:Malmin päivätoimintakeskus
ATTACH;FMTTYPE=image/jpeg:https://kalenteri.niemikoti.fi/wp-content/uploads/2025/08/Maanantaidokkari.jpg
END:VEVENT
BEGIN:VEVENT
DTSTART;TZID=Europe/Helsinki:20250814T110000
DTEND;TZID=Europe/Helsinki:20250814T120000
DTSTAMP:20260421T204024
CREATED:20250723T115553Z
LAST-MODIFIED:20250924T123615Z
UID:10023328-1755169200-1755172800@kalenteri.niemikoti.fi
SUMMARY:Morning Coffee -englanninkielinen keskusteluryhmä
DESCRIPTION:Opitaan ja pidetään yllä englannin kielen taitoa yhdessä keskustellen. Learning English  together by talking about different items.
URL:https://kalenteri.niemikoti.fi/tapahtuma/morning-coffee-englanninkielinen-keskusteluryhma-2/2025-08-14/
LOCATION:Toimintakeskus Villa Borgis\, Linnavuorentie 13\, Helsinki\, 00950\, Finland
CATEGORIES:Toimintakeskus Villa Borgis
END:VEVENT
BEGIN:VEVENT
DTSTART;TZID=Europe/Helsinki:20250811T110000
DTEND;TZID=Europe/Helsinki:20250811T120000
DTSTAMP:20260421T204024
CREATED:20250810T184858Z
LAST-MODIFIED:20250930T083849Z
UID:10024058-1754910000-1754913600@kalenteri.niemikoti.fi
SUMMARY:Maanantaidokkari
DESCRIPTION:Täydentyvä ryhmä\, ilmoittaudu. Katsotaan yhdessä ajankohtainen tai muuten kiinnostava dokumentti ja keskustellaan siitä.  \nTäydentyvä ryhmä\, ilmoittaudu mukaan.
URL:https://kalenteri.niemikoti.fi/tapahtuma/maanantaidokkari-2/2025-08-11/
LOCATION:Malmin päivätoimintakeskus\, Vanha Helsingintie 9\, Helsinki\, 00700\, Finland
CATEGORIES:Malmin päivätoimintakeskus
ATTACH;FMTTYPE=image/jpeg:https://kalenteri.niemikoti.fi/wp-content/uploads/2025/08/Maanantaidokkari.jpg
END:VEVENT
BEGIN:VEVENT
DTSTART;TZID=Europe/Helsinki:20250807T110000
DTEND;TZID=Europe/Helsinki:20250807T120000
DTSTAMP:20260421T204024
CREATED:20250723T115553Z
LAST-MODIFIED:20250924T123615Z
UID:10023327-1754564400-1754568000@kalenteri.niemikoti.fi
SUMMARY:Morning Coffee -englanninkielinen keskusteluryhmä
DESCRIPTION:Opitaan ja pidetään yllä englannin kielen taitoa yhdessä keskustellen. Learning English  together by talking about different items.
URL:https://kalenteri.niemikoti.fi/tapahtuma/morning-coffee-englanninkielinen-keskusteluryhma-2/2025-08-07/
LOCATION:Toimintakeskus Villa Borgis\, Linnavuorentie 13\, Helsinki\, 00950\, Finland
CATEGORIES:Toimintakeskus Villa Borgis
END:VEVENT
BEGIN:VEVENT
DTSTART;TZID=Europe/Helsinki:20250626T110000
DTEND;TZID=Europe/Helsinki:20250626T120000
DTSTAMP:20260421T204024
CREATED:20250325T062827Z
LAST-MODIFIED:20250522T074931Z
UID:10022607-1750935600-1750939200@kalenteri.niemikoti.fi
SUMMARY:Morning Coffee -englanninkielinen keskusteluryhmä
DESCRIPTION:Opitaan ja pidetään yllä englannin kielen taitoa yhdessä keskustellen. Discussing in English – learning and keeping up English skills together.
URL:https://kalenteri.niemikoti.fi/tapahtuma/morning-coffee-englanninkielinen-keskusteluryhma/2025-06-26/
LOCATION:Toimintakeskus Villa Borgis\, Linnavuorentie 13\, Helsinki\, 00950\, Finland
CATEGORIES:Toimintakeskus Villa Borgis
END:VEVENT
BEGIN:VEVENT
DTSTART;TZID=Europe/Helsinki:20250623T110000
DTEND;TZID=Europe/Helsinki:20250623T120000
DTSTAMP:20260421T204024
CREATED:20250612T101453Z
LAST-MODIFIED:20250612T102520Z
UID:10023244-1750676400-1750680000@kalenteri.niemikoti.fi
SUMMARY:Maanantaidokkari
DESCRIPTION:Täydentyvä ryhmä\, ilmoittaudu. Katsotaan yhdessä ajankohtainen tai muuten kiinnostava dokumentti ja keskustellaan siitä. Täydentyvä ryhmä\, ilmoittaudu mukaan. \nEi ryhmää 30.6.
URL:https://kalenteri.niemikoti.fi/tapahtuma/maanantaidokkari/2025-06-23/
LOCATION:Malmin päivätoimintakeskus\, Vanha Helsingintie 9\, Helsinki\, 00700\, Finland
CATEGORIES:Malmin päivätoimintakeskus
ATTACH;FMTTYPE=image/jpeg:https://kalenteri.niemikoti.fi/wp-content/uploads/2025/06/Maanantaidokkari.jpg
END:VEVENT
BEGIN:VEVENT
DTSTART;TZID=Europe/Helsinki:20250616T110000
DTEND;TZID=Europe/Helsinki:20250616T120000
DTSTAMP:20260421T204024
CREATED:20250612T101453Z
LAST-MODIFIED:20250612T102520Z
UID:10023243-1750071600-1750075200@kalenteri.niemikoti.fi
SUMMARY:Maanantaidokkari
DESCRIPTION:Täydentyvä ryhmä\, ilmoittaudu. Katsotaan yhdessä ajankohtainen tai muuten kiinnostava dokumentti ja keskustellaan siitä. Täydentyvä ryhmä\, ilmoittaudu mukaan. \nEi ryhmää 30.6.
URL:https://kalenteri.niemikoti.fi/tapahtuma/maanantaidokkari/2025-06-16/
LOCATION:Malmin päivätoimintakeskus\, Vanha Helsingintie 9\, Helsinki\, 00700\, Finland
CATEGORIES:Malmin päivätoimintakeskus
ATTACH;FMTTYPE=image/jpeg:https://kalenteri.niemikoti.fi/wp-content/uploads/2025/06/Maanantaidokkari.jpg
END:VEVENT
END:VCALENDAR