BEGIN:VCALENDAR
VERSION:2.0
PRODID:-//Tapahtumakalenteri - ECPv6.15.18//NONSGML v1.0//EN
CALSCALE:GREGORIAN
METHOD:PUBLISH
X-WR-CALNAME:Tapahtumakalenteri
X-ORIGINAL-URL:https://kalenteri.niemikoti.fi
X-WR-CALDESC:Tapahtumat Tapahtumakalenteri
REFRESH-INTERVAL;VALUE=DURATION:PT1H
X-Robots-Tag:noindex
X-PUBLISHED-TTL:PT1H
BEGIN:VTIMEZONE
TZID:Europe/Helsinki
BEGIN:DAYLIGHT
TZOFFSETFROM:+0200
TZOFFSETTO:+0300
TZNAME:EEST
DTSTART:20220327T010000
END:DAYLIGHT
BEGIN:STANDARD
TZOFFSETFROM:+0300
TZOFFSETTO:+0200
TZNAME:EET
DTSTART:20221030T010000
END:STANDARD
BEGIN:DAYLIGHT
TZOFFSETFROM:+0200
TZOFFSETTO:+0300
TZNAME:EEST
DTSTART:20230326T010000
END:DAYLIGHT
BEGIN:STANDARD
TZOFFSETFROM:+0300
TZOFFSETTO:+0200
TZNAME:EET
DTSTART:20231029T010000
END:STANDARD
BEGIN:DAYLIGHT
TZOFFSETFROM:+0200
TZOFFSETTO:+0300
TZNAME:EEST
DTSTART:20240331T010000
END:DAYLIGHT
BEGIN:STANDARD
TZOFFSETFROM:+0300
TZOFFSETTO:+0200
TZNAME:EET
DTSTART:20241027T010000
END:STANDARD
BEGIN:DAYLIGHT
TZOFFSETFROM:+0200
TZOFFSETTO:+0300
TZNAME:EEST
DTSTART:20250330T010000
END:DAYLIGHT
BEGIN:STANDARD
TZOFFSETFROM:+0300
TZOFFSETTO:+0200
TZNAME:EET
DTSTART:20251026T010000
END:STANDARD
END:VTIMEZONE
BEGIN:VEVENT
DTSTART;TZID=Europe/Helsinki:20230607T110000
DTEND;TZID=Europe/Helsinki:20230607T130000
DTSTAMP:20260422T080709
CREATED:20230606T125016Z
LAST-MODIFIED:20230607T095222Z
UID:10001154-1686135600-1686142800@kalenteri.niemikoti.fi
SUMMARY:Pleikkapelien pelaamista Kulttuuripaja ELVIKSESSÄ
DESCRIPTION:Tervetuloa pelaamaan Pleikkapelejä ELVIKSEEN!
URL:https://kalenteri.niemikoti.fi/tapahtuma/pleikkapelien-pelaamista-kulttuuripaja-elviksessa/2023-06-07/
LOCATION:Kulttuuripaja ELVIS\, Lautatarhankatu 4\, Helsinki\, 00580\, Finland
CATEGORIES:Kulttuuripaja ELVIS
END:VEVENT
BEGIN:VEVENT
DTSTART;TZID=Europe/Helsinki:20230613T120000
DTEND;TZID=Europe/Helsinki:20230613T150000
DTSTAMP:20260422T080709
CREATED:20230606T131910Z
LAST-MODIFIED:20230607T095402Z
UID:10001164-1686657600-1686668400@kalenteri.niemikoti.fi
SUMMARY:Lautapelit
DESCRIPTION:Tervetuloa pelaamaan lautapelejä ELVIKSEEN!
URL:https://kalenteri.niemikoti.fi/tapahtuma/lautapelit/2023-06-13/
LOCATION:Kulttuuripaja ELVIS\, Lautatarhankatu 4\, Helsinki\, 00580\, Finland
CATEGORIES:Kulttuuripaja ELVIS
END:VEVENT
BEGIN:VEVENT
DTSTART;TZID=Europe/Helsinki:20230614T110000
DTEND;TZID=Europe/Helsinki:20230614T130000
DTSTAMP:20260422T080709
CREATED:20230606T125016Z
LAST-MODIFIED:20230607T095222Z
UID:10001155-1686740400-1686747600@kalenteri.niemikoti.fi
SUMMARY:Pleikkapelien pelaamista Kulttuuripaja ELVIKSESSÄ
DESCRIPTION:Tervetuloa pelaamaan Pleikkapelejä ELVIKSEEN!
URL:https://kalenteri.niemikoti.fi/tapahtuma/pleikkapelien-pelaamista-kulttuuripaja-elviksessa/2023-06-14/
LOCATION:Kulttuuripaja ELVIS\, Lautatarhankatu 4\, Helsinki\, 00580\, Finland
CATEGORIES:Kulttuuripaja ELVIS
END:VEVENT
BEGIN:VEVENT
DTSTART;TZID=Europe/Helsinki:20230620T120000
DTEND;TZID=Europe/Helsinki:20230620T150000
DTSTAMP:20260422T080709
CREATED:20230606T131910Z
LAST-MODIFIED:20230607T095402Z
UID:10001165-1687262400-1687273200@kalenteri.niemikoti.fi
SUMMARY:Lautapelit
DESCRIPTION:Tervetuloa pelaamaan lautapelejä ELVIKSEEN!
URL:https://kalenteri.niemikoti.fi/tapahtuma/lautapelit/2023-06-20/
LOCATION:Kulttuuripaja ELVIS\, Lautatarhankatu 4\, Helsinki\, 00580\, Finland
CATEGORIES:Kulttuuripaja ELVIS
END:VEVENT
BEGIN:VEVENT
DTSTART;TZID=Europe/Helsinki:20230621T110000
DTEND;TZID=Europe/Helsinki:20230621T130000
DTSTAMP:20260422T080709
CREATED:20230606T125016Z
LAST-MODIFIED:20230607T095222Z
UID:10001156-1687345200-1687352400@kalenteri.niemikoti.fi
SUMMARY:Pleikkapelien pelaamista Kulttuuripaja ELVIKSESSÄ
DESCRIPTION:Tervetuloa pelaamaan Pleikkapelejä ELVIKSEEN!
URL:https://kalenteri.niemikoti.fi/tapahtuma/pleikkapelien-pelaamista-kulttuuripaja-elviksessa/2023-06-21/
LOCATION:Kulttuuripaja ELVIS\, Lautatarhankatu 4\, Helsinki\, 00580\, Finland
CATEGORIES:Kulttuuripaja ELVIS
END:VEVENT
BEGIN:VEVENT
DTSTART;TZID=Europe/Helsinki:20230627T120000
DTEND;TZID=Europe/Helsinki:20230627T150000
DTSTAMP:20260422T080709
CREATED:20230606T131910Z
LAST-MODIFIED:20230607T095402Z
UID:10001166-1687867200-1687878000@kalenteri.niemikoti.fi
SUMMARY:Lautapelit
DESCRIPTION:Tervetuloa pelaamaan lautapelejä ELVIKSEEN!
URL:https://kalenteri.niemikoti.fi/tapahtuma/lautapelit/2023-06-27/
LOCATION:Kulttuuripaja ELVIS\, Lautatarhankatu 4\, Helsinki\, 00580\, Finland
CATEGORIES:Kulttuuripaja ELVIS
END:VEVENT
BEGIN:VEVENT
DTSTART;TZID=Europe/Helsinki:20230628T110000
DTEND;TZID=Europe/Helsinki:20230628T130000
DTSTAMP:20260422T080709
CREATED:20230606T125016Z
LAST-MODIFIED:20230607T095222Z
UID:10001157-1687950000-1687957200@kalenteri.niemikoti.fi
SUMMARY:Pleikkapelien pelaamista Kulttuuripaja ELVIKSESSÄ
DESCRIPTION:Tervetuloa pelaamaan Pleikkapelejä ELVIKSEEN!
URL:https://kalenteri.niemikoti.fi/tapahtuma/pleikkapelien-pelaamista-kulttuuripaja-elviksessa/2023-06-28/
LOCATION:Kulttuuripaja ELVIS\, Lautatarhankatu 4\, Helsinki\, 00580\, Finland
CATEGORIES:Kulttuuripaja ELVIS
END:VEVENT
BEGIN:VEVENT
DTSTART;TZID=Europe/Helsinki:20230704T120000
DTEND;TZID=Europe/Helsinki:20230704T150000
DTSTAMP:20260422T080709
CREATED:20230608T093612Z
LAST-MODIFIED:20230608T093612Z
UID:10001439-1688472000-1688482800@kalenteri.niemikoti.fi
SUMMARY:Lautapelit
DESCRIPTION:Pelataan esim. Carcassonne\, Menolippu\, Dixit jne. Ohjaamassa vertaisohjaaja Jani.
URL:https://kalenteri.niemikoti.fi/tapahtuma/lautapelit-2/2023-07-04/
LOCATION:Toimintakeskus Villa Borgis\, Linnavuorentie 13\, Helsinki\, 00950\, Finland
CATEGORIES:Toimintakeskus Villa Borgis
END:VEVENT
BEGIN:VEVENT
DTSTART;TZID=Europe/Helsinki:20230711T120000
DTEND;TZID=Europe/Helsinki:20230711T150000
DTSTAMP:20260422T080709
CREATED:20230608T093612Z
LAST-MODIFIED:20230608T093612Z
UID:10001440-1689076800-1689087600@kalenteri.niemikoti.fi
SUMMARY:Lautapelit
DESCRIPTION:Pelataan esim. Carcassonne\, Menolippu\, Dixit jne. Ohjaamassa vertaisohjaaja Jani.
URL:https://kalenteri.niemikoti.fi/tapahtuma/lautapelit-2/2023-07-11/
LOCATION:Toimintakeskus Villa Borgis\, Linnavuorentie 13\, Helsinki\, 00950\, Finland
CATEGORIES:Toimintakeskus Villa Borgis
END:VEVENT
BEGIN:VEVENT
DTSTART;TZID=Europe/Helsinki:20230718T120000
DTEND;TZID=Europe/Helsinki:20230718T150000
DTSTAMP:20260422T080709
CREATED:20230608T093612Z
LAST-MODIFIED:20230608T093612Z
UID:10001441-1689681600-1689692400@kalenteri.niemikoti.fi
SUMMARY:Lautapelit
DESCRIPTION:Pelataan esim. Carcassonne\, Menolippu\, Dixit jne. Ohjaamassa vertaisohjaaja Jani.
URL:https://kalenteri.niemikoti.fi/tapahtuma/lautapelit-2/2023-07-18/
LOCATION:Toimintakeskus Villa Borgis\, Linnavuorentie 13\, Helsinki\, 00950\, Finland
CATEGORIES:Toimintakeskus Villa Borgis
END:VEVENT
BEGIN:VEVENT
DTSTART;TZID=Europe/Helsinki:20230725T120000
DTEND;TZID=Europe/Helsinki:20230725T150000
DTSTAMP:20260422T080709
CREATED:20230608T093612Z
LAST-MODIFIED:20230608T093612Z
UID:10001442-1690286400-1690297200@kalenteri.niemikoti.fi
SUMMARY:Lautapelit
DESCRIPTION:Pelataan esim. Carcassonne\, Menolippu\, Dixit jne. Ohjaamassa vertaisohjaaja Jani.
URL:https://kalenteri.niemikoti.fi/tapahtuma/lautapelit-2/2023-07-25/
LOCATION:Toimintakeskus Villa Borgis\, Linnavuorentie 13\, Helsinki\, 00950\, Finland
CATEGORIES:Toimintakeskus Villa Borgis
END:VEVENT
BEGIN:VEVENT
DTSTART;TZID=Europe/Helsinki:20230906T110000
DTEND;TZID=Europe/Helsinki:20230906T120000
DTSTAMP:20260422T080709
CREATED:20230809T083353Z
LAST-MODIFIED:20230822T123335Z
UID:10001748-1693998000-1694001600@kalenteri.niemikoti.fi
SUMMARY:Pelit ja leikit
DESCRIPTION:Yhdessä valittuja pelejä ja leikkejä esim. lautapelit\, mölkky. Ilmoittaudu.
URL:https://kalenteri.niemikoti.fi/tapahtuma/pelit-ja-leikit/2023-09-06/
LOCATION:Toimintakeskus Villa Borgis\, Linnavuorentie 13\, Helsinki\, 00950\, Finland
CATEGORIES:Toimintakeskus Villa Borgis
END:VEVENT
BEGIN:VEVENT
DTSTART;TZID=Europe/Helsinki:20230913T110000
DTEND;TZID=Europe/Helsinki:20230913T120000
DTSTAMP:20260422T080709
CREATED:20230809T083353Z
LAST-MODIFIED:20230822T123335Z
UID:10002790-1694602800-1694606400@kalenteri.niemikoti.fi
SUMMARY:Pelit ja leikit
DESCRIPTION:Yhdessä valittuja pelejä ja leikkejä esim. lautapelit\, mölkky. Ilmoittaudu.
URL:https://kalenteri.niemikoti.fi/tapahtuma/pelit-ja-leikit/2023-09-13/
LOCATION:Toimintakeskus Villa Borgis\, Linnavuorentie 13\, Helsinki\, 00950\, Finland
CATEGORIES:Toimintakeskus Villa Borgis
END:VEVENT
BEGIN:VEVENT
DTSTART;TZID=Europe/Helsinki:20230920T110000
DTEND;TZID=Europe/Helsinki:20230920T120000
DTSTAMP:20260422T080709
CREATED:20230809T083353Z
LAST-MODIFIED:20230822T123335Z
UID:10002791-1695207600-1695211200@kalenteri.niemikoti.fi
SUMMARY:Pelit ja leikit
DESCRIPTION:Yhdessä valittuja pelejä ja leikkejä esim. lautapelit\, mölkky. Ilmoittaudu.
URL:https://kalenteri.niemikoti.fi/tapahtuma/pelit-ja-leikit/2023-09-20/
LOCATION:Toimintakeskus Villa Borgis\, Linnavuorentie 13\, Helsinki\, 00950\, Finland
CATEGORIES:Toimintakeskus Villa Borgis
END:VEVENT
BEGIN:VEVENT
DTSTART;TZID=Europe/Helsinki:20231026T130000
DTEND;TZID=Europe/Helsinki:20231026T160000
DTSTAMP:20260422T080709
CREATED:20231016T062613Z
LAST-MODIFIED:20240122T134902Z
UID:10003795-1698325200-1698336000@kalenteri.niemikoti.fi
SUMMARY:Hygge Malmilla
DESCRIPTION:Villasukat jalkaan ja olo mukavaksi teekupposen äärellä. Mahdollisuus myös leipoa\, tehdä käsitöitä\, pelata lautapelejä tms.
URL:https://kalenteri.niemikoti.fi/tapahtuma/hygge-malmilla/2023-10-26/
LOCATION:Malmin päivätoimintakeskus\, Vanha Helsingintie 9\, Helsinki\, 00700\, Finland
CATEGORIES:Malmin päivätoimintakeskus
END:VEVENT
BEGIN:VEVENT
DTSTART;TZID=Europe/Helsinki:20231102T130000
DTEND;TZID=Europe/Helsinki:20231102T160000
DTSTAMP:20260422T080709
CREATED:20231016T062613Z
LAST-MODIFIED:20240122T134902Z
UID:10003796-1698930000-1698940800@kalenteri.niemikoti.fi
SUMMARY:Hygge Malmilla
DESCRIPTION:Villasukat jalkaan ja olo mukavaksi teekupposen äärellä. Mahdollisuus myös leipoa\, tehdä käsitöitä\, pelata lautapelejä tms.
URL:https://kalenteri.niemikoti.fi/tapahtuma/hygge-malmilla/2023-11-02/
LOCATION:Malmin päivätoimintakeskus\, Vanha Helsingintie 9\, Helsinki\, 00700\, Finland
CATEGORIES:Malmin päivätoimintakeskus
END:VEVENT
BEGIN:VEVENT
DTSTART;TZID=Europe/Helsinki:20231109T130000
DTEND;TZID=Europe/Helsinki:20231109T160000
DTSTAMP:20260422T080709
CREATED:20231016T062613Z
LAST-MODIFIED:20240122T134902Z
UID:10003797-1699534800-1699545600@kalenteri.niemikoti.fi
SUMMARY:Hygge Malmilla
DESCRIPTION:Villasukat jalkaan ja olo mukavaksi teekupposen äärellä. Mahdollisuus myös leipoa\, tehdä käsitöitä\, pelata lautapelejä tms.
URL:https://kalenteri.niemikoti.fi/tapahtuma/hygge-malmilla/2023-11-09/
LOCATION:Malmin päivätoimintakeskus\, Vanha Helsingintie 9\, Helsinki\, 00700\, Finland
CATEGORIES:Malmin päivätoimintakeskus
END:VEVENT
BEGIN:VEVENT
DTSTART;TZID=Europe/Helsinki:20231116T130000
DTEND;TZID=Europe/Helsinki:20231116T160000
DTSTAMP:20260422T080709
CREATED:20231016T062613Z
LAST-MODIFIED:20240122T134902Z
UID:10003798-1700139600-1700150400@kalenteri.niemikoti.fi
SUMMARY:Hygge Malmilla
DESCRIPTION:Villasukat jalkaan ja olo mukavaksi teekupposen äärellä. Mahdollisuus myös leipoa\, tehdä käsitöitä\, pelata lautapelejä tms.
URL:https://kalenteri.niemikoti.fi/tapahtuma/hygge-malmilla/2023-11-16/
LOCATION:Malmin päivätoimintakeskus\, Vanha Helsingintie 9\, Helsinki\, 00700\, Finland
CATEGORIES:Malmin päivätoimintakeskus
END:VEVENT
BEGIN:VEVENT
DTSTART;TZID=Europe/Helsinki:20231123T130000
DTEND;TZID=Europe/Helsinki:20231123T160000
DTSTAMP:20260422T080709
CREATED:20231016T062613Z
LAST-MODIFIED:20240122T134902Z
UID:10003799-1700744400-1700755200@kalenteri.niemikoti.fi
SUMMARY:Hygge Malmilla
DESCRIPTION:Villasukat jalkaan ja olo mukavaksi teekupposen äärellä. Mahdollisuus myös leipoa\, tehdä käsitöitä\, pelata lautapelejä tms.
URL:https://kalenteri.niemikoti.fi/tapahtuma/hygge-malmilla/2023-11-23/
LOCATION:Malmin päivätoimintakeskus\, Vanha Helsingintie 9\, Helsinki\, 00700\, Finland
CATEGORIES:Malmin päivätoimintakeskus
END:VEVENT
BEGIN:VEVENT
DTSTART;TZID=Europe/Helsinki:20231130T130000
DTEND;TZID=Europe/Helsinki:20231130T160000
DTSTAMP:20260422T080709
CREATED:20231016T062613Z
LAST-MODIFIED:20240122T134902Z
UID:10003800-1701349200-1701360000@kalenteri.niemikoti.fi
SUMMARY:Hygge Malmilla
DESCRIPTION:Villasukat jalkaan ja olo mukavaksi teekupposen äärellä. Mahdollisuus myös leipoa\, tehdä käsitöitä\, pelata lautapelejä tms.
URL:https://kalenteri.niemikoti.fi/tapahtuma/hygge-malmilla/2023-11-30/
LOCATION:Malmin päivätoimintakeskus\, Vanha Helsingintie 9\, Helsinki\, 00700\, Finland
CATEGORIES:Malmin päivätoimintakeskus
END:VEVENT
BEGIN:VEVENT
DTSTART;TZID=Europe/Helsinki:20231207T130000
DTEND;TZID=Europe/Helsinki:20231207T160000
DTSTAMP:20260422T080709
CREATED:20231016T062613Z
LAST-MODIFIED:20240122T134902Z
UID:10003801-1701954000-1701964800@kalenteri.niemikoti.fi
SUMMARY:Hygge Malmilla
DESCRIPTION:Villasukat jalkaan ja olo mukavaksi teekupposen äärellä. Mahdollisuus myös leipoa\, tehdä käsitöitä\, pelata lautapelejä tms.
URL:https://kalenteri.niemikoti.fi/tapahtuma/hygge-malmilla/2023-12-07/
LOCATION:Malmin päivätoimintakeskus\, Vanha Helsingintie 9\, Helsinki\, 00700\, Finland
CATEGORIES:Malmin päivätoimintakeskus
END:VEVENT
BEGIN:VEVENT
DTSTART;TZID=Europe/Helsinki:20231213T130000
DTEND;TZID=Europe/Helsinki:20231213T150000
DTSTAMP:20260422T080709
CREATED:20231027T070935Z
LAST-MODIFIED:20240130T100922Z
UID:10004138-1702472400-1702479600@kalenteri.niemikoti.fi
SUMMARY:Helppoa liikuntaa
DESCRIPTION:Tutustutaan yhdessä erilaisiin liikuntalajeihin ja -paikkoihin. Ilmoittaudu! \n10.1. keilaus \n17.1. ulkoilu \n24.1. jooga \n31.1. sisäolympialaiset \n7.2. eri lajikokeilut Liikuntamyllyssä \n14.2. Gongirentoutus Elviksessä \n21.2. pallopelit Helmi Center Malmilla \n28.2. uinti \n 
URL:https://kalenteri.niemikoti.fi/tapahtuma/helppoa-liikuntaa-2/2023-12-13/
LOCATION:Toimintakeskus Villa Borgis\, Linnavuorentie 13\, Helsinki\, 00950\, Finland
CATEGORIES:Toimintakeskus Villa Borgis
END:VEVENT
BEGIN:VEVENT
DTSTART;TZID=Europe/Helsinki:20231214T130000
DTEND;TZID=Europe/Helsinki:20231214T160000
DTSTAMP:20260422T080709
CREATED:20231016T062613Z
LAST-MODIFIED:20240122T134902Z
UID:10004787-1702558800-1702569600@kalenteri.niemikoti.fi
SUMMARY:Hygge Malmilla
DESCRIPTION:Villasukat jalkaan ja olo mukavaksi teekupposen äärellä. Mahdollisuus myös leipoa\, tehdä käsitöitä\, pelata lautapelejä tms.
URL:https://kalenteri.niemikoti.fi/tapahtuma/hygge-malmilla/2023-12-14/
LOCATION:Malmin päivätoimintakeskus\, Vanha Helsingintie 9\, Helsinki\, 00700\, Finland
CATEGORIES:Malmin päivätoimintakeskus
END:VEVENT
BEGIN:VEVENT
DTSTART;TZID=Europe/Helsinki:20231220T130000
DTEND;TZID=Europe/Helsinki:20231220T150000
DTSTAMP:20260422T080709
CREATED:20231027T070935Z
LAST-MODIFIED:20240130T100922Z
UID:10004139-1703077200-1703084400@kalenteri.niemikoti.fi
SUMMARY:Helppoa liikuntaa
DESCRIPTION:Tutustutaan yhdessä erilaisiin liikuntalajeihin ja -paikkoihin. Ilmoittaudu! \n10.1. keilaus \n17.1. ulkoilu \n24.1. jooga \n31.1. sisäolympialaiset \n7.2. eri lajikokeilut Liikuntamyllyssä \n14.2. Gongirentoutus Elviksessä \n21.2. pallopelit Helmi Center Malmilla \n28.2. uinti \n 
URL:https://kalenteri.niemikoti.fi/tapahtuma/helppoa-liikuntaa-2/2023-12-20/
LOCATION:Toimintakeskus Villa Borgis\, Linnavuorentie 13\, Helsinki\, 00950\, Finland
CATEGORIES:Toimintakeskus Villa Borgis
END:VEVENT
BEGIN:VEVENT
DTSTART;TZID=Europe/Helsinki:20231221T130000
DTEND;TZID=Europe/Helsinki:20231221T160000
DTSTAMP:20260422T080709
CREATED:20231016T062613Z
LAST-MODIFIED:20240122T134902Z
UID:10003803-1703163600-1703174400@kalenteri.niemikoti.fi
SUMMARY:Hygge Malmilla
DESCRIPTION:Villasukat jalkaan ja olo mukavaksi teekupposen äärellä. Mahdollisuus myös leipoa\, tehdä käsitöitä\, pelata lautapelejä tms.
URL:https://kalenteri.niemikoti.fi/tapahtuma/hygge-malmilla/2023-12-21/
LOCATION:Malmin päivätoimintakeskus\, Vanha Helsingintie 9\, Helsinki\, 00700\, Finland
CATEGORIES:Malmin päivätoimintakeskus
END:VEVENT
BEGIN:VEVENT
DTSTART;TZID=Europe/Helsinki:20240103T130000
DTEND;TZID=Europe/Helsinki:20240103T150000
DTSTAMP:20260422T080709
CREATED:20231027T070935Z
LAST-MODIFIED:20240130T100922Z
UID:10004140-1704286800-1704294000@kalenteri.niemikoti.fi
SUMMARY:Helppoa liikuntaa
DESCRIPTION:Tutustutaan yhdessä erilaisiin liikuntalajeihin ja -paikkoihin. Ilmoittaudu! \n10.1. keilaus \n17.1. ulkoilu \n24.1. jooga \n31.1. sisäolympialaiset \n7.2. eri lajikokeilut Liikuntamyllyssä \n14.2. Gongirentoutus Elviksessä \n21.2. pallopelit Helmi Center Malmilla \n28.2. uinti \n 
URL:https://kalenteri.niemikoti.fi/tapahtuma/helppoa-liikuntaa-2/2024-01-03/
LOCATION:Toimintakeskus Villa Borgis\, Linnavuorentie 13\, Helsinki\, 00950\, Finland
CATEGORIES:Toimintakeskus Villa Borgis
END:VEVENT
BEGIN:VEVENT
DTSTART;TZID=Europe/Helsinki:20240104T130000
DTEND;TZID=Europe/Helsinki:20240104T160000
DTSTAMP:20260422T080709
CREATED:20231016T062613Z
LAST-MODIFIED:20240122T134902Z
UID:10004788-1704373200-1704384000@kalenteri.niemikoti.fi
SUMMARY:Hygge Malmilla
DESCRIPTION:Villasukat jalkaan ja olo mukavaksi teekupposen äärellä. Mahdollisuus myös leipoa\, tehdä käsitöitä\, pelata lautapelejä tms.
URL:https://kalenteri.niemikoti.fi/tapahtuma/hygge-malmilla/2024-01-04/
LOCATION:Malmin päivätoimintakeskus\, Vanha Helsingintie 9\, Helsinki\, 00700\, Finland
CATEGORIES:Malmin päivätoimintakeskus
END:VEVENT
BEGIN:VEVENT
DTSTART;TZID=Europe/Helsinki:20240110T130000
DTEND;TZID=Europe/Helsinki:20240110T150000
DTSTAMP:20260422T080709
CREATED:20231027T070935Z
LAST-MODIFIED:20240130T100922Z
UID:10004141-1704891600-1704898800@kalenteri.niemikoti.fi
SUMMARY:Helppoa liikuntaa
DESCRIPTION:Tutustutaan yhdessä erilaisiin liikuntalajeihin ja -paikkoihin. Ilmoittaudu! \n10.1. keilaus \n17.1. ulkoilu \n24.1. jooga \n31.1. sisäolympialaiset \n7.2. eri lajikokeilut Liikuntamyllyssä \n14.2. Gongirentoutus Elviksessä \n21.2. pallopelit Helmi Center Malmilla \n28.2. uinti \n 
URL:https://kalenteri.niemikoti.fi/tapahtuma/helppoa-liikuntaa-2/2024-01-10/
LOCATION:Toimintakeskus Villa Borgis\, Linnavuorentie 13\, Helsinki\, 00950\, Finland
CATEGORIES:Toimintakeskus Villa Borgis
END:VEVENT
BEGIN:VEVENT
DTSTART;TZID=Europe/Helsinki:20240117T130000
DTEND;TZID=Europe/Helsinki:20240117T150000
DTSTAMP:20260422T080709
CREATED:20231027T070935Z
LAST-MODIFIED:20240130T100922Z
UID:10004142-1705496400-1705503600@kalenteri.niemikoti.fi
SUMMARY:Helppoa liikuntaa
DESCRIPTION:Tutustutaan yhdessä erilaisiin liikuntalajeihin ja -paikkoihin. Ilmoittaudu! \n10.1. keilaus \n17.1. ulkoilu \n24.1. jooga \n31.1. sisäolympialaiset \n7.2. eri lajikokeilut Liikuntamyllyssä \n14.2. Gongirentoutus Elviksessä \n21.2. pallopelit Helmi Center Malmilla \n28.2. uinti \n 
URL:https://kalenteri.niemikoti.fi/tapahtuma/helppoa-liikuntaa-2/2024-01-17/
LOCATION:Toimintakeskus Villa Borgis\, Linnavuorentie 13\, Helsinki\, 00950\, Finland
CATEGORIES:Toimintakeskus Villa Borgis
END:VEVENT
BEGIN:VEVENT
DTSTART;TZID=Europe/Helsinki:20240118T130000
DTEND;TZID=Europe/Helsinki:20240118T160000
DTSTAMP:20260422T080709
CREATED:20231016T062613Z
LAST-MODIFIED:20240122T134902Z
UID:10004790-1705582800-1705593600@kalenteri.niemikoti.fi
SUMMARY:Hygge Malmilla
DESCRIPTION:Villasukat jalkaan ja olo mukavaksi teekupposen äärellä. Mahdollisuus myös leipoa\, tehdä käsitöitä\, pelata lautapelejä tms.
URL:https://kalenteri.niemikoti.fi/tapahtuma/hygge-malmilla/2024-01-18/
LOCATION:Malmin päivätoimintakeskus\, Vanha Helsingintie 9\, Helsinki\, 00700\, Finland
CATEGORIES:Malmin päivätoimintakeskus
END:VEVENT
END:VCALENDAR