BEGIN:VCALENDAR
VERSION:2.0
PRODID:-//Tapahtumakalenteri - ECPv6.15.18//NONSGML v1.0//EN
CALSCALE:GREGORIAN
METHOD:PUBLISH
X-WR-CALNAME:Tapahtumakalenteri
X-ORIGINAL-URL:https://kalenteri.niemikoti.fi
X-WR-CALDESC:Tapahtumat Tapahtumakalenteri
REFRESH-INTERVAL;VALUE=DURATION:PT1H
X-Robots-Tag:noindex
X-PUBLISHED-TTL:PT1H
BEGIN:VTIMEZONE
TZID:Europe/Helsinki
BEGIN:DAYLIGHT
TZOFFSETFROM:+0200
TZOFFSETTO:+0300
TZNAME:EEST
DTSTART:20240331T010000
END:DAYLIGHT
BEGIN:STANDARD
TZOFFSETFROM:+0300
TZOFFSETTO:+0200
TZNAME:EET
DTSTART:20241027T010000
END:STANDARD
BEGIN:DAYLIGHT
TZOFFSETFROM:+0200
TZOFFSETTO:+0300
TZNAME:EEST
DTSTART:20250330T010000
END:DAYLIGHT
BEGIN:STANDARD
TZOFFSETFROM:+0300
TZOFFSETTO:+0200
TZNAME:EET
DTSTART:20251026T010000
END:STANDARD
BEGIN:DAYLIGHT
TZOFFSETFROM:+0200
TZOFFSETTO:+0300
TZNAME:EEST
DTSTART:20260329T010000
END:DAYLIGHT
BEGIN:STANDARD
TZOFFSETFROM:+0300
TZOFFSETTO:+0200
TZNAME:EET
DTSTART:20261025T010000
END:STANDARD
BEGIN:DAYLIGHT
TZOFFSETFROM:+0200
TZOFFSETTO:+0300
TZNAME:EEST
DTSTART:20270328T010000
END:DAYLIGHT
BEGIN:STANDARD
TZOFFSETFROM:+0300
TZOFFSETTO:+0200
TZNAME:EET
DTSTART:20271031T010000
END:STANDARD
END:VTIMEZONE
BEGIN:VEVENT
DTSTART;TZID=Europe/Helsinki:20260417T120000
DTEND;TZID=Europe/Helsinki:20260417T140000
DTSTAMP:20260425T022254
CREATED:20260327T092445Z
LAST-MODIFIED:20260327T092445Z
UID:10036888-1776427200-1776434400@kalenteri.niemikoti.fi
SUMMARY:Retki Ateneumiin
DESCRIPTION:Teemme yhdessä retken Ateneumin taidemuseoon. Ilmoittaudu.
URL:https://kalenteri.niemikoti.fi/tapahtuma/retki-ateneumiin-2/
LOCATION:Toimintakeskus Villa Borgis\, Linnavuorentie 13\, Helsinki\, 00950\, Finland
CATEGORIES:Toimintakeskus Villa Borgis
END:VEVENT
BEGIN:VEVENT
DTSTART;TZID=Europe/Helsinki:20260223T123000
DTEND;TZID=Europe/Helsinki:20260223T160000
DTSTAMP:20260425T022254
CREATED:20260126T113821Z
LAST-MODIFIED:20260302T071058Z
UID:10032072-1771849800-1771862400@kalenteri.niemikoti.fi
SUMMARY:Retkiryhmä (Malmi)
DESCRIPTION:Täydentyvä ryhmä\, ilmoittaudu mukaan! Yhteislähtö retkille on Malmin päivätoimintakeskukselta klo: 12.30. Sovitusti voidaan tavata retkeläisiä myös matkan varrella tai paikan päällä. \n9.2. Itäkeskuksen Kierrätyskeskus ja SPR Kontti \n16.2. Amos Rex \n23.2. Tennispalatsi\, elokuva valitaan äänestyksellä joka on auki päivätoimintakeskuksessa!
URL:https://kalenteri.niemikoti.fi/tapahtuma/retkiryhma-malmi/2026-02-23/
LOCATION:Malmin päivätoimintakeskus\, Vanha Helsingintie 9\, Helsinki\, 00700\, Finland
CATEGORIES:Malmin päivätoimintakeskus
END:VEVENT
BEGIN:VEVENT
DTSTART;TZID=Europe/Helsinki:20260218T101500
DTEND;TZID=Europe/Helsinki:20260218T120000
DTSTAMP:20260425T022254
CREATED:20260209T132843Z
LAST-MODIFIED:20260209T132843Z
UID:10033534-1771409700-1771416000@kalenteri.niemikoti.fi
SUMMARY:Retki Itäkeskuksen kirjastoon
DESCRIPTION:Teemme aamupäivällä retken Itäkeskuksen kirjastoon\, jossa kirjastonhoitaja esittelee meille kirjaston palveluja. Lähdemme yhdessä Villa Borgikselta klo 10.15 ja paluu on klo 12 mennessä.
URL:https://kalenteri.niemikoti.fi/tapahtuma/retki-itakeskuksen-kirjastoon/
LOCATION:Toimintakeskus Villa Borgis\, Linnavuorentie 13\, Helsinki\, 00950\, Finland
CATEGORIES:Toimintakeskus Villa Borgis
END:VEVENT
BEGIN:VEVENT
DTSTART;TZID=Europe/Helsinki:20260216T123000
DTEND;TZID=Europe/Helsinki:20260216T160000
DTSTAMP:20260425T022254
CREATED:20260126T113821Z
LAST-MODIFIED:20260302T071058Z
UID:10032071-1771245000-1771257600@kalenteri.niemikoti.fi
SUMMARY:Retkiryhmä (Malmi)
DESCRIPTION:Täydentyvä ryhmä\, ilmoittaudu mukaan! Yhteislähtö retkille on Malmin päivätoimintakeskukselta klo: 12.30. Sovitusti voidaan tavata retkeläisiä myös matkan varrella tai paikan päällä. \n9.2. Itäkeskuksen Kierrätyskeskus ja SPR Kontti \n16.2. Amos Rex \n23.2. Tennispalatsi\, elokuva valitaan äänestyksellä joka on auki päivätoimintakeskuksessa!
URL:https://kalenteri.niemikoti.fi/tapahtuma/retkiryhma-malmi/2026-02-16/
LOCATION:Malmin päivätoimintakeskus\, Vanha Helsingintie 9\, Helsinki\, 00700\, Finland
CATEGORIES:Malmin päivätoimintakeskus
END:VEVENT
BEGIN:VEVENT
DTSTART;TZID=Europe/Helsinki:20260209T123000
DTEND;TZID=Europe/Helsinki:20260209T160000
DTSTAMP:20260425T022254
CREATED:20260126T113821Z
LAST-MODIFIED:20260302T071058Z
UID:10032070-1770640200-1770652800@kalenteri.niemikoti.fi
SUMMARY:Retkiryhmä (Malmi)
DESCRIPTION:Täydentyvä ryhmä\, ilmoittaudu mukaan! Yhteislähtö retkille on Malmin päivätoimintakeskukselta klo: 12.30. Sovitusti voidaan tavata retkeläisiä myös matkan varrella tai paikan päällä. \n9.2. Itäkeskuksen Kierrätyskeskus ja SPR Kontti \n16.2. Amos Rex \n23.2. Tennispalatsi\, elokuva valitaan äänestyksellä joka on auki päivätoimintakeskuksessa!
URL:https://kalenteri.niemikoti.fi/tapahtuma/retkiryhma-malmi/2026-02-09/
LOCATION:Malmin päivätoimintakeskus\, Vanha Helsingintie 9\, Helsinki\, 00700\, Finland
CATEGORIES:Malmin päivätoimintakeskus
END:VEVENT
BEGIN:VEVENT
DTSTART;TZID=Europe/Helsinki:20260113T130000
DTEND;TZID=Europe/Helsinki:20260113T150000
DTSTAMP:20260425T022254
CREATED:20251217T082801Z
LAST-MODIFIED:20251217T082801Z
UID:10025983-1768309200-1768316400@kalenteri.niemikoti.fi
SUMMARY:Retki kierrätyskeskukseen
DESCRIPTION:Teemme yhteisen retken Itäkeskuksen kierrätyskeskukseen.
URL:https://kalenteri.niemikoti.fi/tapahtuma/retki-kierratyskeskukseen/
LOCATION:Toimintakeskus Villa Borgis\, Linnavuorentie 13\, Helsinki\, 00950\, Finland
CATEGORIES:Toimintakeskus Villa Borgis
END:VEVENT
BEGIN:VEVENT
DTSTART;TZID=Europe/Helsinki:20251218T120000
DTEND;TZID=Europe/Helsinki:20251218T160000
DTSTAMP:20260425T022254
CREATED:20251205T133516Z
LAST-MODIFIED:20251205T133516Z
UID:10025652-1766059200-1766073600@kalenteri.niemikoti.fi
SUMMARY:Jouluretki
DESCRIPTION:Teemme jouluisan retken Stockmannin jouluikkunalle ja Tuomaan markkinoille. Yhteislähtö Malmin asemalta klo 12. \nIlmoittaudu mukaan!
URL:https://kalenteri.niemikoti.fi/tapahtuma/jouluretki/
LOCATION:Malmin päivätoimintakeskus\, Vanha Helsingintie 9\, Helsinki\, 00700\, Finland
CATEGORIES:Malmin päivätoimintakeskus
ATTACH;FMTTYPE=image/jpeg:https://kalenteri.niemikoti.fi/wp-content/uploads/2025/12/Tuomaanmarkkinat.jpg
END:VEVENT
BEGIN:VEVENT
DTSTART;TZID=Europe/Helsinki:20251210T130000
DTEND;TZID=Europe/Helsinki:20251210T150000
DTSTAMP:20260425T022254
CREATED:20251128T073519Z
LAST-MODIFIED:20251128T073519Z
UID:10025547-1765371600-1765378800@kalenteri.niemikoti.fi
SUMMARY:Retki Hakasalmen huvilalle
DESCRIPTION:Teemme yhdessä retken Hakasalmen huvilalle\, jossa on Helsinki by Night -valokuvanäyttely. Ilmoittaudu mukaan retkelle viim. 3.12.
URL:https://kalenteri.niemikoti.fi/tapahtuma/retki-hakasalmen-huvilalle/
LOCATION:Toimintakeskus Villa Borgis\, Linnavuorentie 13\, Helsinki\, 00950\, Finland
CATEGORIES:Toimintakeskus Villa Borgis
END:VEVENT
BEGIN:VEVENT
DTSTART;TZID=Europe/Helsinki:20251127T130000
DTEND;TZID=Europe/Helsinki:20251127T150000
DTSTAMP:20260425T022254
CREATED:20251030T133748Z
LAST-MODIFIED:20251031T112324Z
UID:10024961-1764248400-1764255600@kalenteri.niemikoti.fi
SUMMARY:Kädentaitotorstai
DESCRIPTION:Kädentaitopaja\, jossa on vaihtuva teema tai voit tehdä omaa käsityöprojektia tai keskeneräisiä töitäsi. Ilmoittaudu.
URL:https://kalenteri.niemikoti.fi/tapahtuma/kadentaitotorstai-4/2025-11-27/
LOCATION:Toimintakeskus Villa Borgis\, Linnavuorentie 13\, Helsinki\, 00950\, Finland
CATEGORIES:Toimintakeskus Villa Borgis
ATTACH;FMTTYPE=image/jpeg:https://kalenteri.niemikoti.fi/wp-content/uploads/2025/10/Kadentaito-torstai.jpg
END:VEVENT
BEGIN:VEVENT
DTSTART;TZID=Europe/Helsinki:20251120T130000
DTEND;TZID=Europe/Helsinki:20251120T150000
DTSTAMP:20260425T022254
CREATED:20251030T133748Z
LAST-MODIFIED:20251031T112324Z
UID:10024960-1763643600-1763650800@kalenteri.niemikoti.fi
SUMMARY:Kädentaitotorstai
DESCRIPTION:Kädentaitopaja\, jossa on vaihtuva teema tai voit tehdä omaa käsityöprojektia tai keskeneräisiä töitäsi. Ilmoittaudu.
URL:https://kalenteri.niemikoti.fi/tapahtuma/kadentaitotorstai-4/2025-11-20/
LOCATION:Toimintakeskus Villa Borgis\, Linnavuorentie 13\, Helsinki\, 00950\, Finland
CATEGORIES:Toimintakeskus Villa Borgis
ATTACH;FMTTYPE=image/jpeg:https://kalenteri.niemikoti.fi/wp-content/uploads/2025/10/Kadentaito-torstai.jpg
END:VEVENT
BEGIN:VEVENT
DTSTART;TZID=Europe/Helsinki:20251119T083000
DTEND;TZID=Europe/Helsinki:20251119T130000
DTSTAMP:20260425T022254
CREATED:20251103T131429Z
LAST-MODIFIED:20251103T131429Z
UID:10025044-1763541000-1763557200@kalenteri.niemikoti.fi
SUMMARY:Helsingin Kaupunginorkesterin Kenraaliharjoitukset
DESCRIPTION:Helsingin Kaupunginorkesterin Kenraaliharjoitukset keskiviikkona 19.11. klo 10-13. \nLähtö Malmilta klo 8.45.  \nRajallinen määrä paikkoja\, ilmoittaudu!
URL:https://kalenteri.niemikoti.fi/tapahtuma/helsingin-kaupunginorkesterin-kenraaliharjoitukset/
LOCATION:Malmin päivätoimintakeskus\, Vanha Helsingintie 9\, Helsinki\, 00700\, Finland
CATEGORIES:Malmin päivätoimintakeskus
ATTACH;FMTTYPE=image/jpeg:https://kalenteri.niemikoti.fi/wp-content/uploads/2025/11/HKO_LOGO_02_FIN_BLACK.jpg
END:VEVENT
BEGIN:VEVENT
DTSTART;TZID=Europe/Helsinki:20251119T083000
DTEND;TZID=Europe/Helsinki:20251119T113000
DTSTAMP:20260425T022254
CREATED:20251030T130616Z
LAST-MODIFIED:20251030T130616Z
UID:10024953-1763541000-1763551800@kalenteri.niemikoti.fi
SUMMARY:Retki Helsingin kaupunginorkesterin kenraaliharjoituksiin
DESCRIPTION:Teemme yhteisön retken Helsingin kaupunginorkesterin kenraaliharjoituksiin. Tapaamme Musiikkitalon alaovien edessä\, eli Kansalaistorin puoleisilla ovilla klo 9.20
URL:https://kalenteri.niemikoti.fi/tapahtuma/retki-helsingin-kaupunginorkesterin-kenraaliharjoituksiin/
LOCATION:Toimintakeskus Villa Borgis\, Linnavuorentie 13\, Helsinki\, 00950\, Finland
CATEGORIES:Toimintakeskus Villa Borgis
END:VEVENT
BEGIN:VEVENT
DTSTART;TZID=Europe/Helsinki:20251113T130000
DTEND;TZID=Europe/Helsinki:20251113T150000
DTSTAMP:20260425T022254
CREATED:20251030T133748Z
LAST-MODIFIED:20251031T112324Z
UID:10024959-1763038800-1763046000@kalenteri.niemikoti.fi
SUMMARY:Kädentaitotorstai
DESCRIPTION:Kädentaitopaja\, jossa on vaihtuva teema tai voit tehdä omaa käsityöprojektia tai keskeneräisiä töitäsi. Ilmoittaudu.
URL:https://kalenteri.niemikoti.fi/tapahtuma/kadentaitotorstai-4/2025-11-13/
LOCATION:Toimintakeskus Villa Borgis\, Linnavuorentie 13\, Helsinki\, 00950\, Finland
CATEGORIES:Toimintakeskus Villa Borgis
ATTACH;FMTTYPE=image/jpeg:https://kalenteri.niemikoti.fi/wp-content/uploads/2025/10/Kadentaito-torstai.jpg
END:VEVENT
BEGIN:VEVENT
DTSTART;TZID=Europe/Helsinki:20251111T130000
DTEND;TZID=Europe/Helsinki:20251111T160000
DTSTAMP:20260425T022254
CREATED:20251103T130611Z
LAST-MODIFIED:20251103T130611Z
UID:10025042-1762866000-1762876800@kalenteri.niemikoti.fi
SUMMARY:Retki Mummodiskoon
DESCRIPTION:Retki Mummodiskoon Gimme Abba bileshow’hun Vuotalolle tiistaina 11.11. Yhteislähtö Malmilta klo 13. Ilmoittaudu mukaan retkelle!
URL:https://kalenteri.niemikoti.fi/tapahtuma/retki-mummodiskoon-2/
LOCATION:Malmin päivätoimintakeskus\, Vanha Helsingintie 9\, Helsinki\, 00700\, Finland
CATEGORIES:Malmin päivätoimintakeskus
ATTACH;FMTTYPE=image/jpeg:https://kalenteri.niemikoti.fi/wp-content/uploads/2025/11/EventPic_774934.jpg
END:VEVENT
BEGIN:VEVENT
DTSTART;TZID=Europe/Helsinki:20251106T130000
DTEND;TZID=Europe/Helsinki:20251106T150000
DTSTAMP:20260425T022254
CREATED:20251030T133748Z
LAST-MODIFIED:20251031T112324Z
UID:10024958-1762434000-1762441200@kalenteri.niemikoti.fi
SUMMARY:Kädentaitotorstai
DESCRIPTION:Kädentaitopaja\, jossa on vaihtuva teema tai voit tehdä omaa käsityöprojektia tai keskeneräisiä töitäsi. Ilmoittaudu.
URL:https://kalenteri.niemikoti.fi/tapahtuma/kadentaitotorstai-4/2025-11-06/
LOCATION:Toimintakeskus Villa Borgis\, Linnavuorentie 13\, Helsinki\, 00950\, Finland
CATEGORIES:Toimintakeskus Villa Borgis
ATTACH;FMTTYPE=image/jpeg:https://kalenteri.niemikoti.fi/wp-content/uploads/2025/10/Kadentaito-torstai.jpg
END:VEVENT
BEGIN:VEVENT
DTSTART;TZID=Europe/Helsinki:20251103T100000
DTEND;TZID=Europe/Helsinki:20251103T150000
DTSTAMP:20260425T022254
CREATED:20251029T083911Z
LAST-MODIFIED:20251029T084734Z
UID:10024935-1762164000-1762182000@kalenteri.niemikoti.fi
SUMMARY:Retki Korkeasaareen
DESCRIPTION:Teemme yhteisen retken Korkeasaareen. Mahdollisuus ottaa Borgikselta eväät hintaan 3 e\, tai voi ottaa omat eväät. Mukaan säänmukaiset\, lämpimät vaatteet. Kävelyä tulee retkellä paljon.
URL:https://kalenteri.niemikoti.fi/tapahtuma/retki-korkeasaareen-2/
LOCATION:Toimintakeskus Villa Borgis\, Linnavuorentie 13\, Helsinki\, 00950\, Finland
CATEGORIES:Toimintakeskus Villa Borgis
END:VEVENT
BEGIN:VEVENT
DTSTART;TZID=Europe/Helsinki:20251008T121500
DTEND;TZID=Europe/Helsinki:20251008T150000
DTSTAMP:20260425T022254
CREATED:20250924T122746Z
LAST-MODIFIED:20250929T123448Z
UID:10024826-1759925700-1759935600@kalenteri.niemikoti.fi
SUMMARY:Retki Ateneumiin
DESCRIPTION:Teemme yhdessä retken Ateneumiin taidenäyttelyyn.
URL:https://kalenteri.niemikoti.fi/tapahtuma/retki-ateneumiin/
CATEGORIES:Toimintakeskus Villa Borgis
END:VEVENT
BEGIN:VEVENT
DTSTART;TZID=Europe/Helsinki:20251001T100000
DTEND;TZID=Europe/Helsinki:20251001T140000
DTSTAMP:20260425T022254
CREATED:20250924T053230Z
LAST-MODIFIED:20250924T053230Z
UID:10024820-1759312800-1759327200@kalenteri.niemikoti.fi
SUMMARY:Retki Giselle-balettiin
DESCRIPTION:Teemme retken Oopperatalolle katsomaan Giselle-baletin kenraaliharjoitusta.
URL:https://kalenteri.niemikoti.fi/tapahtuma/retki-giselle-balettiin/
LOCATION:Toimintakeskus Villa Borgis\, Linnavuorentie 13\, Helsinki\, 00950\, Finland
CATEGORIES:Toimintakeskus Villa Borgis
END:VEVENT
BEGIN:VEVENT
DTSTART;TZID=Europe/Helsinki:20250731T110000
DTEND;TZID=Europe/Helsinki:20250731T150000
DTSTAMP:20260425T022254
CREATED:20250527T075343Z
LAST-MODIFIED:20250527T075343Z
UID:10023232-1753959600-1753974000@kalenteri.niemikoti.fi
SUMMARY:Retkitorstai
DESCRIPTION:Yhteislähtö retkille Villa Borgiksesta\, voidaan sopia tapaamispaikka myös lähemmäs retkikohdetta. Ilmoittaudu\, samalla saat lisätiedot kellonajoista ym. \n3.7. Mustavuori \n10.7. Linnanmäki \n17.7. Green City Farm \n24.7. Stansvik \n31.7. Kahvila Meridian
URL:https://kalenteri.niemikoti.fi/tapahtuma/retkitorstai-2/2025-07-31/
LOCATION:Toimintakeskus Villa Borgis\, Linnavuorentie 13\, Helsinki\, 00950\, Finland
CATEGORIES:Toimintakeskus Villa Borgis
END:VEVENT
BEGIN:VEVENT
DTSTART;TZID=Europe/Helsinki:20250724T110000
DTEND;TZID=Europe/Helsinki:20250724T150000
DTSTAMP:20260425T022254
CREATED:20250527T075343Z
LAST-MODIFIED:20250527T075343Z
UID:10023231-1753354800-1753369200@kalenteri.niemikoti.fi
SUMMARY:Retkitorstai
DESCRIPTION:Yhteislähtö retkille Villa Borgiksesta\, voidaan sopia tapaamispaikka myös lähemmäs retkikohdetta. Ilmoittaudu\, samalla saat lisätiedot kellonajoista ym. \n3.7. Mustavuori \n10.7. Linnanmäki \n17.7. Green City Farm \n24.7. Stansvik \n31.7. Kahvila Meridian
URL:https://kalenteri.niemikoti.fi/tapahtuma/retkitorstai-2/2025-07-24/
LOCATION:Toimintakeskus Villa Borgis\, Linnavuorentie 13\, Helsinki\, 00950\, Finland
CATEGORIES:Toimintakeskus Villa Borgis
END:VEVENT
BEGIN:VEVENT
DTSTART;TZID=Europe/Helsinki:20250717T110000
DTEND;TZID=Europe/Helsinki:20250717T150000
DTSTAMP:20260425T022254
CREATED:20250527T075343Z
LAST-MODIFIED:20250527T075343Z
UID:10023230-1752750000-1752764400@kalenteri.niemikoti.fi
SUMMARY:Retkitorstai
DESCRIPTION:Yhteislähtö retkille Villa Borgiksesta\, voidaan sopia tapaamispaikka myös lähemmäs retkikohdetta. Ilmoittaudu\, samalla saat lisätiedot kellonajoista ym. \n3.7. Mustavuori \n10.7. Linnanmäki \n17.7. Green City Farm \n24.7. Stansvik \n31.7. Kahvila Meridian
URL:https://kalenteri.niemikoti.fi/tapahtuma/retkitorstai-2/2025-07-17/
LOCATION:Toimintakeskus Villa Borgis\, Linnavuorentie 13\, Helsinki\, 00950\, Finland
CATEGORIES:Toimintakeskus Villa Borgis
END:VEVENT
BEGIN:VEVENT
DTSTART;TZID=Europe/Helsinki:20250710T110000
DTEND;TZID=Europe/Helsinki:20250710T150000
DTSTAMP:20260425T022254
CREATED:20250527T075343Z
LAST-MODIFIED:20250527T075343Z
UID:10023229-1752145200-1752159600@kalenteri.niemikoti.fi
SUMMARY:Retkitorstai
DESCRIPTION:Yhteislähtö retkille Villa Borgiksesta\, voidaan sopia tapaamispaikka myös lähemmäs retkikohdetta. Ilmoittaudu\, samalla saat lisätiedot kellonajoista ym. \n3.7. Mustavuori \n10.7. Linnanmäki \n17.7. Green City Farm \n24.7. Stansvik \n31.7. Kahvila Meridian
URL:https://kalenteri.niemikoti.fi/tapahtuma/retkitorstai-2/2025-07-10/
LOCATION:Toimintakeskus Villa Borgis\, Linnavuorentie 13\, Helsinki\, 00950\, Finland
CATEGORIES:Toimintakeskus Villa Borgis
END:VEVENT
BEGIN:VEVENT
DTSTART;TZID=Europe/Helsinki:20250709T110000
DTEND;TZID=Europe/Helsinki:20250709T140000
DTSTAMP:20260425T022254
CREATED:20250627T073859Z
LAST-MODIFIED:20250627T074327Z
UID:10023307-1752058800-1752069600@kalenteri.niemikoti.fi
SUMMARY:RETKI: Tutustuminen toimintakeskus Villa Borgikseen
DESCRIPTION:Tiesitkö\, että toimintakeskus Villa Borgiksessa on toimintaa koko kesän ajan?\nTervetuloa mukaan Valtti Valmennuksen järjestämälle tutustumisretkelle Villa Borgikseen 9.7. Lähdemme yhdessä liikkeelle Valtti Valmennuksesta (käyntiosoite Kuortaneenkatu 1\, 4. kerros) klo 11.00. Ilmoittaudu mukaan retkelle 8.7. mennessä sähköpostitse valtti@niemikoti.fi. Kaikki Villa Borgiksen toiminnasta kiinnostuneet ovat tervetulleita mukaan retkelle!
URL:https://kalenteri.niemikoti.fi/tapahtuma/retki-tutustuminen-toimintakeskus-villa-borgikseen-2/
LOCATION:Toimintakeskus Villa Borgis\, Linnavuorentie 13\, Helsinki\, 00950\, Finland
CATEGORIES:Tapahtumat palvelunkäyttäjille,Valtti Valmennus
ATTACH;FMTTYPE=image/png:https://kalenteri.niemikoti.fi/wp-content/uploads/2025/06/Tutustumisretki.png
END:VEVENT
BEGIN:VEVENT
DTSTART;TZID=Europe/Helsinki:20250703T110000
DTEND;TZID=Europe/Helsinki:20250703T150000
DTSTAMP:20260425T022254
CREATED:20250527T075343Z
LAST-MODIFIED:20250527T075343Z
UID:10023228-1751540400-1751554800@kalenteri.niemikoti.fi
SUMMARY:Retkitorstai
DESCRIPTION:Yhteislähtö retkille Villa Borgiksesta\, voidaan sopia tapaamispaikka myös lähemmäs retkikohdetta. Ilmoittaudu\, samalla saat lisätiedot kellonajoista ym. \n3.7. Mustavuori \n10.7. Linnanmäki \n17.7. Green City Farm \n24.7. Stansvik \n31.7. Kahvila Meridian
URL:https://kalenteri.niemikoti.fi/tapahtuma/retkitorstai-2/2025-07-03/
LOCATION:Toimintakeskus Villa Borgis\, Linnavuorentie 13\, Helsinki\, 00950\, Finland
CATEGORIES:Toimintakeskus Villa Borgis
END:VEVENT
BEGIN:VEVENT
DTSTART;TZID=Europe/Helsinki:20250701T110000
DTEND;TZID=Europe/Helsinki:20250701T123000
DTSTAMP:20260425T022254
CREATED:20250528T060333Z
LAST-MODIFIED:20250528T060545Z
UID:10023236-1751367600-1751373000@kalenteri.niemikoti.fi
SUMMARY:Retki: Kesäpelejä lähipuistossa
DESCRIPTION:Tule Valtti Valmennuksen kanssa pelaamaan kesäpelejä ja vaikka kokeilemaan slacklinea lähipuistoon. Lähdetään liikkeelle yksiköstä\, osoitteesta Kuortaneenkatu 1. Mikäli sää näyttää huonolta\, pelataan vaikka lautapelejä sisätiloissa. Kaikille avointa toimintaa.
URL:https://kalenteri.niemikoti.fi/tapahtuma/retki-kesapeleja-lahipuistossa/
LOCATION:Valtti Valmennus\, Elimäenkatu 26\, Helsinki\, 00510\, Finland
CATEGORIES:Valtti Valmennus
ATTACH;FMTTYPE=image/png:https://kalenteri.niemikoti.fi/wp-content/uploads/2025/05/PUISTOPELEJA-ig.png
END:VEVENT
BEGIN:VEVENT
DTSTART;TZID=Europe/Helsinki:20250623T123000
DTEND;TZID=Europe/Helsinki:20250623T150000
DTSTAMP:20260425T022254
CREATED:20250523T073507Z
LAST-MODIFIED:20250523T073507Z
UID:10023193-1750681800-1750690800@kalenteri.niemikoti.fi
SUMMARY:Retki Aurinkolahden rannalle
DESCRIPTION:Lähtö retkelle Villa Borgiksesta klo 12.30 julkista liikennettä käyttäen. Ota mukaasi juomapullo ja halutessasi pyyhe + uikkarit. Vietetään yhdessä rentoa iltapäivää rannalla rentoutuen ja pelaillen. Retkelä säävaraus. Ilmoittaudu.
URL:https://kalenteri.niemikoti.fi/tapahtuma/retki-aurinkolahden-rannalle/
LOCATION:Toimintakeskus Villa Borgis\, Linnavuorentie 13\, Helsinki\, 00950\, Finland
CATEGORIES:Toimintakeskus Villa Borgis
END:VEVENT
BEGIN:VEVENT
DTSTART;TZID=Europe/Helsinki:20250617T110000
DTEND;TZID=Europe/Helsinki:20250617T123000
DTSTAMP:20260425T022254
CREATED:20250527T073926Z
LAST-MODIFIED:20250527T073926Z
UID:10023206-1750158000-1750163400@kalenteri.niemikoti.fi
SUMMARY:Katutaidebongaus
DESCRIPTION:Lähdetään yhdessä bongailemaan katutaidetta lähiympäristöön rennolla meiningillä. Tiedossa ei ole valmista reittiä\, vaan edetään ryhmäläisten toiveiden ja tahdin mukaisesti. Yhteinen lähtö Valtti Valmennuksen tiloista (Kuortaneenkatu 1\, 4. krs). \nIlmoittauduthan ennakkoon 16.6. mennessä:\nvaltti@niemikoti.fi
URL:https://kalenteri.niemikoti.fi/tapahtuma/katutaidebongaus-5/
LOCATION:Valtti Valmennus\, Elimäenkatu 26\, Helsinki\, 00510\, Finland
CATEGORIES:Tapahtumat palvelunkäyttäjille,Valtti Valmennus
ATTACH;FMTTYPE=image/png:https://kalenteri.niemikoti.fi/wp-content/uploads/2025/05/Kappaleen-teksti-5.png
END:VEVENT
BEGIN:VEVENT
DTSTART;TZID=Europe/Helsinki:20250616T110000
DTEND;TZID=Europe/Helsinki:20250616T150000
DTSTAMP:20260425T022254
CREATED:20250523T072728Z
LAST-MODIFIED:20250523T072949Z
UID:10023192-1750071600-1750086000@kalenteri.niemikoti.fi
SUMMARY:Retki Seurasaareen
DESCRIPTION:Lähtö Villa Borgiksesta julkista liikennettä käyttäen klo 11. Seurasaaressa ohjelmassa yhdessä ulkoilua ja kesäpäivästä nautiskelua. Kävelemme retkellä paljon\, joten hyvät kengät ja vesipullo mukaan! Retkieväiden omavastuuhinta 2 €. Mahdollisuus uimiseen. Retkellä säävaraus. Ilmoittaudu.
URL:https://kalenteri.niemikoti.fi/tapahtuma/retki-seurasaareen/
LOCATION:Toimintakeskus Villa Borgis\, Linnavuorentie 13\, Helsinki\, 00950\, Finland
CATEGORIES:Toimintakeskus Villa Borgis
END:VEVENT
BEGIN:VEVENT
DTSTART;TZID=Europe/Helsinki:20250612T103000
DTEND;TZID=Europe/Helsinki:20250612T120000
DTSTAMP:20260425T022254
CREATED:20250527T074807Z
LAST-MODIFIED:20250527T074807Z
UID:10023227-1749724200-1749729600@kalenteri.niemikoti.fi
SUMMARY:Helsinki-päivä: Amos Rex
DESCRIPTION:Helsinki-päivänä Helsinki on täynnä erilaista ohjelmaa ja tekemistä. Taidemuseo Amos Rexiin on ilmainen sisäänpääsy klo 11 alkaen. Näyttelynä silloin on Anna Estarriola: Staged Circumstances and Piles of Things. Lisää Amos Rexin näyttelytarjonnasta voit lukea heidän nettisivuiltaan: Amos Rex – taidemuseo Helsingissä \nValtti Valmennus järjestää retken Amos Rexiin\, ja yhteislähtö on Valtti Valmennuksen tiloista (Kuortaneenkatu 1\, 4. krs). \nIlmoittauduthan retkelle ennakkoon viimeistään 11.6. mennessä:\nvaltti@niemikoti.fi
URL:https://kalenteri.niemikoti.fi/tapahtuma/helsinki-paiva-amos-rex/
LOCATION:Valtti Valmennus\, Elimäenkatu 26\, Helsinki\, 00510\, Finland
CATEGORIES:Tapahtumat palvelunkäyttäjille,Valtti Valmennus
ATTACH;FMTTYPE=image/png:https://kalenteri.niemikoti.fi/wp-content/uploads/2025/05/HelsinkiPaiva.png
END:VEVENT
BEGIN:VEVENT
DTSTART;TZID=Europe/Helsinki:20250605T133000
DTEND;TZID=Europe/Helsinki:20250605T170000
DTSTAMP:20260425T022254
CREATED:20250522T053418Z
LAST-MODIFIED:20250522T053418Z
UID:10022672-1749130200-1749142800@kalenteri.niemikoti.fi
SUMMARY:Retki Ilonpilke-tapahtumaan
DESCRIPTION:Lähdetään yhdessä IlonPilke-tapahtumaan Lapinlahden lähteelle! IlonPilke-tapahtumassa paikalla järjestöjä\, toiminnallista tekemistä\, musiikkiesityksiä ja pientä purtavaa. \nIlonPilke 2025 | Facebook \n  \nLähtö Valtti Valmennuksen tiloista (Kuortaneenkatu 1\, 4. krs) kokemusasiantuntija Ainon kanssa. Julkisella liikenteellä matka kestää n. 30-40 minuuttia. \nIlmoittauduthan ennakkoon sähköpostitse aino.kokemusasiantuntija@niemikoti.fi 3.6. mennessä!
URL:https://kalenteri.niemikoti.fi/tapahtuma/retki-ilonpilke-tapahtumaan-2/
LOCATION:Valtti Valmennus\, Elimäenkatu 26\, Helsinki\, 00510\, Finland
CATEGORIES:Valtti Valmennus
ATTACH;FMTTYPE=image/png:https://kalenteri.niemikoti.fi/wp-content/uploads/2025/05/Ilonpilke.png
END:VEVENT
END:VCALENDAR