BEGIN:VCALENDAR
VERSION:2.0
PRODID:-//Tapahtumakalenteri - ECPv6.15.18//NONSGML v1.0//EN
CALSCALE:GREGORIAN
METHOD:PUBLISH
X-WR-CALNAME:Tapahtumakalenteri
X-ORIGINAL-URL:https://kalenteri.niemikoti.fi
X-WR-CALDESC:Tapahtumat Tapahtumakalenteri
REFRESH-INTERVAL;VALUE=DURATION:PT1H
X-Robots-Tag:noindex
X-PUBLISHED-TTL:PT1H
BEGIN:VTIMEZONE
TZID:Europe/Helsinki
BEGIN:DAYLIGHT
TZOFFSETFROM:+0200
TZOFFSETTO:+0300
TZNAME:EEST
DTSTART:20220327T010000
END:DAYLIGHT
BEGIN:STANDARD
TZOFFSETFROM:+0300
TZOFFSETTO:+0200
TZNAME:EET
DTSTART:20221030T010000
END:STANDARD
BEGIN:DAYLIGHT
TZOFFSETFROM:+0200
TZOFFSETTO:+0300
TZNAME:EEST
DTSTART:20230326T010000
END:DAYLIGHT
BEGIN:STANDARD
TZOFFSETFROM:+0300
TZOFFSETTO:+0200
TZNAME:EET
DTSTART:20231029T010000
END:STANDARD
BEGIN:DAYLIGHT
TZOFFSETFROM:+0200
TZOFFSETTO:+0300
TZNAME:EEST
DTSTART:20240331T010000
END:DAYLIGHT
BEGIN:STANDARD
TZOFFSETFROM:+0300
TZOFFSETTO:+0200
TZNAME:EET
DTSTART:20241027T010000
END:STANDARD
END:VTIMEZONE
BEGIN:VEVENT
DTSTART;TZID=Europe/Helsinki:20230428T100000
DTEND;TZID=Europe/Helsinki:20230428T120000
DTSTAMP:20260425T035133
CREATED:20230427T052306Z
LAST-MODIFIED:20230608T031053Z
UID:10000009-1682676000-1682683200@kalenteri.niemikoti.fi
SUMMARY:Perjantaipuuro & pingistä
DESCRIPTION:Viikonloppu käyntiin puuron & pingiksen voimalla! Elviksestä löytyy pingispöytä mailoineen ja se on käytössä aina perjantaiaamuisin.
URL:https://kalenteri.niemikoti.fi/tapahtuma/perjantaipuuro-pingista/2023-04-28/
LOCATION:Kulttuuripaja ELVIS\, Lautatarhankatu 4\, Helsinki\, 00580\, Finland
CATEGORIES:Kulttuuripaja ELVIS,Päivätoiminta
END:VEVENT
BEGIN:VEVENT
DTSTART;TZID=Europe/Helsinki:20230428T110000
DTEND;TZID=Europe/Helsinki:20230428T130000
DTSTAMP:20260425T035133
CREATED:20230427T060640Z
LAST-MODIFIED:20240513T053346Z
UID:10000297-1682679600-1682686800@kalenteri.niemikoti.fi
SUMMARY:Perjantaihyggeily
DESCRIPTION:Villasukat jalkaan\, maailman murheet hetkeksi syrjään ja olo mukavaksi teekupposen äärellä.\nTule rupattelemaan muiden kanssa\, lukemaan lehtiä tai vaikkapa tekemään valmiiksi keskeneräisiä projektejasi.\nTarjolla kahvit /teet ja keksit 1 €/pvä.
URL:https://kalenteri.niemikoti.fi/tapahtuma/perjantaihyggeily/2023-04-28/
LOCATION:Toimintakeskus Villa Borgis\, Linnavuorentie 13\, Helsinki\, 00950\, Finland
CATEGORIES:Päivätoiminta,Toimintakeskus Villa Borgis
END:VEVENT
BEGIN:VEVENT
DTSTART;TZID=Europe/Helsinki:20230502T103000
DTEND;TZID=Europe/Helsinki:20230502T130000
DTSTAMP:20260425T035133
CREATED:20230427T080211Z
LAST-MODIFIED:20230427T082011Z
UID:10000306-1683023400-1683032400@kalenteri.niemikoti.fi
SUMMARY:Pihatalkoot Malmin päivätoiminnassa
DESCRIPTION:Kaikille avoin tapahtuma! Luvassa pihan siistimistä haravoinnin ja muiden mukavaien pihatöiden merkeissä\, osallistujille grillimakkaratarjoilu ja pastasalaatti sekä kahvit.\nEi ilmoittautumista.
URL:https://kalenteri.niemikoti.fi/tapahtuma/pihatalkoot-malmin-paivatoiminnassa/
LOCATION:Malmin päivätoimintakeskus\, Vanha Helsingintie 9\, Helsinki\, 00700\, Finland
CATEGORIES:Päivätoiminta
END:VEVENT
BEGIN:VEVENT
DTSTART;TZID=Europe/Helsinki:20230505T100000
DTEND;TZID=Europe/Helsinki:20230505T120000
DTSTAMP:20260425T035133
CREATED:20230427T052306Z
LAST-MODIFIED:20230608T031053Z
UID:10000289-1683280800-1683288000@kalenteri.niemikoti.fi
SUMMARY:Perjantaipuuro & pingistä
DESCRIPTION:Viikonloppu käyntiin puuron & pingiksen voimalla! Elviksestä löytyy pingispöytä mailoineen ja se on käytössä aina perjantaiaamuisin.
URL:https://kalenteri.niemikoti.fi/tapahtuma/perjantaipuuro-pingista/2023-05-05/
LOCATION:Kulttuuripaja ELVIS\, Lautatarhankatu 4\, Helsinki\, 00580\, Finland
CATEGORIES:Kulttuuripaja ELVIS,Päivätoiminta
END:VEVENT
BEGIN:VEVENT
DTSTART;TZID=Europe/Helsinki:20230505T110000
DTEND;TZID=Europe/Helsinki:20230505T130000
DTSTAMP:20260425T035133
CREATED:20230427T060640Z
LAST-MODIFIED:20240513T053346Z
UID:10000298-1683284400-1683291600@kalenteri.niemikoti.fi
SUMMARY:Perjantaihyggeily
DESCRIPTION:Villasukat jalkaan\, maailman murheet hetkeksi syrjään ja olo mukavaksi teekupposen äärellä.\nTule rupattelemaan muiden kanssa\, lukemaan lehtiä tai vaikkapa tekemään valmiiksi keskeneräisiä projektejasi.\nTarjolla kahvit /teet ja keksit 1 €/pvä.
URL:https://kalenteri.niemikoti.fi/tapahtuma/perjantaihyggeily/2023-05-05/
LOCATION:Toimintakeskus Villa Borgis\, Linnavuorentie 13\, Helsinki\, 00950\, Finland
CATEGORIES:Päivätoiminta,Toimintakeskus Villa Borgis
END:VEVENT
BEGIN:VEVENT
DTSTART;TZID=Europe/Helsinki:20230512T100000
DTEND;TZID=Europe/Helsinki:20230512T120000
DTSTAMP:20260425T035133
CREATED:20230427T052306Z
LAST-MODIFIED:20230608T031053Z
UID:10000290-1683885600-1683892800@kalenteri.niemikoti.fi
SUMMARY:Perjantaipuuro & pingistä
DESCRIPTION:Viikonloppu käyntiin puuron & pingiksen voimalla! Elviksestä löytyy pingispöytä mailoineen ja se on käytössä aina perjantaiaamuisin.
URL:https://kalenteri.niemikoti.fi/tapahtuma/perjantaipuuro-pingista/2023-05-12/
LOCATION:Kulttuuripaja ELVIS\, Lautatarhankatu 4\, Helsinki\, 00580\, Finland
CATEGORIES:Kulttuuripaja ELVIS,Päivätoiminta
END:VEVENT
BEGIN:VEVENT
DTSTART;TZID=Europe/Helsinki:20230512T110000
DTEND;TZID=Europe/Helsinki:20230512T130000
DTSTAMP:20260425T035133
CREATED:20230427T060640Z
LAST-MODIFIED:20240513T053346Z
UID:10000299-1683889200-1683896400@kalenteri.niemikoti.fi
SUMMARY:Perjantaihyggeily
DESCRIPTION:Villasukat jalkaan\, maailman murheet hetkeksi syrjään ja olo mukavaksi teekupposen äärellä.\nTule rupattelemaan muiden kanssa\, lukemaan lehtiä tai vaikkapa tekemään valmiiksi keskeneräisiä projektejasi.\nTarjolla kahvit /teet ja keksit 1 €/pvä.
URL:https://kalenteri.niemikoti.fi/tapahtuma/perjantaihyggeily/2023-05-12/
LOCATION:Toimintakeskus Villa Borgis\, Linnavuorentie 13\, Helsinki\, 00950\, Finland
CATEGORIES:Päivätoiminta,Toimintakeskus Villa Borgis
END:VEVENT
BEGIN:VEVENT
DTSTART;TZID=Europe/Helsinki:20230519T100000
DTEND;TZID=Europe/Helsinki:20230519T120000
DTSTAMP:20260425T035133
CREATED:20230427T052306Z
LAST-MODIFIED:20230608T031053Z
UID:10000291-1684490400-1684497600@kalenteri.niemikoti.fi
SUMMARY:Perjantaipuuro & pingistä
DESCRIPTION:Viikonloppu käyntiin puuron & pingiksen voimalla! Elviksestä löytyy pingispöytä mailoineen ja se on käytössä aina perjantaiaamuisin.
URL:https://kalenteri.niemikoti.fi/tapahtuma/perjantaipuuro-pingista/2023-05-19/
LOCATION:Kulttuuripaja ELVIS\, Lautatarhankatu 4\, Helsinki\, 00580\, Finland
CATEGORIES:Kulttuuripaja ELVIS,Päivätoiminta
END:VEVENT
BEGIN:VEVENT
DTSTART;TZID=Europe/Helsinki:20230519T110000
DTEND;TZID=Europe/Helsinki:20230519T130000
DTSTAMP:20260425T035133
CREATED:20230427T060640Z
LAST-MODIFIED:20240513T053346Z
UID:10000300-1684494000-1684501200@kalenteri.niemikoti.fi
SUMMARY:Perjantaihyggeily
DESCRIPTION:Villasukat jalkaan\, maailman murheet hetkeksi syrjään ja olo mukavaksi teekupposen äärellä.\nTule rupattelemaan muiden kanssa\, lukemaan lehtiä tai vaikkapa tekemään valmiiksi keskeneräisiä projektejasi.\nTarjolla kahvit /teet ja keksit 1 €/pvä.
URL:https://kalenteri.niemikoti.fi/tapahtuma/perjantaihyggeily/2023-05-19/
LOCATION:Toimintakeskus Villa Borgis\, Linnavuorentie 13\, Helsinki\, 00950\, Finland
CATEGORIES:Päivätoiminta,Toimintakeskus Villa Borgis
END:VEVENT
BEGIN:VEVENT
DTSTART;TZID=Europe/Helsinki:20230526T100000
DTEND;TZID=Europe/Helsinki:20230526T120000
DTSTAMP:20260425T035133
CREATED:20230427T052306Z
LAST-MODIFIED:20230608T031053Z
UID:10000292-1685095200-1685102400@kalenteri.niemikoti.fi
SUMMARY:Perjantaipuuro & pingistä
DESCRIPTION:Viikonloppu käyntiin puuron & pingiksen voimalla! Elviksestä löytyy pingispöytä mailoineen ja se on käytössä aina perjantaiaamuisin.
URL:https://kalenteri.niemikoti.fi/tapahtuma/perjantaipuuro-pingista/2023-05-26/
LOCATION:Kulttuuripaja ELVIS\, Lautatarhankatu 4\, Helsinki\, 00580\, Finland
CATEGORIES:Kulttuuripaja ELVIS,Päivätoiminta
END:VEVENT
BEGIN:VEVENT
DTSTART;TZID=Europe/Helsinki:20230526T110000
DTEND;TZID=Europe/Helsinki:20230526T130000
DTSTAMP:20260425T035133
CREATED:20230427T060640Z
LAST-MODIFIED:20240513T053346Z
UID:10000301-1685098800-1685106000@kalenteri.niemikoti.fi
SUMMARY:Perjantaihyggeily
DESCRIPTION:Villasukat jalkaan\, maailman murheet hetkeksi syrjään ja olo mukavaksi teekupposen äärellä.\nTule rupattelemaan muiden kanssa\, lukemaan lehtiä tai vaikkapa tekemään valmiiksi keskeneräisiä projektejasi.\nTarjolla kahvit /teet ja keksit 1 €/pvä.
URL:https://kalenteri.niemikoti.fi/tapahtuma/perjantaihyggeily/2023-05-26/
LOCATION:Toimintakeskus Villa Borgis\, Linnavuorentie 13\, Helsinki\, 00950\, Finland
CATEGORIES:Päivätoiminta,Toimintakeskus Villa Borgis
END:VEVENT
BEGIN:VEVENT
DTSTART;TZID=Europe/Helsinki:20230531T090000
DTEND;TZID=Europe/Helsinki:20230531T094500
DTSTAMP:20260425T035133
CREATED:20230531T083840Z
LAST-MODIFIED:20240205T125147Z
UID:10000518-1685523600-1685526300@kalenteri.niemikoti.fi
SUMMARY:Yhteisöpäivän aamiainen
DESCRIPTION:Aamupala yhteisöpäivään osallistuville (maksullinen).
URL:https://kalenteri.niemikoti.fi/tapahtuma/yhteisopaivan-aamiainen-2/2023-05-31/
LOCATION:Toimintakeskus Villa Borgis\, Linnavuorentie 13\, Helsinki\, 00950\, Finland
CATEGORIES:Toimintakeskus Villa Borgis
END:VEVENT
BEGIN:VEVENT
DTSTART;TZID=Europe/Helsinki:20230602T100000
DTEND;TZID=Europe/Helsinki:20230602T120000
DTSTAMP:20260425T035133
CREATED:20230427T052306Z
LAST-MODIFIED:20230608T031053Z
UID:10000293-1685700000-1685707200@kalenteri.niemikoti.fi
SUMMARY:Perjantaipuuro & pingistä
DESCRIPTION:Viikonloppu käyntiin puuron & pingiksen voimalla! Elviksestä löytyy pingispöytä mailoineen ja se on käytössä aina perjantaiaamuisin.
URL:https://kalenteri.niemikoti.fi/tapahtuma/perjantaipuuro-pingista/2023-06-02/
LOCATION:Kulttuuripaja ELVIS\, Lautatarhankatu 4\, Helsinki\, 00580\, Finland
CATEGORIES:Kulttuuripaja ELVIS,Päivätoiminta
END:VEVENT
BEGIN:VEVENT
DTSTART;TZID=Europe/Helsinki:20230602T110000
DTEND;TZID=Europe/Helsinki:20230602T130000
DTSTAMP:20260425T035133
CREATED:20230427T060640Z
LAST-MODIFIED:20240513T053346Z
UID:10000302-1685703600-1685710800@kalenteri.niemikoti.fi
SUMMARY:Perjantaihyggeily
DESCRIPTION:Villasukat jalkaan\, maailman murheet hetkeksi syrjään ja olo mukavaksi teekupposen äärellä.\nTule rupattelemaan muiden kanssa\, lukemaan lehtiä tai vaikkapa tekemään valmiiksi keskeneräisiä projektejasi.\nTarjolla kahvit /teet ja keksit 1 €/pvä.
URL:https://kalenteri.niemikoti.fi/tapahtuma/perjantaihyggeily/2023-06-02/
LOCATION:Toimintakeskus Villa Borgis\, Linnavuorentie 13\, Helsinki\, 00950\, Finland
CATEGORIES:Päivätoiminta,Toimintakeskus Villa Borgis
END:VEVENT
BEGIN:VEVENT
DTSTART;TZID=Europe/Helsinki:20230605T090000
DTEND;TZID=Europe/Helsinki:20230605T094500
DTSTAMP:20260425T035133
CREATED:20230531T083840Z
LAST-MODIFIED:20240205T125147Z
UID:10000519-1685955600-1685958300@kalenteri.niemikoti.fi
SUMMARY:Yhteisöpäivän aamiainen
DESCRIPTION:Aamupala yhteisöpäivään osallistuville (maksullinen).
URL:https://kalenteri.niemikoti.fi/tapahtuma/yhteisopaivan-aamiainen-2/2023-06-05/
LOCATION:Toimintakeskus Villa Borgis\, Linnavuorentie 13\, Helsinki\, 00950\, Finland
CATEGORIES:Toimintakeskus Villa Borgis
END:VEVENT
BEGIN:VEVENT
DTSTART;TZID=Europe/Helsinki:20230605T120000
DTEND;TZID=Europe/Helsinki:20230605T123000
DTSTAMP:20260425T035133
CREATED:20230531T112750Z
LAST-MODIFIED:20250321T104552Z
UID:10000740-1685966400-1685968200@kalenteri.niemikoti.fi
SUMMARY:Yhteisöpäivän lounas
DESCRIPTION:Lounas yhteisöpäivään osallistuville\, maksullinen.
URL:https://kalenteri.niemikoti.fi/tapahtuma/yhteisopaivan-lounas/2023-06-05/
LOCATION:Toimintakeskus Villa Borgis\, Linnavuorentie 13\, Helsinki\, 00950\, Finland
CATEGORIES:Toimintakeskus Villa Borgis
END:VEVENT
BEGIN:VEVENT
DTSTART;TZID=Europe/Helsinki:20230606T090000
DTEND;TZID=Europe/Helsinki:20230606T094500
DTSTAMP:20260425T035133
CREATED:20230531T083840Z
LAST-MODIFIED:20240205T125147Z
UID:10000520-1686042000-1686044700@kalenteri.niemikoti.fi
SUMMARY:Yhteisöpäivän aamiainen
DESCRIPTION:Aamupala yhteisöpäivään osallistuville (maksullinen).
URL:https://kalenteri.niemikoti.fi/tapahtuma/yhteisopaivan-aamiainen-2/2023-06-06/
LOCATION:Toimintakeskus Villa Borgis\, Linnavuorentie 13\, Helsinki\, 00950\, Finland
CATEGORIES:Toimintakeskus Villa Borgis
END:VEVENT
BEGIN:VEVENT
DTSTART;TZID=Europe/Helsinki:20230607T090000
DTEND;TZID=Europe/Helsinki:20230607T094500
DTSTAMP:20260425T035133
CREATED:20230531T083840Z
LAST-MODIFIED:20240205T125147Z
UID:10000521-1686128400-1686131100@kalenteri.niemikoti.fi
SUMMARY:Yhteisöpäivän aamiainen
DESCRIPTION:Aamupala yhteisöpäivään osallistuville (maksullinen).
URL:https://kalenteri.niemikoti.fi/tapahtuma/yhteisopaivan-aamiainen-2/2023-06-07/
LOCATION:Toimintakeskus Villa Borgis\, Linnavuorentie 13\, Helsinki\, 00950\, Finland
CATEGORIES:Toimintakeskus Villa Borgis
END:VEVENT
BEGIN:VEVENT
DTSTART;TZID=Europe/Helsinki:20230607T140000
DTEND;TZID=Europe/Helsinki:20230607T143000
DTSTAMP:20260425T035133
CREATED:20230607T051246Z
LAST-MODIFIED:20250107T131756Z
UID:10001185-1686146400-1686148200@kalenteri.niemikoti.fi
SUMMARY:Yhteisöpäivän päiväkahvit
DESCRIPTION:Päiväkahvit kuuluvat aamiaisen ja/tai lounaan hintaan\, muuten 1 €.
URL:https://kalenteri.niemikoti.fi/tapahtuma/yhteisopaivan-paivakahvit/2023-06-07/
LOCATION:Toimintakeskus Villa Borgis\, Linnavuorentie 13\, Helsinki\, 00950\, Finland
CATEGORIES:Toimintakeskus Villa Borgis
END:VEVENT
BEGIN:VEVENT
DTSTART;TZID=Europe/Helsinki:20230612T090000
DTEND;TZID=Europe/Helsinki:20230612T094500
DTSTAMP:20260425T035133
CREATED:20230531T083840Z
LAST-MODIFIED:20240205T125147Z
UID:10000522-1686560400-1686563100@kalenteri.niemikoti.fi
SUMMARY:Yhteisöpäivän aamiainen
DESCRIPTION:Aamupala yhteisöpäivään osallistuville (maksullinen).
URL:https://kalenteri.niemikoti.fi/tapahtuma/yhteisopaivan-aamiainen-2/2023-06-12/
LOCATION:Toimintakeskus Villa Borgis\, Linnavuorentie 13\, Helsinki\, 00950\, Finland
CATEGORIES:Toimintakeskus Villa Borgis
END:VEVENT
BEGIN:VEVENT
DTSTART;TZID=Europe/Helsinki:20230612T120000
DTEND;TZID=Europe/Helsinki:20230612T123000
DTSTAMP:20260425T035133
CREATED:20230531T112750Z
LAST-MODIFIED:20250321T104552Z
UID:10000741-1686571200-1686573000@kalenteri.niemikoti.fi
SUMMARY:Yhteisöpäivän lounas
DESCRIPTION:Lounas yhteisöpäivään osallistuville\, maksullinen.
URL:https://kalenteri.niemikoti.fi/tapahtuma/yhteisopaivan-lounas/2023-06-12/
LOCATION:Toimintakeskus Villa Borgis\, Linnavuorentie 13\, Helsinki\, 00950\, Finland
CATEGORIES:Toimintakeskus Villa Borgis
END:VEVENT
BEGIN:VEVENT
DTSTART;TZID=Europe/Helsinki:20230612T140000
DTEND;TZID=Europe/Helsinki:20230612T143000
DTSTAMP:20260425T035133
CREATED:20230607T051246Z
LAST-MODIFIED:20250107T131756Z
UID:10001186-1686578400-1686580200@kalenteri.niemikoti.fi
SUMMARY:Yhteisöpäivän päiväkahvit
DESCRIPTION:Päiväkahvit kuuluvat aamiaisen ja/tai lounaan hintaan\, muuten 1 €.
URL:https://kalenteri.niemikoti.fi/tapahtuma/yhteisopaivan-paivakahvit/2023-06-12/
LOCATION:Toimintakeskus Villa Borgis\, Linnavuorentie 13\, Helsinki\, 00950\, Finland
CATEGORIES:Toimintakeskus Villa Borgis
END:VEVENT
BEGIN:VEVENT
DTSTART;TZID=Europe/Helsinki:20230613T090000
DTEND;TZID=Europe/Helsinki:20230613T094500
DTSTAMP:20260425T035133
CREATED:20230531T083840Z
LAST-MODIFIED:20240205T125147Z
UID:10000523-1686646800-1686649500@kalenteri.niemikoti.fi
SUMMARY:Yhteisöpäivän aamiainen
DESCRIPTION:Aamupala yhteisöpäivään osallistuville (maksullinen).
URL:https://kalenteri.niemikoti.fi/tapahtuma/yhteisopaivan-aamiainen-2/2023-06-13/
LOCATION:Toimintakeskus Villa Borgis\, Linnavuorentie 13\, Helsinki\, 00950\, Finland
CATEGORIES:Toimintakeskus Villa Borgis
END:VEVENT
BEGIN:VEVENT
DTSTART;TZID=Europe/Helsinki:20230614T090000
DTEND;TZID=Europe/Helsinki:20230614T094500
DTSTAMP:20260425T035133
CREATED:20230531T083840Z
LAST-MODIFIED:20240205T125147Z
UID:10000524-1686733200-1686735900@kalenteri.niemikoti.fi
SUMMARY:Yhteisöpäivän aamiainen
DESCRIPTION:Aamupala yhteisöpäivään osallistuville (maksullinen).
URL:https://kalenteri.niemikoti.fi/tapahtuma/yhteisopaivan-aamiainen-2/2023-06-14/
LOCATION:Toimintakeskus Villa Borgis\, Linnavuorentie 13\, Helsinki\, 00950\, Finland
CATEGORIES:Toimintakeskus Villa Borgis
END:VEVENT
BEGIN:VEVENT
DTSTART;TZID=Europe/Helsinki:20230614T140000
DTEND;TZID=Europe/Helsinki:20230614T143000
DTSTAMP:20260425T035133
CREATED:20230607T051246Z
LAST-MODIFIED:20250107T131756Z
UID:10001188-1686751200-1686753000@kalenteri.niemikoti.fi
SUMMARY:Yhteisöpäivän päiväkahvit
DESCRIPTION:Päiväkahvit kuuluvat aamiaisen ja/tai lounaan hintaan\, muuten 1 €.
URL:https://kalenteri.niemikoti.fi/tapahtuma/yhteisopaivan-paivakahvit/2023-06-14/
LOCATION:Toimintakeskus Villa Borgis\, Linnavuorentie 13\, Helsinki\, 00950\, Finland
CATEGORIES:Toimintakeskus Villa Borgis
END:VEVENT
BEGIN:VEVENT
DTSTART;TZID=Europe/Helsinki:20230616T100000
DTEND;TZID=Europe/Helsinki:20230616T120000
DTSTAMP:20260425T035133
CREATED:20230427T052306Z
LAST-MODIFIED:20230608T031053Z
UID:10000295-1686909600-1686916800@kalenteri.niemikoti.fi
SUMMARY:Perjantaipuuro & pingistä
DESCRIPTION:Viikonloppu käyntiin puuron & pingiksen voimalla! Elviksestä löytyy pingispöytä mailoineen ja se on käytössä aina perjantaiaamuisin.
URL:https://kalenteri.niemikoti.fi/tapahtuma/perjantaipuuro-pingista/2023-06-16/
LOCATION:Kulttuuripaja ELVIS\, Lautatarhankatu 4\, Helsinki\, 00580\, Finland
CATEGORIES:Kulttuuripaja ELVIS,Päivätoiminta
END:VEVENT
BEGIN:VEVENT
DTSTART;TZID=Europe/Helsinki:20230616T110000
DTEND;TZID=Europe/Helsinki:20230616T130000
DTSTAMP:20260425T035133
CREATED:20230427T060640Z
LAST-MODIFIED:20240513T053346Z
UID:10000304-1686913200-1686920400@kalenteri.niemikoti.fi
SUMMARY:Perjantaihyggeily
DESCRIPTION:Villasukat jalkaan\, maailman murheet hetkeksi syrjään ja olo mukavaksi teekupposen äärellä.\nTule rupattelemaan muiden kanssa\, lukemaan lehtiä tai vaikkapa tekemään valmiiksi keskeneräisiä projektejasi.\nTarjolla kahvit /teet ja keksit 1 €/pvä.
URL:https://kalenteri.niemikoti.fi/tapahtuma/perjantaihyggeily/2023-06-16/
LOCATION:Toimintakeskus Villa Borgis\, Linnavuorentie 13\, Helsinki\, 00950\, Finland
CATEGORIES:Päivätoiminta,Toimintakeskus Villa Borgis
END:VEVENT
BEGIN:VEVENT
DTSTART;TZID=Europe/Helsinki:20230619T090000
DTEND;TZID=Europe/Helsinki:20230619T094500
DTSTAMP:20260425T035133
CREATED:20230531T083840Z
LAST-MODIFIED:20240205T125147Z
UID:10000525-1687165200-1687167900@kalenteri.niemikoti.fi
SUMMARY:Yhteisöpäivän aamiainen
DESCRIPTION:Aamupala yhteisöpäivään osallistuville (maksullinen).
URL:https://kalenteri.niemikoti.fi/tapahtuma/yhteisopaivan-aamiainen-2/2023-06-19/
LOCATION:Toimintakeskus Villa Borgis\, Linnavuorentie 13\, Helsinki\, 00950\, Finland
CATEGORIES:Toimintakeskus Villa Borgis
END:VEVENT
BEGIN:VEVENT
DTSTART;TZID=Europe/Helsinki:20230619T120000
DTEND;TZID=Europe/Helsinki:20230619T123000
DTSTAMP:20260425T035133
CREATED:20230531T112750Z
LAST-MODIFIED:20250321T104552Z
UID:10000742-1687176000-1687177800@kalenteri.niemikoti.fi
SUMMARY:Yhteisöpäivän lounas
DESCRIPTION:Lounas yhteisöpäivään osallistuville\, maksullinen.
URL:https://kalenteri.niemikoti.fi/tapahtuma/yhteisopaivan-lounas/2023-06-19/
LOCATION:Toimintakeskus Villa Borgis\, Linnavuorentie 13\, Helsinki\, 00950\, Finland
CATEGORIES:Toimintakeskus Villa Borgis
END:VEVENT
BEGIN:VEVENT
DTSTART;TZID=Europe/Helsinki:20230619T140000
DTEND;TZID=Europe/Helsinki:20230619T143000
DTSTAMP:20260425T035133
CREATED:20230607T051246Z
LAST-MODIFIED:20250107T131756Z
UID:10001189-1687183200-1687185000@kalenteri.niemikoti.fi
SUMMARY:Yhteisöpäivän päiväkahvit
DESCRIPTION:Päiväkahvit kuuluvat aamiaisen ja/tai lounaan hintaan\, muuten 1 €.
URL:https://kalenteri.niemikoti.fi/tapahtuma/yhteisopaivan-paivakahvit/2023-06-19/
LOCATION:Toimintakeskus Villa Borgis\, Linnavuorentie 13\, Helsinki\, 00950\, Finland
CATEGORIES:Toimintakeskus Villa Borgis
END:VEVENT
END:VCALENDAR