BEGIN:VCALENDAR
VERSION:2.0
PRODID:-//Tapahtumakalenteri - ECPv6.15.18//NONSGML v1.0//EN
CALSCALE:GREGORIAN
METHOD:PUBLISH
X-ORIGINAL-URL:https://kalenteri.niemikoti.fi
X-WR-CALDESC:Tapahtumat Tapahtumakalenteri
REFRESH-INTERVAL;VALUE=DURATION:PT1H
X-Robots-Tag:noindex
X-PUBLISHED-TTL:PT1H
BEGIN:VTIMEZONE
TZID:Europe/Helsinki
BEGIN:DAYLIGHT
TZOFFSETFROM:+0200
TZOFFSETTO:+0300
TZNAME:EEST
DTSTART:20240331T010000
END:DAYLIGHT
BEGIN:STANDARD
TZOFFSETFROM:+0300
TZOFFSETTO:+0200
TZNAME:EET
DTSTART:20241027T010000
END:STANDARD
BEGIN:DAYLIGHT
TZOFFSETFROM:+0200
TZOFFSETTO:+0300
TZNAME:EEST
DTSTART:20250330T010000
END:DAYLIGHT
BEGIN:STANDARD
TZOFFSETFROM:+0300
TZOFFSETTO:+0200
TZNAME:EET
DTSTART:20251026T010000
END:STANDARD
BEGIN:DAYLIGHT
TZOFFSETFROM:+0200
TZOFFSETTO:+0300
TZNAME:EEST
DTSTART:20260329T010000
END:DAYLIGHT
BEGIN:STANDARD
TZOFFSETFROM:+0300
TZOFFSETTO:+0200
TZNAME:EET
DTSTART:20261025T010000
END:STANDARD
END:VTIMEZONE
BEGIN:VEVENT
DTSTART;TZID=Europe/Helsinki:20250502T130000
DTEND;TZID=Europe/Helsinki:20250502T140000
DTSTAMP:20260426T071004
CREATED:20250307T094117Z
LAST-MODIFIED:20250612T133620Z
UID:10021744-1746190800-1746194400@kalenteri.niemikoti.fi
SUMMARY:Soittoryhmä
DESCRIPTION:Tutustutaan yhdessä pianon\, kitaran ja ukulelen soiton alkeisiin ja soitetaan helppoja kappaleita. Max. 6 osallistujaa\, ilmoittaudu mukaan! \nEi ryhmää 20.6.
URL:https://kalenteri.niemikoti.fi/tapahtuma/soittoryhma-5/2025-05-02/
LOCATION:Malmin päivätoimintakeskus\, Vanha Helsingintie 9\, Helsinki\, 00700\, Finland
CATEGORIES:Malmin päivätoimintakeskus
ATTACH;FMTTYPE=image/jpeg:https://kalenteri.niemikoti.fi/wp-content/uploads/2025/03/Soittoryhma.jpg
END:VEVENT
BEGIN:VEVENT
DTSTART;TZID=Europe/Helsinki:20250506T140000
DTEND;TZID=Europe/Helsinki:20250506T153000
DTSTAMP:20260426T071004
CREATED:20250120T150440Z
LAST-MODIFIED:20250612T131223Z
UID:10021204-1746540000-1746545400@kalenteri.niemikoti.fi
SUMMARY:Jälleenvuokrauksen bändi
DESCRIPTION:Bändissä on vakiintunut kokoonpano. Lisätietoja bändistä voi kysyä ohjaajilta.
URL:https://kalenteri.niemikoti.fi/tapahtuma/jalleenvuokrauksen-bandi-3/2025-05-06/
LOCATION:Malmin päivätoimintakeskus\, Vanha Helsingintie 9\, Helsinki\, 00700\, Finland
CATEGORIES:Jälleenvuokraus,Malmin päivätoimintakeskus
END:VEVENT
BEGIN:VEVENT
DTSTART;TZID=Europe/Helsinki:20250508T153000
DTEND;TZID=Europe/Helsinki:20250508T170000
DTSTAMP:20260426T071004
CREATED:20250131T072623Z
LAST-MODIFIED:20250522T133855Z
UID:10021527-1746718200-1746723600@kalenteri.niemikoti.fi
SUMMARY:Rhythm machine (Malmin bändi)
DESCRIPTION:Bändissä on vakiintunut kokoonpano. Lisätietoja bändistä voi kysyä ohjaajilta. \nEi ryhmää 1.5. ja 29.5.
URL:https://kalenteri.niemikoti.fi/tapahtuma/rhythm-machine-malmin-bandi-2/2025-05-08/
LOCATION:Malmin päivätoimintakeskus\, Vanha Helsingintie 9\, Helsinki\, 00700\, Finland
CATEGORIES:Malmin päivätoimintakeskus
END:VEVENT
BEGIN:VEVENT
DTSTART;TZID=Europe/Helsinki:20250509T130000
DTEND;TZID=Europe/Helsinki:20250509T140000
DTSTAMP:20260426T071004
CREATED:20250307T094117Z
LAST-MODIFIED:20250612T133620Z
UID:10021745-1746795600-1746799200@kalenteri.niemikoti.fi
SUMMARY:Soittoryhmä
DESCRIPTION:Tutustutaan yhdessä pianon\, kitaran ja ukulelen soiton alkeisiin ja soitetaan helppoja kappaleita. Max. 6 osallistujaa\, ilmoittaudu mukaan! \nEi ryhmää 20.6.
URL:https://kalenteri.niemikoti.fi/tapahtuma/soittoryhma-5/2025-05-09/
LOCATION:Malmin päivätoimintakeskus\, Vanha Helsingintie 9\, Helsinki\, 00700\, Finland
CATEGORIES:Malmin päivätoimintakeskus
ATTACH;FMTTYPE=image/jpeg:https://kalenteri.niemikoti.fi/wp-content/uploads/2025/03/Soittoryhma.jpg
END:VEVENT
BEGIN:VEVENT
DTSTART;TZID=Europe/Helsinki:20250513T140000
DTEND;TZID=Europe/Helsinki:20250513T153000
DTSTAMP:20260426T071004
CREATED:20250120T150440Z
LAST-MODIFIED:20250612T131223Z
UID:10021205-1747144800-1747150200@kalenteri.niemikoti.fi
SUMMARY:Jälleenvuokrauksen bändi
DESCRIPTION:Bändissä on vakiintunut kokoonpano. Lisätietoja bändistä voi kysyä ohjaajilta.
URL:https://kalenteri.niemikoti.fi/tapahtuma/jalleenvuokrauksen-bandi-3/2025-05-13/
LOCATION:Malmin päivätoimintakeskus\, Vanha Helsingintie 9\, Helsinki\, 00700\, Finland
CATEGORIES:Jälleenvuokraus,Malmin päivätoimintakeskus
END:VEVENT
BEGIN:VEVENT
DTSTART;TZID=Europe/Helsinki:20250515T153000
DTEND;TZID=Europe/Helsinki:20250515T170000
DTSTAMP:20260426T071004
CREATED:20250131T072623Z
LAST-MODIFIED:20250522T133855Z
UID:10021528-1747323000-1747328400@kalenteri.niemikoti.fi
SUMMARY:Rhythm machine (Malmin bändi)
DESCRIPTION:Bändissä on vakiintunut kokoonpano. Lisätietoja bändistä voi kysyä ohjaajilta. \nEi ryhmää 1.5. ja 29.5.
URL:https://kalenteri.niemikoti.fi/tapahtuma/rhythm-machine-malmin-bandi-2/2025-05-15/
LOCATION:Malmin päivätoimintakeskus\, Vanha Helsingintie 9\, Helsinki\, 00700\, Finland
CATEGORIES:Malmin päivätoimintakeskus
END:VEVENT
BEGIN:VEVENT
DTSTART;TZID=Europe/Helsinki:20250520T140000
DTEND;TZID=Europe/Helsinki:20250520T153000
DTSTAMP:20260426T071004
CREATED:20250120T150440Z
LAST-MODIFIED:20250612T131223Z
UID:10021206-1747749600-1747755000@kalenteri.niemikoti.fi
SUMMARY:Jälleenvuokrauksen bändi
DESCRIPTION:Bändissä on vakiintunut kokoonpano. Lisätietoja bändistä voi kysyä ohjaajilta.
URL:https://kalenteri.niemikoti.fi/tapahtuma/jalleenvuokrauksen-bandi-3/2025-05-20/
LOCATION:Malmin päivätoimintakeskus\, Vanha Helsingintie 9\, Helsinki\, 00700\, Finland
CATEGORIES:Jälleenvuokraus,Malmin päivätoimintakeskus
END:VEVENT
BEGIN:VEVENT
DTSTART;TZID=Europe/Helsinki:20250522T153000
DTEND;TZID=Europe/Helsinki:20250522T170000
DTSTAMP:20260426T071004
CREATED:20250131T072623Z
LAST-MODIFIED:20250522T133855Z
UID:10021529-1747927800-1747933200@kalenteri.niemikoti.fi
SUMMARY:Rhythm machine (Malmin bändi)
DESCRIPTION:Bändissä on vakiintunut kokoonpano. Lisätietoja bändistä voi kysyä ohjaajilta. \nEi ryhmää 1.5. ja 29.5.
URL:https://kalenteri.niemikoti.fi/tapahtuma/rhythm-machine-malmin-bandi-2/2025-05-22/
LOCATION:Malmin päivätoimintakeskus\, Vanha Helsingintie 9\, Helsinki\, 00700\, Finland
CATEGORIES:Malmin päivätoimintakeskus
END:VEVENT
BEGIN:VEVENT
DTSTART;TZID=Europe/Helsinki:20250523T130000
DTEND;TZID=Europe/Helsinki:20250523T140000
DTSTAMP:20260426T071004
CREATED:20250307T094117Z
LAST-MODIFIED:20250612T133620Z
UID:10021747-1748005200-1748008800@kalenteri.niemikoti.fi
SUMMARY:Soittoryhmä
DESCRIPTION:Tutustutaan yhdessä pianon\, kitaran ja ukulelen soiton alkeisiin ja soitetaan helppoja kappaleita. Max. 6 osallistujaa\, ilmoittaudu mukaan! \nEi ryhmää 20.6.
URL:https://kalenteri.niemikoti.fi/tapahtuma/soittoryhma-5/2025-05-23/
LOCATION:Malmin päivätoimintakeskus\, Vanha Helsingintie 9\, Helsinki\, 00700\, Finland
CATEGORIES:Malmin päivätoimintakeskus
ATTACH;FMTTYPE=image/jpeg:https://kalenteri.niemikoti.fi/wp-content/uploads/2025/03/Soittoryhma.jpg
END:VEVENT
BEGIN:VEVENT
DTSTART;TZID=Europe/Helsinki:20250527T140000
DTEND;TZID=Europe/Helsinki:20250527T153000
DTSTAMP:20260426T071004
CREATED:20250120T150440Z
LAST-MODIFIED:20250612T131223Z
UID:10021207-1748354400-1748359800@kalenteri.niemikoti.fi
SUMMARY:Jälleenvuokrauksen bändi
DESCRIPTION:Bändissä on vakiintunut kokoonpano. Lisätietoja bändistä voi kysyä ohjaajilta.
URL:https://kalenteri.niemikoti.fi/tapahtuma/jalleenvuokrauksen-bandi-3/2025-05-27/
LOCATION:Malmin päivätoimintakeskus\, Vanha Helsingintie 9\, Helsinki\, 00700\, Finland
CATEGORIES:Jälleenvuokraus,Malmin päivätoimintakeskus
END:VEVENT
BEGIN:VEVENT
DTSTART;TZID=Europe/Helsinki:20250530T130000
DTEND;TZID=Europe/Helsinki:20250530T140000
DTSTAMP:20260426T071004
CREATED:20250307T094117Z
LAST-MODIFIED:20250612T133620Z
UID:10021748-1748610000-1748613600@kalenteri.niemikoti.fi
SUMMARY:Soittoryhmä
DESCRIPTION:Tutustutaan yhdessä pianon\, kitaran ja ukulelen soiton alkeisiin ja soitetaan helppoja kappaleita. Max. 6 osallistujaa\, ilmoittaudu mukaan! \nEi ryhmää 20.6.
URL:https://kalenteri.niemikoti.fi/tapahtuma/soittoryhma-5/2025-05-30/
LOCATION:Malmin päivätoimintakeskus\, Vanha Helsingintie 9\, Helsinki\, 00700\, Finland
CATEGORIES:Malmin päivätoimintakeskus
ATTACH;FMTTYPE=image/jpeg:https://kalenteri.niemikoti.fi/wp-content/uploads/2025/03/Soittoryhma.jpg
END:VEVENT
END:VCALENDAR