BEGIN:VCALENDAR
VERSION:2.0
PRODID:-//Tapahtumakalenteri - ECPv6.15.18//NONSGML v1.0//EN
CALSCALE:GREGORIAN
METHOD:PUBLISH
X-WR-CALNAME:Tapahtumakalenteri
X-ORIGINAL-URL:https://kalenteri.niemikoti.fi
X-WR-CALDESC:Tapahtumat Tapahtumakalenteri
REFRESH-INTERVAL;VALUE=DURATION:PT1H
X-Robots-Tag:noindex
X-PUBLISHED-TTL:PT1H
BEGIN:VTIMEZONE
TZID:Europe/Helsinki
BEGIN:DAYLIGHT
TZOFFSETFROM:+0200
TZOFFSETTO:+0300
TZNAME:EEST
DTSTART:20240331T010000
END:DAYLIGHT
BEGIN:STANDARD
TZOFFSETFROM:+0300
TZOFFSETTO:+0200
TZNAME:EET
DTSTART:20241027T010000
END:STANDARD
BEGIN:DAYLIGHT
TZOFFSETFROM:+0200
TZOFFSETTO:+0300
TZNAME:EEST
DTSTART:20250330T010000
END:DAYLIGHT
BEGIN:STANDARD
TZOFFSETFROM:+0300
TZOFFSETTO:+0200
TZNAME:EET
DTSTART:20251026T010000
END:STANDARD
BEGIN:DAYLIGHT
TZOFFSETFROM:+0200
TZOFFSETTO:+0300
TZNAME:EEST
DTSTART:20260329T010000
END:DAYLIGHT
BEGIN:STANDARD
TZOFFSETFROM:+0300
TZOFFSETTO:+0200
TZNAME:EET
DTSTART:20261025T010000
END:STANDARD
END:VTIMEZONE
BEGIN:VEVENT
DTSTART;TZID=Europe/Helsinki:20250902T130000
DTEND;TZID=Europe/Helsinki:20250902T140000
DTSTAMP:20260424T024437
CREATED:20250902T083154Z
LAST-MODIFIED:20250930T083129Z
UID:10024724-1756818000-1756821600@kalenteri.niemikoti.fi
SUMMARY:Jamibändi
DESCRIPTION:Jamibändissä vapaata bändisoittoa. Bänditilassa mikrofoneja\, rummut\, sähkökitara\, basso ja koskettimet. \nKaikille avoin\, ei ilmoittautumista.
URL:https://kalenteri.niemikoti.fi/tapahtuma/jamibandi/2025-09-02/
LOCATION:Malmin päivätoimintakeskus\, Vanha Helsingintie 9\, Helsinki\, 00700\, Finland
CATEGORIES:Malmin päivätoimintakeskus
ATTACH;FMTTYPE=image/jpeg:https://kalenteri.niemikoti.fi/wp-content/uploads/2025/09/Jamibandi.jpg
END:VEVENT
BEGIN:VEVENT
DTSTART;TZID=Europe/Helsinki:20250902T140000
DTEND;TZID=Europe/Helsinki:20250902T153000
DTSTAMP:20260424T024437
CREATED:20250810T235753Z
LAST-MODIFIED:20250930T083434Z
UID:10024121-1756821600-1756827000@kalenteri.niemikoti.fi
SUMMARY:Jälleenvuokrauksen bändi
DESCRIPTION:Bändissä on vakiintunut kokoonpano. Lisätietoja bändistä voi kysyä ohjaajilta.
URL:https://kalenteri.niemikoti.fi/tapahtuma/jalleenvuokrauksen-bandi-4/2025-09-02/
LOCATION:Malmin päivätoimintakeskus\, Vanha Helsingintie 9\, Helsinki\, 00700\, Finland
CATEGORIES:Jälleenvuokraus,Malmin päivätoimintakeskus
END:VEVENT
BEGIN:VEVENT
DTSTART;TZID=Europe/Helsinki:20250904T153000
DTEND;TZID=Europe/Helsinki:20250904T170000
DTSTAMP:20260424T024437
CREATED:20250902T091209Z
LAST-MODIFIED:20250902T091209Z
UID:10024795-1756999800-1757005200@kalenteri.niemikoti.fi
SUMMARY:Rhythm machine (Malmin bändi)
DESCRIPTION:Bändissä on vakiintunut kokoonpano. Lisätietoja bändistä voi kysyä ohjaajilta.
URL:https://kalenteri.niemikoti.fi/tapahtuma/rhythm-machine-malmin-bandi-3/2025-09-04/
LOCATION:Malmin päivätoimintakeskus\, Vanha Helsingintie 9\, Helsinki\, 00700\, Finland
CATEGORIES:Malmin päivätoimintakeskus
END:VEVENT
BEGIN:VEVENT
DTSTART;TZID=Europe/Helsinki:20250905T130000
DTEND;TZID=Europe/Helsinki:20250905T140000
DTSTAMP:20260424T024437
CREATED:20250811T004315Z
LAST-MODIFIED:20250902T090432Z
UID:10024314-1757077200-1757080800@kalenteri.niemikoti.fi
SUMMARY:Soittoryhmä
DESCRIPTION:Tutustutaan yhdessä pianon\, kitaran ja ukulelen soiton alkeisiin ja soitetaan helppoja kappaleita. \nMax. 6 osallistujaa\, ilmoittaudu mukaan!
URL:https://kalenteri.niemikoti.fi/tapahtuma/soittoryhma-6/2025-09-05/
LOCATION:Malmin päivätoimintakeskus\, Vanha Helsingintie 9\, Helsinki\, 00700\, Finland
CATEGORIES:Malmin päivätoimintakeskus
ATTACH;FMTTYPE=image/jpeg:https://kalenteri.niemikoti.fi/wp-content/uploads/2025/08/Soittoryhma.jpg
END:VEVENT
BEGIN:VEVENT
DTSTART;TZID=Europe/Helsinki:20250909T130000
DTEND;TZID=Europe/Helsinki:20250909T140000
DTSTAMP:20260424T024437
CREATED:20250902T083154Z
LAST-MODIFIED:20250930T083129Z
UID:10024725-1757422800-1757426400@kalenteri.niemikoti.fi
SUMMARY:Jamibändi
DESCRIPTION:Jamibändissä vapaata bändisoittoa. Bänditilassa mikrofoneja\, rummut\, sähkökitara\, basso ja koskettimet. \nKaikille avoin\, ei ilmoittautumista.
URL:https://kalenteri.niemikoti.fi/tapahtuma/jamibandi/2025-09-09/
LOCATION:Malmin päivätoimintakeskus\, Vanha Helsingintie 9\, Helsinki\, 00700\, Finland
CATEGORIES:Malmin päivätoimintakeskus
ATTACH;FMTTYPE=image/jpeg:https://kalenteri.niemikoti.fi/wp-content/uploads/2025/09/Jamibandi.jpg
END:VEVENT
BEGIN:VEVENT
DTSTART;TZID=Europe/Helsinki:20250909T140000
DTEND;TZID=Europe/Helsinki:20250909T153000
DTSTAMP:20260424T024437
CREATED:20250810T235753Z
LAST-MODIFIED:20250930T083434Z
UID:10024122-1757426400-1757431800@kalenteri.niemikoti.fi
SUMMARY:Jälleenvuokrauksen bändi
DESCRIPTION:Bändissä on vakiintunut kokoonpano. Lisätietoja bändistä voi kysyä ohjaajilta.
URL:https://kalenteri.niemikoti.fi/tapahtuma/jalleenvuokrauksen-bandi-4/2025-09-09/
LOCATION:Malmin päivätoimintakeskus\, Vanha Helsingintie 9\, Helsinki\, 00700\, Finland
CATEGORIES:Jälleenvuokraus,Malmin päivätoimintakeskus
END:VEVENT
BEGIN:VEVENT
DTSTART;TZID=Europe/Helsinki:20250911T153000
DTEND;TZID=Europe/Helsinki:20250911T170000
DTSTAMP:20260424T024437
CREATED:20250902T091209Z
LAST-MODIFIED:20250902T091209Z
UID:10024796-1757604600-1757610000@kalenteri.niemikoti.fi
SUMMARY:Rhythm machine (Malmin bändi)
DESCRIPTION:Bändissä on vakiintunut kokoonpano. Lisätietoja bändistä voi kysyä ohjaajilta.
URL:https://kalenteri.niemikoti.fi/tapahtuma/rhythm-machine-malmin-bandi-3/2025-09-11/
LOCATION:Malmin päivätoimintakeskus\, Vanha Helsingintie 9\, Helsinki\, 00700\, Finland
CATEGORIES:Malmin päivätoimintakeskus
END:VEVENT
BEGIN:VEVENT
DTSTART;TZID=Europe/Helsinki:20250912T130000
DTEND;TZID=Europe/Helsinki:20250912T140000
DTSTAMP:20260424T024437
CREATED:20250811T004315Z
LAST-MODIFIED:20250902T090432Z
UID:10024315-1757682000-1757685600@kalenteri.niemikoti.fi
SUMMARY:Soittoryhmä
DESCRIPTION:Tutustutaan yhdessä pianon\, kitaran ja ukulelen soiton alkeisiin ja soitetaan helppoja kappaleita. \nMax. 6 osallistujaa\, ilmoittaudu mukaan!
URL:https://kalenteri.niemikoti.fi/tapahtuma/soittoryhma-6/2025-09-12/
LOCATION:Malmin päivätoimintakeskus\, Vanha Helsingintie 9\, Helsinki\, 00700\, Finland
CATEGORIES:Malmin päivätoimintakeskus
ATTACH;FMTTYPE=image/jpeg:https://kalenteri.niemikoti.fi/wp-content/uploads/2025/08/Soittoryhma.jpg
END:VEVENT
BEGIN:VEVENT
DTSTART;TZID=Europe/Helsinki:20250916T130000
DTEND;TZID=Europe/Helsinki:20250916T140000
DTSTAMP:20260424T024437
CREATED:20250902T083154Z
LAST-MODIFIED:20250930T083129Z
UID:10024726-1758027600-1758031200@kalenteri.niemikoti.fi
SUMMARY:Jamibändi
DESCRIPTION:Jamibändissä vapaata bändisoittoa. Bänditilassa mikrofoneja\, rummut\, sähkökitara\, basso ja koskettimet. \nKaikille avoin\, ei ilmoittautumista.
URL:https://kalenteri.niemikoti.fi/tapahtuma/jamibandi/2025-09-16/
LOCATION:Malmin päivätoimintakeskus\, Vanha Helsingintie 9\, Helsinki\, 00700\, Finland
CATEGORIES:Malmin päivätoimintakeskus
ATTACH;FMTTYPE=image/jpeg:https://kalenteri.niemikoti.fi/wp-content/uploads/2025/09/Jamibandi.jpg
END:VEVENT
BEGIN:VEVENT
DTSTART;TZID=Europe/Helsinki:20250916T140000
DTEND;TZID=Europe/Helsinki:20250916T153000
DTSTAMP:20260424T024437
CREATED:20250810T235753Z
LAST-MODIFIED:20250930T083434Z
UID:10024123-1758031200-1758036600@kalenteri.niemikoti.fi
SUMMARY:Jälleenvuokrauksen bändi
DESCRIPTION:Bändissä on vakiintunut kokoonpano. Lisätietoja bändistä voi kysyä ohjaajilta.
URL:https://kalenteri.niemikoti.fi/tapahtuma/jalleenvuokrauksen-bandi-4/2025-09-16/
LOCATION:Malmin päivätoimintakeskus\, Vanha Helsingintie 9\, Helsinki\, 00700\, Finland
CATEGORIES:Jälleenvuokraus,Malmin päivätoimintakeskus
END:VEVENT
BEGIN:VEVENT
DTSTART;TZID=Europe/Helsinki:20250918T153000
DTEND;TZID=Europe/Helsinki:20250918T170000
DTSTAMP:20260424T024437
CREATED:20250902T091209Z
LAST-MODIFIED:20250902T091209Z
UID:10024797-1758209400-1758214800@kalenteri.niemikoti.fi
SUMMARY:Rhythm machine (Malmin bändi)
DESCRIPTION:Bändissä on vakiintunut kokoonpano. Lisätietoja bändistä voi kysyä ohjaajilta.
URL:https://kalenteri.niemikoti.fi/tapahtuma/rhythm-machine-malmin-bandi-3/2025-09-18/
LOCATION:Malmin päivätoimintakeskus\, Vanha Helsingintie 9\, Helsinki\, 00700\, Finland
CATEGORIES:Malmin päivätoimintakeskus
END:VEVENT
BEGIN:VEVENT
DTSTART;TZID=Europe/Helsinki:20250919T130000
DTEND;TZID=Europe/Helsinki:20250919T140000
DTSTAMP:20260424T024437
CREATED:20250811T004315Z
LAST-MODIFIED:20250902T090432Z
UID:10024316-1758286800-1758290400@kalenteri.niemikoti.fi
SUMMARY:Soittoryhmä
DESCRIPTION:Tutustutaan yhdessä pianon\, kitaran ja ukulelen soiton alkeisiin ja soitetaan helppoja kappaleita. \nMax. 6 osallistujaa\, ilmoittaudu mukaan!
URL:https://kalenteri.niemikoti.fi/tapahtuma/soittoryhma-6/2025-09-19/
LOCATION:Malmin päivätoimintakeskus\, Vanha Helsingintie 9\, Helsinki\, 00700\, Finland
CATEGORIES:Malmin päivätoimintakeskus
ATTACH;FMTTYPE=image/jpeg:https://kalenteri.niemikoti.fi/wp-content/uploads/2025/08/Soittoryhma.jpg
END:VEVENT
BEGIN:VEVENT
DTSTART;TZID=Europe/Helsinki:20250923T130000
DTEND;TZID=Europe/Helsinki:20250923T140000
DTSTAMP:20260424T024437
CREATED:20250902T083154Z
LAST-MODIFIED:20250930T083129Z
UID:10024727-1758632400-1758636000@kalenteri.niemikoti.fi
SUMMARY:Jamibändi
DESCRIPTION:Jamibändissä vapaata bändisoittoa. Bänditilassa mikrofoneja\, rummut\, sähkökitara\, basso ja koskettimet. \nKaikille avoin\, ei ilmoittautumista.
URL:https://kalenteri.niemikoti.fi/tapahtuma/jamibandi/2025-09-23/
LOCATION:Malmin päivätoimintakeskus\, Vanha Helsingintie 9\, Helsinki\, 00700\, Finland
CATEGORIES:Malmin päivätoimintakeskus
ATTACH;FMTTYPE=image/jpeg:https://kalenteri.niemikoti.fi/wp-content/uploads/2025/09/Jamibandi.jpg
END:VEVENT
BEGIN:VEVENT
DTSTART;TZID=Europe/Helsinki:20250923T140000
DTEND;TZID=Europe/Helsinki:20250923T153000
DTSTAMP:20260424T024437
CREATED:20250810T235753Z
LAST-MODIFIED:20250930T083434Z
UID:10024124-1758636000-1758641400@kalenteri.niemikoti.fi
SUMMARY:Jälleenvuokrauksen bändi
DESCRIPTION:Bändissä on vakiintunut kokoonpano. Lisätietoja bändistä voi kysyä ohjaajilta.
URL:https://kalenteri.niemikoti.fi/tapahtuma/jalleenvuokrauksen-bandi-4/2025-09-23/
LOCATION:Malmin päivätoimintakeskus\, Vanha Helsingintie 9\, Helsinki\, 00700\, Finland
CATEGORIES:Jälleenvuokraus,Malmin päivätoimintakeskus
END:VEVENT
BEGIN:VEVENT
DTSTART;TZID=Europe/Helsinki:20250925T153000
DTEND;TZID=Europe/Helsinki:20250925T170000
DTSTAMP:20260424T024437
CREATED:20250902T091209Z
LAST-MODIFIED:20250902T091209Z
UID:10024798-1758814200-1758819600@kalenteri.niemikoti.fi
SUMMARY:Rhythm machine (Malmin bändi)
DESCRIPTION:Bändissä on vakiintunut kokoonpano. Lisätietoja bändistä voi kysyä ohjaajilta.
URL:https://kalenteri.niemikoti.fi/tapahtuma/rhythm-machine-malmin-bandi-3/2025-09-25/
LOCATION:Malmin päivätoimintakeskus\, Vanha Helsingintie 9\, Helsinki\, 00700\, Finland
CATEGORIES:Malmin päivätoimintakeskus
END:VEVENT
BEGIN:VEVENT
DTSTART;TZID=Europe/Helsinki:20250926T130000
DTEND;TZID=Europe/Helsinki:20250926T140000
DTSTAMP:20260424T024437
CREATED:20250811T004315Z
LAST-MODIFIED:20250902T090432Z
UID:10024317-1758891600-1758895200@kalenteri.niemikoti.fi
SUMMARY:Soittoryhmä
DESCRIPTION:Tutustutaan yhdessä pianon\, kitaran ja ukulelen soiton alkeisiin ja soitetaan helppoja kappaleita. \nMax. 6 osallistujaa\, ilmoittaudu mukaan!
URL:https://kalenteri.niemikoti.fi/tapahtuma/soittoryhma-6/2025-09-26/
LOCATION:Malmin päivätoimintakeskus\, Vanha Helsingintie 9\, Helsinki\, 00700\, Finland
CATEGORIES:Malmin päivätoimintakeskus
ATTACH;FMTTYPE=image/jpeg:https://kalenteri.niemikoti.fi/wp-content/uploads/2025/08/Soittoryhma.jpg
END:VEVENT
BEGIN:VEVENT
DTSTART;TZID=Europe/Helsinki:20250930T130000
DTEND;TZID=Europe/Helsinki:20250930T140000
DTSTAMP:20260424T024437
CREATED:20250902T083154Z
LAST-MODIFIED:20250930T083129Z
UID:10024728-1759237200-1759240800@kalenteri.niemikoti.fi
SUMMARY:Jamibändi
DESCRIPTION:Jamibändissä vapaata bändisoittoa. Bänditilassa mikrofoneja\, rummut\, sähkökitara\, basso ja koskettimet. \nKaikille avoin\, ei ilmoittautumista.
URL:https://kalenteri.niemikoti.fi/tapahtuma/jamibandi/2025-09-30/
LOCATION:Malmin päivätoimintakeskus\, Vanha Helsingintie 9\, Helsinki\, 00700\, Finland
CATEGORIES:Malmin päivätoimintakeskus
ATTACH;FMTTYPE=image/jpeg:https://kalenteri.niemikoti.fi/wp-content/uploads/2025/09/Jamibandi.jpg
END:VEVENT
BEGIN:VEVENT
DTSTART;TZID=Europe/Helsinki:20250930T140000
DTEND;TZID=Europe/Helsinki:20250930T153000
DTSTAMP:20260424T024437
CREATED:20250810T235753Z
LAST-MODIFIED:20250930T083434Z
UID:10024125-1759240800-1759246200@kalenteri.niemikoti.fi
SUMMARY:Jälleenvuokrauksen bändi
DESCRIPTION:Bändissä on vakiintunut kokoonpano. Lisätietoja bändistä voi kysyä ohjaajilta.
URL:https://kalenteri.niemikoti.fi/tapahtuma/jalleenvuokrauksen-bandi-4/2025-09-30/
LOCATION:Malmin päivätoimintakeskus\, Vanha Helsingintie 9\, Helsinki\, 00700\, Finland
CATEGORIES:Jälleenvuokraus,Malmin päivätoimintakeskus
END:VEVENT
END:VCALENDAR