BEGIN:VCALENDAR
VERSION:2.0
PRODID:-//Tapahtumakalenteri - ECPv6.15.18//NONSGML v1.0//EN
CALSCALE:GREGORIAN
METHOD:PUBLISH
X-WR-CALNAME:Tapahtumakalenteri
X-ORIGINAL-URL:https://kalenteri.niemikoti.fi
X-WR-CALDESC:Tapahtumat Tapahtumakalenteri
REFRESH-INTERVAL;VALUE=DURATION:PT1H
X-Robots-Tag:noindex
X-PUBLISHED-TTL:PT1H
BEGIN:VTIMEZONE
TZID:Europe/Helsinki
BEGIN:DAYLIGHT
TZOFFSETFROM:+0200
TZOFFSETTO:+0300
TZNAME:EEST
DTSTART:20240331T010000
END:DAYLIGHT
BEGIN:STANDARD
TZOFFSETFROM:+0300
TZOFFSETTO:+0200
TZNAME:EET
DTSTART:20241027T010000
END:STANDARD
BEGIN:DAYLIGHT
TZOFFSETFROM:+0200
TZOFFSETTO:+0300
TZNAME:EEST
DTSTART:20250330T010000
END:DAYLIGHT
BEGIN:STANDARD
TZOFFSETFROM:+0300
TZOFFSETTO:+0200
TZNAME:EET
DTSTART:20251026T010000
END:STANDARD
BEGIN:DAYLIGHT
TZOFFSETFROM:+0200
TZOFFSETTO:+0300
TZNAME:EEST
DTSTART:20260329T010000
END:DAYLIGHT
BEGIN:STANDARD
TZOFFSETFROM:+0300
TZOFFSETTO:+0200
TZNAME:EET
DTSTART:20261025T010000
END:STANDARD
END:VTIMEZONE
BEGIN:VEVENT
DTSTART;TZID=Europe/Helsinki:20251002T130000
DTEND;TZID=Europe/Helsinki:20251002T143000
DTSTAMP:20260423T211241
CREATED:20250930T101100Z
LAST-MODIFIED:20250930T101100Z
UID:10024914-1759410000-1759415400@kalenteri.niemikoti.fi
SUMMARY:Jamibändi
DESCRIPTION:Jamibändissä vapaata bändisoittoa. Bänditilassa mikrofoneja\, rummut\, sähkökitara\, basso ja koskettimet. \n2.10. ryhmä poikkeuksellisesti klo 13:30-15. \nKaikille avoin\, ei ilmoittautumista.
URL:https://kalenteri.niemikoti.fi/tapahtuma/jamibandi-2/2025-10-02/
LOCATION:Malmin päivätoimintakeskus\, Vanha Helsingintie 9\, Helsinki\, 00700\, Finland
CATEGORIES:Malmin päivätoimintakeskus
ATTACH;FMTTYPE=image/jpeg:https://kalenteri.niemikoti.fi/wp-content/uploads/2025/09/Jamibandi-1.jpg
END:VEVENT
BEGIN:VEVENT
DTSTART;TZID=Europe/Helsinki:20251002T153000
DTEND;TZID=Europe/Helsinki:20251002T170000
DTSTAMP:20260423T211241
CREATED:20250902T091209Z
LAST-MODIFIED:20250902T091209Z
UID:10024799-1759419000-1759424400@kalenteri.niemikoti.fi
SUMMARY:Rhythm machine (Malmin bändi)
DESCRIPTION:Bändissä on vakiintunut kokoonpano. Lisätietoja bändistä voi kysyä ohjaajilta.
URL:https://kalenteri.niemikoti.fi/tapahtuma/rhythm-machine-malmin-bandi-3/2025-10-02/
LOCATION:Malmin päivätoimintakeskus\, Vanha Helsingintie 9\, Helsinki\, 00700\, Finland
CATEGORIES:Malmin päivätoimintakeskus
END:VEVENT
BEGIN:VEVENT
DTSTART;TZID=Europe/Helsinki:20251003T130000
DTEND;TZID=Europe/Helsinki:20251003T140000
DTSTAMP:20260423T211241
CREATED:20250811T004315Z
LAST-MODIFIED:20250902T090432Z
UID:10024318-1759496400-1759500000@kalenteri.niemikoti.fi
SUMMARY:Soittoryhmä
DESCRIPTION:Tutustutaan yhdessä pianon\, kitaran ja ukulelen soiton alkeisiin ja soitetaan helppoja kappaleita. \nMax. 6 osallistujaa\, ilmoittaudu mukaan!
URL:https://kalenteri.niemikoti.fi/tapahtuma/soittoryhma-6/2025-10-03/
LOCATION:Malmin päivätoimintakeskus\, Vanha Helsingintie 9\, Helsinki\, 00700\, Finland
CATEGORIES:Malmin päivätoimintakeskus
ATTACH;FMTTYPE=image/jpeg:https://kalenteri.niemikoti.fi/wp-content/uploads/2025/08/Soittoryhma.jpg
END:VEVENT
BEGIN:VEVENT
DTSTART;TZID=Europe/Helsinki:20251007T130000
DTEND;TZID=Europe/Helsinki:20251007T153000
DTSTAMP:20260423T211241
CREATED:20250930T094834Z
LAST-MODIFIED:20250930T094834Z
UID:10024897-1759842000-1759851000@kalenteri.niemikoti.fi
SUMMARY:Jälleenvuokrauksen bändi
DESCRIPTION:Bändissä on vakiintunut kokoonpano. Lisätietoja bändistä voi kysyä ohjaajilta.
URL:https://kalenteri.niemikoti.fi/tapahtuma/jalleenvuokrauksen-bandi-5/2025-10-07/
LOCATION:Malmin päivätoimintakeskus\, Vanha Helsingintie 9\, Helsinki\, 00700\, Finland
CATEGORIES:Jälleenvuokraus,Malmin päivätoimintakeskus
END:VEVENT
BEGIN:VEVENT
DTSTART;TZID=Europe/Helsinki:20251008T103000
DTEND;TZID=Europe/Helsinki:20251008T113000
DTSTAMP:20260423T211241
CREATED:20250924T053623Z
LAST-MODIFIED:20250924T053623Z
UID:10024821-1759919400-1759923000@kalenteri.niemikoti.fi
SUMMARY:Musaryhmä
DESCRIPTION:Musisointia eri soittimilla\, menetelmillä ja teemoilla.
URL:https://kalenteri.niemikoti.fi/tapahtuma/musaryhma-2/
LOCATION:Toimintakeskus Villa Borgis\, Linnavuorentie 13\, Helsinki\, 00950\, Finland
CATEGORIES:Toimintakeskus Villa Borgis
END:VEVENT
BEGIN:VEVENT
DTSTART;TZID=Europe/Helsinki:20251009T130000
DTEND;TZID=Europe/Helsinki:20251009T143000
DTSTAMP:20260423T211241
CREATED:20250930T101100Z
LAST-MODIFIED:20250930T101100Z
UID:10024915-1760014800-1760020200@kalenteri.niemikoti.fi
SUMMARY:Jamibändi
DESCRIPTION:Jamibändissä vapaata bändisoittoa. Bänditilassa mikrofoneja\, rummut\, sähkökitara\, basso ja koskettimet. \n2.10. ryhmä poikkeuksellisesti klo 13:30-15. \nKaikille avoin\, ei ilmoittautumista.
URL:https://kalenteri.niemikoti.fi/tapahtuma/jamibandi-2/2025-10-09/
LOCATION:Malmin päivätoimintakeskus\, Vanha Helsingintie 9\, Helsinki\, 00700\, Finland
CATEGORIES:Malmin päivätoimintakeskus
ATTACH;FMTTYPE=image/jpeg:https://kalenteri.niemikoti.fi/wp-content/uploads/2025/09/Jamibandi-1.jpg
END:VEVENT
BEGIN:VEVENT
DTSTART;TZID=Europe/Helsinki:20251009T153000
DTEND;TZID=Europe/Helsinki:20251009T170000
DTSTAMP:20260423T211241
CREATED:20250902T091209Z
LAST-MODIFIED:20250902T091209Z
UID:10024800-1760023800-1760029200@kalenteri.niemikoti.fi
SUMMARY:Rhythm machine (Malmin bändi)
DESCRIPTION:Bändissä on vakiintunut kokoonpano. Lisätietoja bändistä voi kysyä ohjaajilta.
URL:https://kalenteri.niemikoti.fi/tapahtuma/rhythm-machine-malmin-bandi-3/2025-10-09/
LOCATION:Malmin päivätoimintakeskus\, Vanha Helsingintie 9\, Helsinki\, 00700\, Finland
CATEGORIES:Malmin päivätoimintakeskus
END:VEVENT
BEGIN:VEVENT
DTSTART;TZID=Europe/Helsinki:20251010T130000
DTEND;TZID=Europe/Helsinki:20251010T140000
DTSTAMP:20260423T211241
CREATED:20250811T004315Z
LAST-MODIFIED:20250902T090432Z
UID:10024319-1760101200-1760104800@kalenteri.niemikoti.fi
SUMMARY:Soittoryhmä
DESCRIPTION:Tutustutaan yhdessä pianon\, kitaran ja ukulelen soiton alkeisiin ja soitetaan helppoja kappaleita. \nMax. 6 osallistujaa\, ilmoittaudu mukaan!
URL:https://kalenteri.niemikoti.fi/tapahtuma/soittoryhma-6/2025-10-10/
LOCATION:Malmin päivätoimintakeskus\, Vanha Helsingintie 9\, Helsinki\, 00700\, Finland
CATEGORIES:Malmin päivätoimintakeskus
ATTACH;FMTTYPE=image/jpeg:https://kalenteri.niemikoti.fi/wp-content/uploads/2025/08/Soittoryhma.jpg
END:VEVENT
BEGIN:VEVENT
DTSTART;TZID=Europe/Helsinki:20251014T130000
DTEND;TZID=Europe/Helsinki:20251014T153000
DTSTAMP:20260423T211241
CREATED:20250930T094834Z
LAST-MODIFIED:20250930T094834Z
UID:10024898-1760446800-1760455800@kalenteri.niemikoti.fi
SUMMARY:Jälleenvuokrauksen bändi
DESCRIPTION:Bändissä on vakiintunut kokoonpano. Lisätietoja bändistä voi kysyä ohjaajilta.
URL:https://kalenteri.niemikoti.fi/tapahtuma/jalleenvuokrauksen-bandi-5/2025-10-14/
LOCATION:Malmin päivätoimintakeskus\, Vanha Helsingintie 9\, Helsinki\, 00700\, Finland
CATEGORIES:Jälleenvuokraus,Malmin päivätoimintakeskus
END:VEVENT
BEGIN:VEVENT
DTSTART;TZID=Europe/Helsinki:20251015T110000
DTEND;TZID=Europe/Helsinki:20251015T120000
DTSTAMP:20260423T211241
CREATED:20250924T053835Z
LAST-MODIFIED:20250924T053835Z
UID:10024822-1760526000-1760529600@kalenteri.niemikoti.fi
SUMMARY:Musaryhmä
DESCRIPTION:Musisointia eri soittimilla\, menetelmillä ja teemoilla.
URL:https://kalenteri.niemikoti.fi/tapahtuma/musaryhma-3/2025-10-15/
LOCATION:Toimintakeskus Villa Borgis\, Linnavuorentie 13\, Helsinki\, 00950\, Finland
CATEGORIES:Toimintakeskus Villa Borgis
END:VEVENT
BEGIN:VEVENT
DTSTART;TZID=Europe/Helsinki:20251016T130000
DTEND;TZID=Europe/Helsinki:20251016T143000
DTSTAMP:20260423T211241
CREATED:20250930T101100Z
LAST-MODIFIED:20250930T101100Z
UID:10024916-1760619600-1760625000@kalenteri.niemikoti.fi
SUMMARY:Jamibändi
DESCRIPTION:Jamibändissä vapaata bändisoittoa. Bänditilassa mikrofoneja\, rummut\, sähkökitara\, basso ja koskettimet. \n2.10. ryhmä poikkeuksellisesti klo 13:30-15. \nKaikille avoin\, ei ilmoittautumista.
URL:https://kalenteri.niemikoti.fi/tapahtuma/jamibandi-2/2025-10-16/
LOCATION:Malmin päivätoimintakeskus\, Vanha Helsingintie 9\, Helsinki\, 00700\, Finland
CATEGORIES:Malmin päivätoimintakeskus
ATTACH;FMTTYPE=image/jpeg:https://kalenteri.niemikoti.fi/wp-content/uploads/2025/09/Jamibandi-1.jpg
END:VEVENT
BEGIN:VEVENT
DTSTART;TZID=Europe/Helsinki:20251016T153000
DTEND;TZID=Europe/Helsinki:20251016T170000
DTSTAMP:20260423T211241
CREATED:20250902T091209Z
LAST-MODIFIED:20250902T091209Z
UID:10024801-1760628600-1760634000@kalenteri.niemikoti.fi
SUMMARY:Rhythm machine (Malmin bändi)
DESCRIPTION:Bändissä on vakiintunut kokoonpano. Lisätietoja bändistä voi kysyä ohjaajilta.
URL:https://kalenteri.niemikoti.fi/tapahtuma/rhythm-machine-malmin-bandi-3/2025-10-16/
LOCATION:Malmin päivätoimintakeskus\, Vanha Helsingintie 9\, Helsinki\, 00700\, Finland
CATEGORIES:Malmin päivätoimintakeskus
END:VEVENT
BEGIN:VEVENT
DTSTART;TZID=Europe/Helsinki:20251017T130000
DTEND;TZID=Europe/Helsinki:20251017T140000
DTSTAMP:20260423T211241
CREATED:20250811T004315Z
LAST-MODIFIED:20250902T090432Z
UID:10024320-1760706000-1760709600@kalenteri.niemikoti.fi
SUMMARY:Soittoryhmä
DESCRIPTION:Tutustutaan yhdessä pianon\, kitaran ja ukulelen soiton alkeisiin ja soitetaan helppoja kappaleita. \nMax. 6 osallistujaa\, ilmoittaudu mukaan!
URL:https://kalenteri.niemikoti.fi/tapahtuma/soittoryhma-6/2025-10-17/
LOCATION:Malmin päivätoimintakeskus\, Vanha Helsingintie 9\, Helsinki\, 00700\, Finland
CATEGORIES:Malmin päivätoimintakeskus
ATTACH;FMTTYPE=image/jpeg:https://kalenteri.niemikoti.fi/wp-content/uploads/2025/08/Soittoryhma.jpg
END:VEVENT
BEGIN:VEVENT
DTSTART;TZID=Europe/Helsinki:20251021T130000
DTEND;TZID=Europe/Helsinki:20251021T153000
DTSTAMP:20260423T211241
CREATED:20250930T094834Z
LAST-MODIFIED:20250930T094834Z
UID:10024899-1761051600-1761060600@kalenteri.niemikoti.fi
SUMMARY:Jälleenvuokrauksen bändi
DESCRIPTION:Bändissä on vakiintunut kokoonpano. Lisätietoja bändistä voi kysyä ohjaajilta.
URL:https://kalenteri.niemikoti.fi/tapahtuma/jalleenvuokrauksen-bandi-5/2025-10-21/
LOCATION:Malmin päivätoimintakeskus\, Vanha Helsingintie 9\, Helsinki\, 00700\, Finland
CATEGORIES:Jälleenvuokraus,Malmin päivätoimintakeskus
END:VEVENT
BEGIN:VEVENT
DTSTART;TZID=Europe/Helsinki:20251022T110000
DTEND;TZID=Europe/Helsinki:20251022T120000
DTSTAMP:20260423T211241
CREATED:20250924T053835Z
LAST-MODIFIED:20250924T053835Z
UID:10024823-1761130800-1761134400@kalenteri.niemikoti.fi
SUMMARY:Musaryhmä
DESCRIPTION:Musisointia eri soittimilla\, menetelmillä ja teemoilla.
URL:https://kalenteri.niemikoti.fi/tapahtuma/musaryhma-3/2025-10-22/
LOCATION:Toimintakeskus Villa Borgis\, Linnavuorentie 13\, Helsinki\, 00950\, Finland
CATEGORIES:Toimintakeskus Villa Borgis
END:VEVENT
BEGIN:VEVENT
DTSTART;TZID=Europe/Helsinki:20251023T130000
DTEND;TZID=Europe/Helsinki:20251023T143000
DTSTAMP:20260423T211241
CREATED:20250930T101100Z
LAST-MODIFIED:20250930T101100Z
UID:10024917-1761224400-1761229800@kalenteri.niemikoti.fi
SUMMARY:Jamibändi
DESCRIPTION:Jamibändissä vapaata bändisoittoa. Bänditilassa mikrofoneja\, rummut\, sähkökitara\, basso ja koskettimet. \n2.10. ryhmä poikkeuksellisesti klo 13:30-15. \nKaikille avoin\, ei ilmoittautumista.
URL:https://kalenteri.niemikoti.fi/tapahtuma/jamibandi-2/2025-10-23/
LOCATION:Malmin päivätoimintakeskus\, Vanha Helsingintie 9\, Helsinki\, 00700\, Finland
CATEGORIES:Malmin päivätoimintakeskus
ATTACH;FMTTYPE=image/jpeg:https://kalenteri.niemikoti.fi/wp-content/uploads/2025/09/Jamibandi-1.jpg
END:VEVENT
BEGIN:VEVENT
DTSTART;TZID=Europe/Helsinki:20251023T153000
DTEND;TZID=Europe/Helsinki:20251023T170000
DTSTAMP:20260423T211241
CREATED:20250902T091209Z
LAST-MODIFIED:20250902T091209Z
UID:10024802-1761233400-1761238800@kalenteri.niemikoti.fi
SUMMARY:Rhythm machine (Malmin bändi)
DESCRIPTION:Bändissä on vakiintunut kokoonpano. Lisätietoja bändistä voi kysyä ohjaajilta.
URL:https://kalenteri.niemikoti.fi/tapahtuma/rhythm-machine-malmin-bandi-3/2025-10-23/
LOCATION:Malmin päivätoimintakeskus\, Vanha Helsingintie 9\, Helsinki\, 00700\, Finland
CATEGORIES:Malmin päivätoimintakeskus
END:VEVENT
BEGIN:VEVENT
DTSTART;TZID=Europe/Helsinki:20251024T130000
DTEND;TZID=Europe/Helsinki:20251024T140000
DTSTAMP:20260423T211241
CREATED:20250811T004315Z
LAST-MODIFIED:20250902T090432Z
UID:10024321-1761310800-1761314400@kalenteri.niemikoti.fi
SUMMARY:Soittoryhmä
DESCRIPTION:Tutustutaan yhdessä pianon\, kitaran ja ukulelen soiton alkeisiin ja soitetaan helppoja kappaleita. \nMax. 6 osallistujaa\, ilmoittaudu mukaan!
URL:https://kalenteri.niemikoti.fi/tapahtuma/soittoryhma-6/2025-10-24/
LOCATION:Malmin päivätoimintakeskus\, Vanha Helsingintie 9\, Helsinki\, 00700\, Finland
CATEGORIES:Malmin päivätoimintakeskus
ATTACH;FMTTYPE=image/jpeg:https://kalenteri.niemikoti.fi/wp-content/uploads/2025/08/Soittoryhma.jpg
END:VEVENT
BEGIN:VEVENT
DTSTART;TZID=Europe/Helsinki:20251028T130000
DTEND;TZID=Europe/Helsinki:20251028T153000
DTSTAMP:20260423T211241
CREATED:20250930T094834Z
LAST-MODIFIED:20250930T094834Z
UID:10024900-1761656400-1761665400@kalenteri.niemikoti.fi
SUMMARY:Jälleenvuokrauksen bändi
DESCRIPTION:Bändissä on vakiintunut kokoonpano. Lisätietoja bändistä voi kysyä ohjaajilta.
URL:https://kalenteri.niemikoti.fi/tapahtuma/jalleenvuokrauksen-bandi-5/2025-10-28/
LOCATION:Malmin päivätoimintakeskus\, Vanha Helsingintie 9\, Helsinki\, 00700\, Finland
CATEGORIES:Jälleenvuokraus,Malmin päivätoimintakeskus
END:VEVENT
BEGIN:VEVENT
DTSTART;TZID=Europe/Helsinki:20251029T110000
DTEND;TZID=Europe/Helsinki:20251029T120000
DTSTAMP:20260423T211241
CREATED:20250924T053835Z
LAST-MODIFIED:20250924T053835Z
UID:10024824-1761735600-1761739200@kalenteri.niemikoti.fi
SUMMARY:Musaryhmä
DESCRIPTION:Musisointia eri soittimilla\, menetelmillä ja teemoilla.
URL:https://kalenteri.niemikoti.fi/tapahtuma/musaryhma-3/2025-10-29/
LOCATION:Toimintakeskus Villa Borgis\, Linnavuorentie 13\, Helsinki\, 00950\, Finland
CATEGORIES:Toimintakeskus Villa Borgis
END:VEVENT
BEGIN:VEVENT
DTSTART;TZID=Europe/Helsinki:20251030T130000
DTEND;TZID=Europe/Helsinki:20251030T143000
DTSTAMP:20260423T211241
CREATED:20250930T101100Z
LAST-MODIFIED:20250930T101100Z
UID:10024918-1761829200-1761834600@kalenteri.niemikoti.fi
SUMMARY:Jamibändi
DESCRIPTION:Jamibändissä vapaata bändisoittoa. Bänditilassa mikrofoneja\, rummut\, sähkökitara\, basso ja koskettimet. \n2.10. ryhmä poikkeuksellisesti klo 13:30-15. \nKaikille avoin\, ei ilmoittautumista.
URL:https://kalenteri.niemikoti.fi/tapahtuma/jamibandi-2/2025-10-30/
LOCATION:Malmin päivätoimintakeskus\, Vanha Helsingintie 9\, Helsinki\, 00700\, Finland
CATEGORIES:Malmin päivätoimintakeskus
ATTACH;FMTTYPE=image/jpeg:https://kalenteri.niemikoti.fi/wp-content/uploads/2025/09/Jamibandi-1.jpg
END:VEVENT
BEGIN:VEVENT
DTSTART;TZID=Europe/Helsinki:20251030T153000
DTEND;TZID=Europe/Helsinki:20251030T170000
DTSTAMP:20260423T211241
CREATED:20250902T091209Z
LAST-MODIFIED:20250902T091209Z
UID:10024803-1761838200-1761843600@kalenteri.niemikoti.fi
SUMMARY:Rhythm machine (Malmin bändi)
DESCRIPTION:Bändissä on vakiintunut kokoonpano. Lisätietoja bändistä voi kysyä ohjaajilta.
URL:https://kalenteri.niemikoti.fi/tapahtuma/rhythm-machine-malmin-bandi-3/2025-10-30/
LOCATION:Malmin päivätoimintakeskus\, Vanha Helsingintie 9\, Helsinki\, 00700\, Finland
CATEGORIES:Malmin päivätoimintakeskus
END:VEVENT
BEGIN:VEVENT
DTSTART;TZID=Europe/Helsinki:20251031T130000
DTEND;TZID=Europe/Helsinki:20251031T140000
DTSTAMP:20260423T211241
CREATED:20250811T004315Z
LAST-MODIFIED:20250902T090432Z
UID:10024322-1761915600-1761919200@kalenteri.niemikoti.fi
SUMMARY:Soittoryhmä
DESCRIPTION:Tutustutaan yhdessä pianon\, kitaran ja ukulelen soiton alkeisiin ja soitetaan helppoja kappaleita. \nMax. 6 osallistujaa\, ilmoittaudu mukaan!
URL:https://kalenteri.niemikoti.fi/tapahtuma/soittoryhma-6/2025-10-31/
LOCATION:Malmin päivätoimintakeskus\, Vanha Helsingintie 9\, Helsinki\, 00700\, Finland
CATEGORIES:Malmin päivätoimintakeskus
ATTACH;FMTTYPE=image/jpeg:https://kalenteri.niemikoti.fi/wp-content/uploads/2025/08/Soittoryhma.jpg
END:VEVENT
END:VCALENDAR