BEGIN:VCALENDAR
VERSION:2.0
PRODID:-//Tapahtumakalenteri - ECPv6.15.18//NONSGML v1.0//EN
CALSCALE:GREGORIAN
METHOD:PUBLISH
X-WR-CALNAME:Tapahtumakalenteri
X-ORIGINAL-URL:https://kalenteri.niemikoti.fi
X-WR-CALDESC:Tapahtumat Tapahtumakalenteri
REFRESH-INTERVAL;VALUE=DURATION:PT1H
X-Robots-Tag:noindex
X-PUBLISHED-TTL:PT1H
BEGIN:VTIMEZONE
TZID:Europe/Helsinki
BEGIN:DAYLIGHT
TZOFFSETFROM:+0200
TZOFFSETTO:+0300
TZNAME:EEST
DTSTART:20240331T010000
END:DAYLIGHT
BEGIN:STANDARD
TZOFFSETFROM:+0300
TZOFFSETTO:+0200
TZNAME:EET
DTSTART:20241027T010000
END:STANDARD
BEGIN:DAYLIGHT
TZOFFSETFROM:+0200
TZOFFSETTO:+0300
TZNAME:EEST
DTSTART:20250330T010000
END:DAYLIGHT
BEGIN:STANDARD
TZOFFSETFROM:+0300
TZOFFSETTO:+0200
TZNAME:EET
DTSTART:20251026T010000
END:STANDARD
BEGIN:DAYLIGHT
TZOFFSETFROM:+0200
TZOFFSETTO:+0300
TZNAME:EEST
DTSTART:20260329T010000
END:DAYLIGHT
BEGIN:STANDARD
TZOFFSETFROM:+0300
TZOFFSETTO:+0200
TZNAME:EET
DTSTART:20261025T010000
END:STANDARD
END:VTIMEZONE
BEGIN:VEVENT
DTSTART;TZID=Europe/Helsinki:20251104T130000
DTEND;TZID=Europe/Helsinki:20251104T153000
DTSTAMP:20260423T154730
CREATED:20250930T094834Z
LAST-MODIFIED:20250930T094834Z
UID:10024901-1762261200-1762270200@kalenteri.niemikoti.fi
SUMMARY:Jälleenvuokrauksen bändi
DESCRIPTION:Bändissä on vakiintunut kokoonpano. Lisätietoja bändistä voi kysyä ohjaajilta.
URL:https://kalenteri.niemikoti.fi/tapahtuma/jalleenvuokrauksen-bandi-5/2025-11-04/
LOCATION:Malmin päivätoimintakeskus\, Vanha Helsingintie 9\, Helsinki\, 00700\, Finland
CATEGORIES:Jälleenvuokraus,Malmin päivätoimintakeskus
END:VEVENT
BEGIN:VEVENT
DTSTART;TZID=Europe/Helsinki:20251106T130000
DTEND;TZID=Europe/Helsinki:20251106T143000
DTSTAMP:20260423T154730
CREATED:20250930T101100Z
LAST-MODIFIED:20250930T101100Z
UID:10024919-1762434000-1762439400@kalenteri.niemikoti.fi
SUMMARY:Jamibändi
DESCRIPTION:Jamibändissä vapaata bändisoittoa. Bänditilassa mikrofoneja\, rummut\, sähkökitara\, basso ja koskettimet. \n2.10. ryhmä poikkeuksellisesti klo 13:30-15. \nKaikille avoin\, ei ilmoittautumista.
URL:https://kalenteri.niemikoti.fi/tapahtuma/jamibandi-2/2025-11-06/
LOCATION:Malmin päivätoimintakeskus\, Vanha Helsingintie 9\, Helsinki\, 00700\, Finland
CATEGORIES:Malmin päivätoimintakeskus
ATTACH;FMTTYPE=image/jpeg:https://kalenteri.niemikoti.fi/wp-content/uploads/2025/09/Jamibandi-1.jpg
END:VEVENT
BEGIN:VEVENT
DTSTART;TZID=Europe/Helsinki:20251106T153000
DTEND;TZID=Europe/Helsinki:20251106T170000
DTSTAMP:20260423T154730
CREATED:20250902T091209Z
LAST-MODIFIED:20250902T091209Z
UID:10024804-1762443000-1762448400@kalenteri.niemikoti.fi
SUMMARY:Rhythm machine (Malmin bändi)
DESCRIPTION:Bändissä on vakiintunut kokoonpano. Lisätietoja bändistä voi kysyä ohjaajilta.
URL:https://kalenteri.niemikoti.fi/tapahtuma/rhythm-machine-malmin-bandi-3/2025-11-06/
LOCATION:Malmin päivätoimintakeskus\, Vanha Helsingintie 9\, Helsinki\, 00700\, Finland
CATEGORIES:Malmin päivätoimintakeskus
END:VEVENT
BEGIN:VEVENT
DTSTART;TZID=Europe/Helsinki:20251107T130000
DTEND;TZID=Europe/Helsinki:20251107T140000
DTSTAMP:20260423T154730
CREATED:20250811T004315Z
LAST-MODIFIED:20250902T090432Z
UID:10024323-1762520400-1762524000@kalenteri.niemikoti.fi
SUMMARY:Soittoryhmä
DESCRIPTION:Tutustutaan yhdessä pianon\, kitaran ja ukulelen soiton alkeisiin ja soitetaan helppoja kappaleita. \nMax. 6 osallistujaa\, ilmoittaudu mukaan!
URL:https://kalenteri.niemikoti.fi/tapahtuma/soittoryhma-6/2025-11-07/
LOCATION:Malmin päivätoimintakeskus\, Vanha Helsingintie 9\, Helsinki\, 00700\, Finland
CATEGORIES:Malmin päivätoimintakeskus
ATTACH;FMTTYPE=image/jpeg:https://kalenteri.niemikoti.fi/wp-content/uploads/2025/08/Soittoryhma.jpg
END:VEVENT
BEGIN:VEVENT
DTSTART;TZID=Europe/Helsinki:20251111T130000
DTEND;TZID=Europe/Helsinki:20251111T153000
DTSTAMP:20260423T154730
CREATED:20250930T094834Z
LAST-MODIFIED:20250930T094834Z
UID:10024902-1762866000-1762875000@kalenteri.niemikoti.fi
SUMMARY:Jälleenvuokrauksen bändi
DESCRIPTION:Bändissä on vakiintunut kokoonpano. Lisätietoja bändistä voi kysyä ohjaajilta.
URL:https://kalenteri.niemikoti.fi/tapahtuma/jalleenvuokrauksen-bandi-5/2025-11-11/
LOCATION:Malmin päivätoimintakeskus\, Vanha Helsingintie 9\, Helsinki\, 00700\, Finland
CATEGORIES:Jälleenvuokraus,Malmin päivätoimintakeskus
END:VEVENT
BEGIN:VEVENT
DTSTART;TZID=Europe/Helsinki:20251113T130000
DTEND;TZID=Europe/Helsinki:20251113T143000
DTSTAMP:20260423T154730
CREATED:20250930T101100Z
LAST-MODIFIED:20250930T101100Z
UID:10024920-1763038800-1763044200@kalenteri.niemikoti.fi
SUMMARY:Jamibändi
DESCRIPTION:Jamibändissä vapaata bändisoittoa. Bänditilassa mikrofoneja\, rummut\, sähkökitara\, basso ja koskettimet. \n2.10. ryhmä poikkeuksellisesti klo 13:30-15. \nKaikille avoin\, ei ilmoittautumista.
URL:https://kalenteri.niemikoti.fi/tapahtuma/jamibandi-2/2025-11-13/
LOCATION:Malmin päivätoimintakeskus\, Vanha Helsingintie 9\, Helsinki\, 00700\, Finland
CATEGORIES:Malmin päivätoimintakeskus
ATTACH;FMTTYPE=image/jpeg:https://kalenteri.niemikoti.fi/wp-content/uploads/2025/09/Jamibandi-1.jpg
END:VEVENT
BEGIN:VEVENT
DTSTART;TZID=Europe/Helsinki:20251113T153000
DTEND;TZID=Europe/Helsinki:20251113T170000
DTSTAMP:20260423T154730
CREATED:20250902T091209Z
LAST-MODIFIED:20250902T091209Z
UID:10024805-1763047800-1763053200@kalenteri.niemikoti.fi
SUMMARY:Rhythm machine (Malmin bändi)
DESCRIPTION:Bändissä on vakiintunut kokoonpano. Lisätietoja bändistä voi kysyä ohjaajilta.
URL:https://kalenteri.niemikoti.fi/tapahtuma/rhythm-machine-malmin-bandi-3/2025-11-13/
LOCATION:Malmin päivätoimintakeskus\, Vanha Helsingintie 9\, Helsinki\, 00700\, Finland
CATEGORIES:Malmin päivätoimintakeskus
END:VEVENT
BEGIN:VEVENT
DTSTART;TZID=Europe/Helsinki:20251114T130000
DTEND;TZID=Europe/Helsinki:20251114T140000
DTSTAMP:20260423T154730
CREATED:20250811T004315Z
LAST-MODIFIED:20250902T090432Z
UID:10024324-1763125200-1763128800@kalenteri.niemikoti.fi
SUMMARY:Soittoryhmä
DESCRIPTION:Tutustutaan yhdessä pianon\, kitaran ja ukulelen soiton alkeisiin ja soitetaan helppoja kappaleita. \nMax. 6 osallistujaa\, ilmoittaudu mukaan!
URL:https://kalenteri.niemikoti.fi/tapahtuma/soittoryhma-6/2025-11-14/
LOCATION:Malmin päivätoimintakeskus\, Vanha Helsingintie 9\, Helsinki\, 00700\, Finland
CATEGORIES:Malmin päivätoimintakeskus
ATTACH;FMTTYPE=image/jpeg:https://kalenteri.niemikoti.fi/wp-content/uploads/2025/08/Soittoryhma.jpg
END:VEVENT
BEGIN:VEVENT
DTSTART;TZID=Europe/Helsinki:20251118T130000
DTEND;TZID=Europe/Helsinki:20251118T153000
DTSTAMP:20260423T154730
CREATED:20250930T094834Z
LAST-MODIFIED:20250930T094834Z
UID:10024903-1763470800-1763479800@kalenteri.niemikoti.fi
SUMMARY:Jälleenvuokrauksen bändi
DESCRIPTION:Bändissä on vakiintunut kokoonpano. Lisätietoja bändistä voi kysyä ohjaajilta.
URL:https://kalenteri.niemikoti.fi/tapahtuma/jalleenvuokrauksen-bandi-5/2025-11-18/
LOCATION:Malmin päivätoimintakeskus\, Vanha Helsingintie 9\, Helsinki\, 00700\, Finland
CATEGORIES:Jälleenvuokraus,Malmin päivätoimintakeskus
END:VEVENT
BEGIN:VEVENT
DTSTART;TZID=Europe/Helsinki:20251120T130000
DTEND;TZID=Europe/Helsinki:20251120T143000
DTSTAMP:20260423T154730
CREATED:20250930T101100Z
LAST-MODIFIED:20250930T101100Z
UID:10024921-1763643600-1763649000@kalenteri.niemikoti.fi
SUMMARY:Jamibändi
DESCRIPTION:Jamibändissä vapaata bändisoittoa. Bänditilassa mikrofoneja\, rummut\, sähkökitara\, basso ja koskettimet. \n2.10. ryhmä poikkeuksellisesti klo 13:30-15. \nKaikille avoin\, ei ilmoittautumista.
URL:https://kalenteri.niemikoti.fi/tapahtuma/jamibandi-2/2025-11-20/
LOCATION:Malmin päivätoimintakeskus\, Vanha Helsingintie 9\, Helsinki\, 00700\, Finland
CATEGORIES:Malmin päivätoimintakeskus
ATTACH;FMTTYPE=image/jpeg:https://kalenteri.niemikoti.fi/wp-content/uploads/2025/09/Jamibandi-1.jpg
END:VEVENT
BEGIN:VEVENT
DTSTART;TZID=Europe/Helsinki:20251120T153000
DTEND;TZID=Europe/Helsinki:20251120T170000
DTSTAMP:20260423T154730
CREATED:20250902T091209Z
LAST-MODIFIED:20250902T091209Z
UID:10024806-1763652600-1763658000@kalenteri.niemikoti.fi
SUMMARY:Rhythm machine (Malmin bändi)
DESCRIPTION:Bändissä on vakiintunut kokoonpano. Lisätietoja bändistä voi kysyä ohjaajilta.
URL:https://kalenteri.niemikoti.fi/tapahtuma/rhythm-machine-malmin-bandi-3/2025-11-20/
LOCATION:Malmin päivätoimintakeskus\, Vanha Helsingintie 9\, Helsinki\, 00700\, Finland
CATEGORIES:Malmin päivätoimintakeskus
END:VEVENT
BEGIN:VEVENT
DTSTART;TZID=Europe/Helsinki:20251121T130000
DTEND;TZID=Europe/Helsinki:20251121T140000
DTSTAMP:20260423T154730
CREATED:20250811T004315Z
LAST-MODIFIED:20250902T090432Z
UID:10024325-1763730000-1763733600@kalenteri.niemikoti.fi
SUMMARY:Soittoryhmä
DESCRIPTION:Tutustutaan yhdessä pianon\, kitaran ja ukulelen soiton alkeisiin ja soitetaan helppoja kappaleita. \nMax. 6 osallistujaa\, ilmoittaudu mukaan!
URL:https://kalenteri.niemikoti.fi/tapahtuma/soittoryhma-6/2025-11-21/
LOCATION:Malmin päivätoimintakeskus\, Vanha Helsingintie 9\, Helsinki\, 00700\, Finland
CATEGORIES:Malmin päivätoimintakeskus
ATTACH;FMTTYPE=image/jpeg:https://kalenteri.niemikoti.fi/wp-content/uploads/2025/08/Soittoryhma.jpg
END:VEVENT
BEGIN:VEVENT
DTSTART;TZID=Europe/Helsinki:20251125T130000
DTEND;TZID=Europe/Helsinki:20251125T153000
DTSTAMP:20260423T154730
CREATED:20250930T094834Z
LAST-MODIFIED:20250930T094834Z
UID:10024904-1764075600-1764084600@kalenteri.niemikoti.fi
SUMMARY:Jälleenvuokrauksen bändi
DESCRIPTION:Bändissä on vakiintunut kokoonpano. Lisätietoja bändistä voi kysyä ohjaajilta.
URL:https://kalenteri.niemikoti.fi/tapahtuma/jalleenvuokrauksen-bandi-5/2025-11-25/
LOCATION:Malmin päivätoimintakeskus\, Vanha Helsingintie 9\, Helsinki\, 00700\, Finland
CATEGORIES:Jälleenvuokraus,Malmin päivätoimintakeskus
END:VEVENT
BEGIN:VEVENT
DTSTART;TZID=Europe/Helsinki:20251127T130000
DTEND;TZID=Europe/Helsinki:20251127T143000
DTSTAMP:20260423T154730
CREATED:20250930T101100Z
LAST-MODIFIED:20250930T101100Z
UID:10024922-1764248400-1764253800@kalenteri.niemikoti.fi
SUMMARY:Jamibändi
DESCRIPTION:Jamibändissä vapaata bändisoittoa. Bänditilassa mikrofoneja\, rummut\, sähkökitara\, basso ja koskettimet. \n2.10. ryhmä poikkeuksellisesti klo 13:30-15. \nKaikille avoin\, ei ilmoittautumista.
URL:https://kalenteri.niemikoti.fi/tapahtuma/jamibandi-2/2025-11-27/
LOCATION:Malmin päivätoimintakeskus\, Vanha Helsingintie 9\, Helsinki\, 00700\, Finland
CATEGORIES:Malmin päivätoimintakeskus
ATTACH;FMTTYPE=image/jpeg:https://kalenteri.niemikoti.fi/wp-content/uploads/2025/09/Jamibandi-1.jpg
END:VEVENT
BEGIN:VEVENT
DTSTART;TZID=Europe/Helsinki:20251127T153000
DTEND;TZID=Europe/Helsinki:20251127T170000
DTSTAMP:20260423T154730
CREATED:20250902T091209Z
LAST-MODIFIED:20250902T091209Z
UID:10024807-1764257400-1764262800@kalenteri.niemikoti.fi
SUMMARY:Rhythm machine (Malmin bändi)
DESCRIPTION:Bändissä on vakiintunut kokoonpano. Lisätietoja bändistä voi kysyä ohjaajilta.
URL:https://kalenteri.niemikoti.fi/tapahtuma/rhythm-machine-malmin-bandi-3/2025-11-27/
LOCATION:Malmin päivätoimintakeskus\, Vanha Helsingintie 9\, Helsinki\, 00700\, Finland
CATEGORIES:Malmin päivätoimintakeskus
END:VEVENT
BEGIN:VEVENT
DTSTART;TZID=Europe/Helsinki:20251128T130000
DTEND;TZID=Europe/Helsinki:20251128T140000
DTSTAMP:20260423T154730
CREATED:20250811T004315Z
LAST-MODIFIED:20250902T090432Z
UID:10024326-1764334800-1764338400@kalenteri.niemikoti.fi
SUMMARY:Soittoryhmä
DESCRIPTION:Tutustutaan yhdessä pianon\, kitaran ja ukulelen soiton alkeisiin ja soitetaan helppoja kappaleita. \nMax. 6 osallistujaa\, ilmoittaudu mukaan!
URL:https://kalenteri.niemikoti.fi/tapahtuma/soittoryhma-6/2025-11-28/
LOCATION:Malmin päivätoimintakeskus\, Vanha Helsingintie 9\, Helsinki\, 00700\, Finland
CATEGORIES:Malmin päivätoimintakeskus
ATTACH;FMTTYPE=image/jpeg:https://kalenteri.niemikoti.fi/wp-content/uploads/2025/08/Soittoryhma.jpg
END:VEVENT
END:VCALENDAR