BEGIN:VCALENDAR
VERSION:2.0
PRODID:-//Tapahtumakalenteri - ECPv6.15.18//NONSGML v1.0//EN
CALSCALE:GREGORIAN
METHOD:PUBLISH
X-WR-CALNAME:Tapahtumakalenteri
X-ORIGINAL-URL:https://kalenteri.niemikoti.fi
X-WR-CALDESC:Tapahtumat Tapahtumakalenteri
REFRESH-INTERVAL;VALUE=DURATION:PT1H
X-Robots-Tag:noindex
X-PUBLISHED-TTL:PT1H
BEGIN:VTIMEZONE
TZID:Europe/Helsinki
BEGIN:DAYLIGHT
TZOFFSETFROM:+0200
TZOFFSETTO:+0300
TZNAME:EEST
DTSTART:20230326T010000
END:DAYLIGHT
BEGIN:STANDARD
TZOFFSETFROM:+0300
TZOFFSETTO:+0200
TZNAME:EET
DTSTART:20231029T010000
END:STANDARD
BEGIN:DAYLIGHT
TZOFFSETFROM:+0200
TZOFFSETTO:+0300
TZNAME:EEST
DTSTART:20240331T010000
END:DAYLIGHT
BEGIN:STANDARD
TZOFFSETFROM:+0300
TZOFFSETTO:+0200
TZNAME:EET
DTSTART:20241027T010000
END:STANDARD
BEGIN:DAYLIGHT
TZOFFSETFROM:+0200
TZOFFSETTO:+0300
TZNAME:EEST
DTSTART:20250330T010000
END:DAYLIGHT
BEGIN:STANDARD
TZOFFSETFROM:+0300
TZOFFSETTO:+0200
TZNAME:EET
DTSTART:20251026T010000
END:STANDARD
END:VTIMEZONE
BEGIN:VEVENT
DTSTART;TZID=Europe/Helsinki:20240806T130000
DTEND;TZID=Europe/Helsinki:20240806T143000
DTSTAMP:20260423T070608
CREATED:20240911T120648Z
LAST-MODIFIED:20250120T150453Z
UID:10012711-1722949200-1722954600@kalenteri.niemikoti.fi
SUMMARY:Jälleenvuokrauksen bändi
DESCRIPTION:Bändissä on vakiintunut kokoonpano. Lisätietoja bändistä voi kysyä ohjaajilta.
URL:https://kalenteri.niemikoti.fi/tapahtuma/jalleenvuokrauksen-bandi-2/2024-08-06/
LOCATION:Malmin päivätoimintakeskus\, Vanha Helsingintie 9\, Helsinki\, 00700\, Finland
CATEGORIES:Jälleenvuokraus,Malmin päivätoimintakeskus
END:VEVENT
BEGIN:VEVENT
DTSTART;TZID=Europe/Helsinki:20240806T153000
DTEND;TZID=Europe/Helsinki:20240806T170000
DTSTAMP:20260423T070608
CREATED:20240911T122526Z
LAST-MODIFIED:20240911T122526Z
UID:10012731-1722958200-1722963600@kalenteri.niemikoti.fi
SUMMARY:Rhythm machine (Malmin bändi)
DESCRIPTION:Bändissä on vakiintunut kokoonpano. Lisätietoja bändistä voi kysyä ohjaajilta.
URL:https://kalenteri.niemikoti.fi/tapahtuma/rhythm-machine-malmin-bandi/2024-08-06/
LOCATION:Malmin päivätoimintakeskus\, Vanha Helsingintie 9\, Helsinki\, 00700\, Finland
CATEGORIES:Malmin päivätoimintakeskus
END:VEVENT
BEGIN:VEVENT
DTSTART;TZID=Europe/Helsinki:20240813T130000
DTEND;TZID=Europe/Helsinki:20240813T143000
DTSTAMP:20260423T070608
CREATED:20240911T120648Z
LAST-MODIFIED:20250120T150453Z
UID:10012712-1723554000-1723559400@kalenteri.niemikoti.fi
SUMMARY:Jälleenvuokrauksen bändi
DESCRIPTION:Bändissä on vakiintunut kokoonpano. Lisätietoja bändistä voi kysyä ohjaajilta.
URL:https://kalenteri.niemikoti.fi/tapahtuma/jalleenvuokrauksen-bandi-2/2024-08-13/
LOCATION:Malmin päivätoimintakeskus\, Vanha Helsingintie 9\, Helsinki\, 00700\, Finland
CATEGORIES:Jälleenvuokraus,Malmin päivätoimintakeskus
END:VEVENT
BEGIN:VEVENT
DTSTART;TZID=Europe/Helsinki:20240813T153000
DTEND;TZID=Europe/Helsinki:20240813T170000
DTSTAMP:20260423T070608
CREATED:20240911T122526Z
LAST-MODIFIED:20240911T122526Z
UID:10012732-1723563000-1723568400@kalenteri.niemikoti.fi
SUMMARY:Rhythm machine (Malmin bändi)
DESCRIPTION:Bändissä on vakiintunut kokoonpano. Lisätietoja bändistä voi kysyä ohjaajilta.
URL:https://kalenteri.niemikoti.fi/tapahtuma/rhythm-machine-malmin-bandi/2024-08-13/
LOCATION:Malmin päivätoimintakeskus\, Vanha Helsingintie 9\, Helsinki\, 00700\, Finland
CATEGORIES:Malmin päivätoimintakeskus
END:VEVENT
BEGIN:VEVENT
DTSTART;TZID=Europe/Helsinki:20240820T130000
DTEND;TZID=Europe/Helsinki:20240820T143000
DTSTAMP:20260423T070608
CREATED:20240911T120648Z
LAST-MODIFIED:20250120T150453Z
UID:10012713-1724158800-1724164200@kalenteri.niemikoti.fi
SUMMARY:Jälleenvuokrauksen bändi
DESCRIPTION:Bändissä on vakiintunut kokoonpano. Lisätietoja bändistä voi kysyä ohjaajilta.
URL:https://kalenteri.niemikoti.fi/tapahtuma/jalleenvuokrauksen-bandi-2/2024-08-20/
LOCATION:Malmin päivätoimintakeskus\, Vanha Helsingintie 9\, Helsinki\, 00700\, Finland
CATEGORIES:Jälleenvuokraus,Malmin päivätoimintakeskus
END:VEVENT
BEGIN:VEVENT
DTSTART;TZID=Europe/Helsinki:20240820T153000
DTEND;TZID=Europe/Helsinki:20240820T170000
DTSTAMP:20260423T070608
CREATED:20240911T122526Z
LAST-MODIFIED:20240911T122526Z
UID:10012733-1724167800-1724173200@kalenteri.niemikoti.fi
SUMMARY:Rhythm machine (Malmin bändi)
DESCRIPTION:Bändissä on vakiintunut kokoonpano. Lisätietoja bändistä voi kysyä ohjaajilta.
URL:https://kalenteri.niemikoti.fi/tapahtuma/rhythm-machine-malmin-bandi/2024-08-20/
LOCATION:Malmin päivätoimintakeskus\, Vanha Helsingintie 9\, Helsinki\, 00700\, Finland
CATEGORIES:Malmin päivätoimintakeskus
END:VEVENT
BEGIN:VEVENT
DTSTART;TZID=Europe/Helsinki:20240827T130000
DTEND;TZID=Europe/Helsinki:20240827T143000
DTSTAMP:20260423T070608
CREATED:20240911T120648Z
LAST-MODIFIED:20250120T150453Z
UID:10012714-1724763600-1724769000@kalenteri.niemikoti.fi
SUMMARY:Jälleenvuokrauksen bändi
DESCRIPTION:Bändissä on vakiintunut kokoonpano. Lisätietoja bändistä voi kysyä ohjaajilta.
URL:https://kalenteri.niemikoti.fi/tapahtuma/jalleenvuokrauksen-bandi-2/2024-08-27/
LOCATION:Malmin päivätoimintakeskus\, Vanha Helsingintie 9\, Helsinki\, 00700\, Finland
CATEGORIES:Jälleenvuokraus,Malmin päivätoimintakeskus
END:VEVENT
BEGIN:VEVENT
DTSTART;TZID=Europe/Helsinki:20240827T153000
DTEND;TZID=Europe/Helsinki:20240827T170000
DTSTAMP:20260423T070608
CREATED:20240911T122526Z
LAST-MODIFIED:20240911T122526Z
UID:10012734-1724772600-1724778000@kalenteri.niemikoti.fi
SUMMARY:Rhythm machine (Malmin bändi)
DESCRIPTION:Bändissä on vakiintunut kokoonpano. Lisätietoja bändistä voi kysyä ohjaajilta.
URL:https://kalenteri.niemikoti.fi/tapahtuma/rhythm-machine-malmin-bandi/2024-08-27/
LOCATION:Malmin päivätoimintakeskus\, Vanha Helsingintie 9\, Helsinki\, 00700\, Finland
CATEGORIES:Malmin päivätoimintakeskus
END:VEVENT
BEGIN:VEVENT
DTSTART;TZID=Europe/Helsinki:20240902T130000
DTEND;TZID=Europe/Helsinki:20240902T143000
DTSTAMP:20260423T070608
CREATED:20250120T151218Z
LAST-MODIFIED:20250120T151218Z
UID:10021244-1725282000-1725287400@kalenteri.niemikoti.fi
SUMMARY:Alkeisbändi
DESCRIPTION:Malmilla aloittaa uusi bändi\, joka lähtee yhdessä harjoittelemaan bändisoittoa alkeista eteenpäin. Bänditilassa rummut\, kitara\, basso ja koskettimet. Max. 4 osallistujaa\, ilmoittaudu mukaan!
URL:https://kalenteri.niemikoti.fi/tapahtuma/alkeisbandi-2/2024-09-02/
LOCATION:Malmin päivätoimintakeskus\, Vanha Helsingintie 9\, Helsinki\, 00700\, Finland
CATEGORIES:Malmin päivätoimintakeskus
ATTACH;FMTTYPE=image/jpeg:https://kalenteri.niemikoti.fi/wp-content/uploads/2025/01/AlkeisBANDI-1.jpg
END:VEVENT
BEGIN:VEVENT
DTSTART;TZID=Europe/Helsinki:20240903T130000
DTEND;TZID=Europe/Helsinki:20240903T143000
DTSTAMP:20260423T070609
CREATED:20240911T120648Z
LAST-MODIFIED:20250120T150453Z
UID:10012715-1725368400-1725373800@kalenteri.niemikoti.fi
SUMMARY:Jälleenvuokrauksen bändi
DESCRIPTION:Bändissä on vakiintunut kokoonpano. Lisätietoja bändistä voi kysyä ohjaajilta.
URL:https://kalenteri.niemikoti.fi/tapahtuma/jalleenvuokrauksen-bandi-2/2024-09-03/
LOCATION:Malmin päivätoimintakeskus\, Vanha Helsingintie 9\, Helsinki\, 00700\, Finland
CATEGORIES:Jälleenvuokraus,Malmin päivätoimintakeskus
END:VEVENT
BEGIN:VEVENT
DTSTART;TZID=Europe/Helsinki:20240903T153000
DTEND;TZID=Europe/Helsinki:20240903T170000
DTSTAMP:20260423T070609
CREATED:20240911T122526Z
LAST-MODIFIED:20240911T122526Z
UID:10012735-1725377400-1725382800@kalenteri.niemikoti.fi
SUMMARY:Rhythm machine (Malmin bändi)
DESCRIPTION:Bändissä on vakiintunut kokoonpano. Lisätietoja bändistä voi kysyä ohjaajilta.
URL:https://kalenteri.niemikoti.fi/tapahtuma/rhythm-machine-malmin-bandi/2024-09-03/
LOCATION:Malmin päivätoimintakeskus\, Vanha Helsingintie 9\, Helsinki\, 00700\, Finland
CATEGORIES:Malmin päivätoimintakeskus
END:VEVENT
BEGIN:VEVENT
DTSTART;TZID=Europe/Helsinki:20240904T160000
DTEND;TZID=Europe/Helsinki:20240904T170000
DTSTAMP:20260423T070609
CREATED:20240822T141323Z
LAST-MODIFIED:20240822T142530Z
UID:10012231-1725465600-1725469200@kalenteri.niemikoti.fi
SUMMARY:Ukulele-orkesteri keskiviikkoisin Kulttuuripaja ELVIKSESSÄ
DESCRIPTION:Aloitamme 4.9. perusasioista\, joten jos olet soittanut aiemmin\, voit liittyä mukaan parin ensimmäisen kerran jälkeen. \nHuomaa\, että ihan jokaisena keskiviikkona emme kokoonnu syysloman ja leirien takia. Muutoksiakin saattaa tulla. Varmista treenit täällä tai Tapsalta\, tapio.kojo@niemikoti.fi tai puh. 050 408 2259. \nEnnakkoilmoittautumista ei tarvita\, ilmaannu vain paikalle. Kaikki niemikotisäätiöläiset ovat tervetulleita!\nJa huom! Ota mukaan oma ukulele\, koska ELVIKSESSÄ on vain muutama soitin!\n  \nukulele2024.v1
URL:https://kalenteri.niemikoti.fi/tapahtuma/ukulele-orkesteri-keskiviikkoisin-kulttuuripaja-elviksessa/2024-09-04/
LOCATION:Kulttuuripaja ELVIS\, Lautatarhankatu 4\, Helsinki\, 00580\, Finland
CATEGORIES:Kulttuuripaja ELVIS,Päivätoiminta
ATTACH;FMTTYPE=image/png:https://kalenteri.niemikoti.fi/wp-content/uploads/2024/08/Screenshot-2024-08-22-at-17.06.50.png
END:VEVENT
BEGIN:VEVENT
DTSTART;TZID=Europe/Helsinki:20240909T130000
DTEND;TZID=Europe/Helsinki:20240909T143000
DTSTAMP:20260423T070609
CREATED:20250120T151218Z
LAST-MODIFIED:20250120T151218Z
UID:10021245-1725886800-1725892200@kalenteri.niemikoti.fi
SUMMARY:Alkeisbändi
DESCRIPTION:Malmilla aloittaa uusi bändi\, joka lähtee yhdessä harjoittelemaan bändisoittoa alkeista eteenpäin. Bänditilassa rummut\, kitara\, basso ja koskettimet. Max. 4 osallistujaa\, ilmoittaudu mukaan!
URL:https://kalenteri.niemikoti.fi/tapahtuma/alkeisbandi-2/2024-09-09/
LOCATION:Malmin päivätoimintakeskus\, Vanha Helsingintie 9\, Helsinki\, 00700\, Finland
CATEGORIES:Malmin päivätoimintakeskus
ATTACH;FMTTYPE=image/jpeg:https://kalenteri.niemikoti.fi/wp-content/uploads/2025/01/AlkeisBANDI-1.jpg
END:VEVENT
BEGIN:VEVENT
DTSTART;TZID=Europe/Helsinki:20240910T130000
DTEND;TZID=Europe/Helsinki:20240910T143000
DTSTAMP:20260423T070609
CREATED:20240911T120648Z
LAST-MODIFIED:20250120T150453Z
UID:10012716-1725973200-1725978600@kalenteri.niemikoti.fi
SUMMARY:Jälleenvuokrauksen bändi
DESCRIPTION:Bändissä on vakiintunut kokoonpano. Lisätietoja bändistä voi kysyä ohjaajilta.
URL:https://kalenteri.niemikoti.fi/tapahtuma/jalleenvuokrauksen-bandi-2/2024-09-10/
LOCATION:Malmin päivätoimintakeskus\, Vanha Helsingintie 9\, Helsinki\, 00700\, Finland
CATEGORIES:Jälleenvuokraus,Malmin päivätoimintakeskus
END:VEVENT
BEGIN:VEVENT
DTSTART;TZID=Europe/Helsinki:20240910T153000
DTEND;TZID=Europe/Helsinki:20240910T170000
DTSTAMP:20260423T070609
CREATED:20240911T122526Z
LAST-MODIFIED:20240911T122526Z
UID:10012736-1725982200-1725987600@kalenteri.niemikoti.fi
SUMMARY:Rhythm machine (Malmin bändi)
DESCRIPTION:Bändissä on vakiintunut kokoonpano. Lisätietoja bändistä voi kysyä ohjaajilta.
URL:https://kalenteri.niemikoti.fi/tapahtuma/rhythm-machine-malmin-bandi/2024-09-10/
LOCATION:Malmin päivätoimintakeskus\, Vanha Helsingintie 9\, Helsinki\, 00700\, Finland
CATEGORIES:Malmin päivätoimintakeskus
END:VEVENT
BEGIN:VEVENT
DTSTART;TZID=Europe/Helsinki:20240916T130000
DTEND;TZID=Europe/Helsinki:20240916T143000
DTSTAMP:20260423T070609
CREATED:20250120T151218Z
LAST-MODIFIED:20250120T151218Z
UID:10021246-1726491600-1726497000@kalenteri.niemikoti.fi
SUMMARY:Alkeisbändi
DESCRIPTION:Malmilla aloittaa uusi bändi\, joka lähtee yhdessä harjoittelemaan bändisoittoa alkeista eteenpäin. Bänditilassa rummut\, kitara\, basso ja koskettimet. Max. 4 osallistujaa\, ilmoittaudu mukaan!
URL:https://kalenteri.niemikoti.fi/tapahtuma/alkeisbandi-2/2024-09-16/
LOCATION:Malmin päivätoimintakeskus\, Vanha Helsingintie 9\, Helsinki\, 00700\, Finland
CATEGORIES:Malmin päivätoimintakeskus
ATTACH;FMTTYPE=image/jpeg:https://kalenteri.niemikoti.fi/wp-content/uploads/2025/01/AlkeisBANDI-1.jpg
END:VEVENT
BEGIN:VEVENT
DTSTART;TZID=Europe/Helsinki:20240917T130000
DTEND;TZID=Europe/Helsinki:20240917T143000
DTSTAMP:20260423T070609
CREATED:20240911T120648Z
LAST-MODIFIED:20250120T150453Z
UID:10012717-1726578000-1726583400@kalenteri.niemikoti.fi
SUMMARY:Jälleenvuokrauksen bändi
DESCRIPTION:Bändissä on vakiintunut kokoonpano. Lisätietoja bändistä voi kysyä ohjaajilta.
URL:https://kalenteri.niemikoti.fi/tapahtuma/jalleenvuokrauksen-bandi-2/2024-09-17/
LOCATION:Malmin päivätoimintakeskus\, Vanha Helsingintie 9\, Helsinki\, 00700\, Finland
CATEGORIES:Jälleenvuokraus,Malmin päivätoimintakeskus
END:VEVENT
BEGIN:VEVENT
DTSTART;TZID=Europe/Helsinki:20240917T153000
DTEND;TZID=Europe/Helsinki:20240917T170000
DTSTAMP:20260423T070609
CREATED:20240911T122526Z
LAST-MODIFIED:20240911T122526Z
UID:10012737-1726587000-1726592400@kalenteri.niemikoti.fi
SUMMARY:Rhythm machine (Malmin bändi)
DESCRIPTION:Bändissä on vakiintunut kokoonpano. Lisätietoja bändistä voi kysyä ohjaajilta.
URL:https://kalenteri.niemikoti.fi/tapahtuma/rhythm-machine-malmin-bandi/2024-09-17/
LOCATION:Malmin päivätoimintakeskus\, Vanha Helsingintie 9\, Helsinki\, 00700\, Finland
CATEGORIES:Malmin päivätoimintakeskus
END:VEVENT
BEGIN:VEVENT
DTSTART;TZID=Europe/Helsinki:20240918T160000
DTEND;TZID=Europe/Helsinki:20240918T170000
DTSTAMP:20260423T070609
CREATED:20240822T141323Z
LAST-MODIFIED:20240822T142530Z
UID:10012233-1726675200-1726678800@kalenteri.niemikoti.fi
SUMMARY:Ukulele-orkesteri keskiviikkoisin Kulttuuripaja ELVIKSESSÄ
DESCRIPTION:Aloitamme 4.9. perusasioista\, joten jos olet soittanut aiemmin\, voit liittyä mukaan parin ensimmäisen kerran jälkeen. \nHuomaa\, että ihan jokaisena keskiviikkona emme kokoonnu syysloman ja leirien takia. Muutoksiakin saattaa tulla. Varmista treenit täällä tai Tapsalta\, tapio.kojo@niemikoti.fi tai puh. 050 408 2259. \nEnnakkoilmoittautumista ei tarvita\, ilmaannu vain paikalle. Kaikki niemikotisäätiöläiset ovat tervetulleita!\nJa huom! Ota mukaan oma ukulele\, koska ELVIKSESSÄ on vain muutama soitin!\n  \nukulele2024.v1
URL:https://kalenteri.niemikoti.fi/tapahtuma/ukulele-orkesteri-keskiviikkoisin-kulttuuripaja-elviksessa/2024-09-18/
LOCATION:Kulttuuripaja ELVIS\, Lautatarhankatu 4\, Helsinki\, 00580\, Finland
CATEGORIES:Kulttuuripaja ELVIS,Päivätoiminta
ATTACH;FMTTYPE=image/png:https://kalenteri.niemikoti.fi/wp-content/uploads/2024/08/Screenshot-2024-08-22-at-17.06.50.png
END:VEVENT
BEGIN:VEVENT
DTSTART;TZID=Europe/Helsinki:20240923T130000
DTEND;TZID=Europe/Helsinki:20240923T143000
DTSTAMP:20260423T070609
CREATED:20250120T151218Z
LAST-MODIFIED:20250120T151218Z
UID:10021247-1727096400-1727101800@kalenteri.niemikoti.fi
SUMMARY:Alkeisbändi
DESCRIPTION:Malmilla aloittaa uusi bändi\, joka lähtee yhdessä harjoittelemaan bändisoittoa alkeista eteenpäin. Bänditilassa rummut\, kitara\, basso ja koskettimet. Max. 4 osallistujaa\, ilmoittaudu mukaan!
URL:https://kalenteri.niemikoti.fi/tapahtuma/alkeisbandi-2/2024-09-23/
LOCATION:Malmin päivätoimintakeskus\, Vanha Helsingintie 9\, Helsinki\, 00700\, Finland
CATEGORIES:Malmin päivätoimintakeskus
ATTACH;FMTTYPE=image/jpeg:https://kalenteri.niemikoti.fi/wp-content/uploads/2025/01/AlkeisBANDI-1.jpg
END:VEVENT
BEGIN:VEVENT
DTSTART;TZID=Europe/Helsinki:20240923T163000
DTEND;TZID=Europe/Helsinki:20240923T180000
DTSTAMP:20260423T070609
CREATED:20240918T115958Z
LAST-MODIFIED:20240918T115958Z
UID:10013101-1727109000-1727114400@kalenteri.niemikoti.fi
SUMMARY:Avoin bändi
DESCRIPTION:Tule soittamaan tai kuuntelemaan! Valitaan yhdessä soitettavat biisit. Elviksestä löytyy monipuolisesti soittimia.
URL:https://kalenteri.niemikoti.fi/tapahtuma/avoin-bandi/2024-09-23/
LOCATION:Kulttuuripaja ELVIS\, Lautatarhankatu 4\, Helsinki\, 00580\, Finland
CATEGORIES:Kulttuuripaja ELVIS
END:VEVENT
BEGIN:VEVENT
DTSTART;TZID=Europe/Helsinki:20240924T130000
DTEND;TZID=Europe/Helsinki:20240924T143000
DTSTAMP:20260423T070609
CREATED:20240911T120648Z
LAST-MODIFIED:20250120T150453Z
UID:10012718-1727182800-1727188200@kalenteri.niemikoti.fi
SUMMARY:Jälleenvuokrauksen bändi
DESCRIPTION:Bändissä on vakiintunut kokoonpano. Lisätietoja bändistä voi kysyä ohjaajilta.
URL:https://kalenteri.niemikoti.fi/tapahtuma/jalleenvuokrauksen-bandi-2/2024-09-24/
LOCATION:Malmin päivätoimintakeskus\, Vanha Helsingintie 9\, Helsinki\, 00700\, Finland
CATEGORIES:Jälleenvuokraus,Malmin päivätoimintakeskus
END:VEVENT
BEGIN:VEVENT
DTSTART;TZID=Europe/Helsinki:20240924T153000
DTEND;TZID=Europe/Helsinki:20240924T170000
DTSTAMP:20260423T070609
CREATED:20240911T122526Z
LAST-MODIFIED:20240911T122526Z
UID:10012738-1727191800-1727197200@kalenteri.niemikoti.fi
SUMMARY:Rhythm machine (Malmin bändi)
DESCRIPTION:Bändissä on vakiintunut kokoonpano. Lisätietoja bändistä voi kysyä ohjaajilta.
URL:https://kalenteri.niemikoti.fi/tapahtuma/rhythm-machine-malmin-bandi/2024-09-24/
LOCATION:Malmin päivätoimintakeskus\, Vanha Helsingintie 9\, Helsinki\, 00700\, Finland
CATEGORIES:Malmin päivätoimintakeskus
END:VEVENT
BEGIN:VEVENT
DTSTART;TZID=Europe/Helsinki:20240925T160000
DTEND;TZID=Europe/Helsinki:20240925T170000
DTSTAMP:20260423T070609
CREATED:20240822T141323Z
LAST-MODIFIED:20240822T142530Z
UID:10012234-1727280000-1727283600@kalenteri.niemikoti.fi
SUMMARY:Ukulele-orkesteri keskiviikkoisin Kulttuuripaja ELVIKSESSÄ
DESCRIPTION:Aloitamme 4.9. perusasioista\, joten jos olet soittanut aiemmin\, voit liittyä mukaan parin ensimmäisen kerran jälkeen. \nHuomaa\, että ihan jokaisena keskiviikkona emme kokoonnu syysloman ja leirien takia. Muutoksiakin saattaa tulla. Varmista treenit täällä tai Tapsalta\, tapio.kojo@niemikoti.fi tai puh. 050 408 2259. \nEnnakkoilmoittautumista ei tarvita\, ilmaannu vain paikalle. Kaikki niemikotisäätiöläiset ovat tervetulleita!\nJa huom! Ota mukaan oma ukulele\, koska ELVIKSESSÄ on vain muutama soitin!\n  \nukulele2024.v1
URL:https://kalenteri.niemikoti.fi/tapahtuma/ukulele-orkesteri-keskiviikkoisin-kulttuuripaja-elviksessa/2024-09-25/
LOCATION:Kulttuuripaja ELVIS\, Lautatarhankatu 4\, Helsinki\, 00580\, Finland
CATEGORIES:Kulttuuripaja ELVIS,Päivätoiminta
ATTACH;FMTTYPE=image/png:https://kalenteri.niemikoti.fi/wp-content/uploads/2024/08/Screenshot-2024-08-22-at-17.06.50.png
END:VEVENT
BEGIN:VEVENT
DTSTART;TZID=Europe/Helsinki:20240930T130000
DTEND;TZID=Europe/Helsinki:20240930T143000
DTSTAMP:20260423T070609
CREATED:20250120T151218Z
LAST-MODIFIED:20250120T151218Z
UID:10021248-1727701200-1727706600@kalenteri.niemikoti.fi
SUMMARY:Alkeisbändi
DESCRIPTION:Malmilla aloittaa uusi bändi\, joka lähtee yhdessä harjoittelemaan bändisoittoa alkeista eteenpäin. Bänditilassa rummut\, kitara\, basso ja koskettimet. Max. 4 osallistujaa\, ilmoittaudu mukaan!
URL:https://kalenteri.niemikoti.fi/tapahtuma/alkeisbandi-2/2024-09-30/
LOCATION:Malmin päivätoimintakeskus\, Vanha Helsingintie 9\, Helsinki\, 00700\, Finland
CATEGORIES:Malmin päivätoimintakeskus
ATTACH;FMTTYPE=image/jpeg:https://kalenteri.niemikoti.fi/wp-content/uploads/2025/01/AlkeisBANDI-1.jpg
END:VEVENT
BEGIN:VEVENT
DTSTART;TZID=Europe/Helsinki:20240930T163000
DTEND;TZID=Europe/Helsinki:20240930T180000
DTSTAMP:20260423T070609
CREATED:20240918T115958Z
LAST-MODIFIED:20240918T115958Z
UID:10013102-1727713800-1727719200@kalenteri.niemikoti.fi
SUMMARY:Avoin bändi
DESCRIPTION:Tule soittamaan tai kuuntelemaan! Valitaan yhdessä soitettavat biisit. Elviksestä löytyy monipuolisesti soittimia.
URL:https://kalenteri.niemikoti.fi/tapahtuma/avoin-bandi/2024-09-30/
LOCATION:Kulttuuripaja ELVIS\, Lautatarhankatu 4\, Helsinki\, 00580\, Finland
CATEGORIES:Kulttuuripaja ELVIS
END:VEVENT
BEGIN:VEVENT
DTSTART;TZID=Europe/Helsinki:20241001T130000
DTEND;TZID=Europe/Helsinki:20241001T143000
DTSTAMP:20260423T070609
CREATED:20240911T120648Z
LAST-MODIFIED:20250120T150453Z
UID:10012719-1727787600-1727793000@kalenteri.niemikoti.fi
SUMMARY:Jälleenvuokrauksen bändi
DESCRIPTION:Bändissä on vakiintunut kokoonpano. Lisätietoja bändistä voi kysyä ohjaajilta.
URL:https://kalenteri.niemikoti.fi/tapahtuma/jalleenvuokrauksen-bandi-2/2024-10-01/
LOCATION:Malmin päivätoimintakeskus\, Vanha Helsingintie 9\, Helsinki\, 00700\, Finland
CATEGORIES:Jälleenvuokraus,Malmin päivätoimintakeskus
END:VEVENT
BEGIN:VEVENT
DTSTART;TZID=Europe/Helsinki:20241001T153000
DTEND;TZID=Europe/Helsinki:20241001T170000
DTSTAMP:20260423T070609
CREATED:20240911T122526Z
LAST-MODIFIED:20240911T122526Z
UID:10012739-1727796600-1727802000@kalenteri.niemikoti.fi
SUMMARY:Rhythm machine (Malmin bändi)
DESCRIPTION:Bändissä on vakiintunut kokoonpano. Lisätietoja bändistä voi kysyä ohjaajilta.
URL:https://kalenteri.niemikoti.fi/tapahtuma/rhythm-machine-malmin-bandi/2024-10-01/
LOCATION:Malmin päivätoimintakeskus\, Vanha Helsingintie 9\, Helsinki\, 00700\, Finland
CATEGORIES:Malmin päivätoimintakeskus
END:VEVENT
BEGIN:VEVENT
DTSTART;TZID=Europe/Helsinki:20241007T130000
DTEND;TZID=Europe/Helsinki:20241007T143000
DTSTAMP:20260423T070609
CREATED:20250120T151218Z
LAST-MODIFIED:20250120T151218Z
UID:10021249-1728306000-1728311400@kalenteri.niemikoti.fi
SUMMARY:Alkeisbändi
DESCRIPTION:Malmilla aloittaa uusi bändi\, joka lähtee yhdessä harjoittelemaan bändisoittoa alkeista eteenpäin. Bänditilassa rummut\, kitara\, basso ja koskettimet. Max. 4 osallistujaa\, ilmoittaudu mukaan!
URL:https://kalenteri.niemikoti.fi/tapahtuma/alkeisbandi-2/2024-10-07/
LOCATION:Malmin päivätoimintakeskus\, Vanha Helsingintie 9\, Helsinki\, 00700\, Finland
CATEGORIES:Malmin päivätoimintakeskus
ATTACH;FMTTYPE=image/jpeg:https://kalenteri.niemikoti.fi/wp-content/uploads/2025/01/AlkeisBANDI-1.jpg
END:VEVENT
BEGIN:VEVENT
DTSTART;TZID=Europe/Helsinki:20241007T163000
DTEND;TZID=Europe/Helsinki:20241007T180000
DTSTAMP:20260423T070609
CREATED:20240918T115958Z
LAST-MODIFIED:20240918T115958Z
UID:10013103-1728318600-1728324000@kalenteri.niemikoti.fi
SUMMARY:Avoin bändi
DESCRIPTION:Tule soittamaan tai kuuntelemaan! Valitaan yhdessä soitettavat biisit. Elviksestä löytyy monipuolisesti soittimia.
URL:https://kalenteri.niemikoti.fi/tapahtuma/avoin-bandi/2024-10-07/
LOCATION:Kulttuuripaja ELVIS\, Lautatarhankatu 4\, Helsinki\, 00580\, Finland
CATEGORIES:Kulttuuripaja ELVIS
END:VEVENT
END:VCALENDAR