BEGIN:VCALENDAR
VERSION:2.0
PRODID:-//Tapahtumakalenteri - ECPv6.15.18//NONSGML v1.0//EN
CALSCALE:GREGORIAN
METHOD:PUBLISH
X-ORIGINAL-URL:https://kalenteri.niemikoti.fi
X-WR-CALDESC:Tapahtumat Tapahtumakalenteri
REFRESH-INTERVAL;VALUE=DURATION:PT1H
X-Robots-Tag:noindex
X-PUBLISHED-TTL:PT1H
BEGIN:VTIMEZONE
TZID:Europe/Helsinki
BEGIN:DAYLIGHT
TZOFFSETFROM:+0200
TZOFFSETTO:+0300
TZNAME:EEST
DTSTART:20250330T010000
END:DAYLIGHT
BEGIN:STANDARD
TZOFFSETFROM:+0300
TZOFFSETTO:+0200
TZNAME:EET
DTSTART:20251026T010000
END:STANDARD
BEGIN:DAYLIGHT
TZOFFSETFROM:+0200
TZOFFSETTO:+0300
TZNAME:EEST
DTSTART:20260329T010000
END:DAYLIGHT
BEGIN:STANDARD
TZOFFSETFROM:+0300
TZOFFSETTO:+0200
TZNAME:EET
DTSTART:20261025T010000
END:STANDARD
BEGIN:DAYLIGHT
TZOFFSETFROM:+0200
TZOFFSETTO:+0300
TZNAME:EEST
DTSTART:20270328T010000
END:DAYLIGHT
BEGIN:STANDARD
TZOFFSETFROM:+0300
TZOFFSETTO:+0200
TZNAME:EET
DTSTART:20271031T010000
END:STANDARD
END:VTIMEZONE
BEGIN:VEVENT
DTSTART;TZID=Europe/Helsinki:20260415T090000
DTEND;TZID=Europe/Helsinki:20260415T100000
DTSTAMP:20260421T065515
CREATED:20260226T094743Z
LAST-MODIFIED:20260302T092244Z
UID:10033956-1776243600-1776247200@kalenteri.niemikoti.fi
SUMMARY:tutustuminen Haagan toimintataloon ke. 15.4.2026 klo 9.00
DESCRIPTION:tervetuloa tutustumaan Haagan toimintataloon keskiviikkona 15.4 klo 9.00. Tutustumiskierros alkaa 1.kerroksen kahvilasta tasan klo 9.00 eli tulethan ajoissa. Tutustumiskierros kestää noin tunnin. Tervetuloa!  ps jos tämä aika ei sinulle käy niin ota yhteyttä p 0505931551(Marko Hanni)
URL:https://kalenteri.niemikoti.fi/tapahtuma/tutustuminen-haagan-toimintataloon-ke-15-4-2026-klo-9-00/
LOCATION:Haagan toimintatalo\, Vanha viertotie 22\, Helsinki\, 00350\, Finland
CATEGORIES:Haagan toimintatalo,Tapahtumat henkilökunnalle,Tapahtumat palvelunkäyttäjille
END:VEVENT
END:VCALENDAR