BEGIN:VCALENDAR
VERSION:2.0
PRODID:-//Tapahtumakalenteri - ECPv6.15.18//NONSGML v1.0//EN
CALSCALE:GREGORIAN
METHOD:PUBLISH
X-WR-CALNAME:Tapahtumakalenteri
X-ORIGINAL-URL:https://kalenteri.niemikoti.fi
X-WR-CALDESC:Tapahtumat Tapahtumakalenteri
REFRESH-INTERVAL;VALUE=DURATION:PT1H
X-Robots-Tag:noindex
X-PUBLISHED-TTL:PT1H
BEGIN:VTIMEZONE
TZID:Europe/Helsinki
BEGIN:DAYLIGHT
TZOFFSETFROM:+0200
TZOFFSETTO:+0300
TZNAME:EEST
DTSTART:20240331T010000
END:DAYLIGHT
BEGIN:STANDARD
TZOFFSETFROM:+0300
TZOFFSETTO:+0200
TZNAME:EET
DTSTART:20241027T010000
END:STANDARD
BEGIN:DAYLIGHT
TZOFFSETFROM:+0200
TZOFFSETTO:+0300
TZNAME:EEST
DTSTART:20250330T010000
END:DAYLIGHT
BEGIN:STANDARD
TZOFFSETFROM:+0300
TZOFFSETTO:+0200
TZNAME:EET
DTSTART:20251026T010000
END:STANDARD
BEGIN:DAYLIGHT
TZOFFSETFROM:+0200
TZOFFSETTO:+0300
TZNAME:EEST
DTSTART:20260329T010000
END:DAYLIGHT
BEGIN:STANDARD
TZOFFSETFROM:+0300
TZOFFSETTO:+0200
TZNAME:EET
DTSTART:20261025T010000
END:STANDARD
BEGIN:DAYLIGHT
TZOFFSETFROM:+0200
TZOFFSETTO:+0300
TZNAME:EEST
DTSTART:20270328T010000
END:DAYLIGHT
BEGIN:STANDARD
TZOFFSETFROM:+0300
TZOFFSETTO:+0200
TZNAME:EET
DTSTART:20271031T010000
END:STANDARD
END:VTIMEZONE
BEGIN:VEVENT
DTSTART;TZID=Europe/Helsinki:20260415T130000
DTEND;TZID=Europe/Helsinki:20260415T143000
DTSTAMP:20260421T171250
CREATED:20260213T085235Z
LAST-MODIFIED:20260327T090224Z
UID:10033862-1776258000-1776263400@kalenteri.niemikoti.fi
SUMMARY:Voimaa luonnosta
DESCRIPTION:Luontolähtöistä toimintaa sisällä ja ulkona; seuraamme vuodenaikojen etenemistä\, hoidamme huonekasveja ja puutarhaa\, teemme retkiä lähiluontoon ja altistumme yhdessä luonnon hyvää tekeville vaikutuksille. Pukeuduthan säänmukaisesti. \n15.4. Retki Alkumaisema -näyttelyyn Stoaan.
URL:https://kalenteri.niemikoti.fi/tapahtuma/voimaa-luonnosta/2026-04-15/
LOCATION:Toimintakeskus Villa Borgis\, Linnavuorentie 13\, Helsinki\, 00950\, Finland
CATEGORIES:Toimintakeskus Villa Borgis
END:VEVENT
BEGIN:VEVENT
DTSTART;TZID=Europe/Helsinki:20260408T130000
DTEND;TZID=Europe/Helsinki:20260408T143000
DTSTAMP:20260421T171250
CREATED:20260213T085235Z
LAST-MODIFIED:20260327T090224Z
UID:10033861-1775653200-1775658600@kalenteri.niemikoti.fi
SUMMARY:Voimaa luonnosta
DESCRIPTION:Luontolähtöistä toimintaa sisällä ja ulkona; seuraamme vuodenaikojen etenemistä\, hoidamme huonekasveja ja puutarhaa\, teemme retkiä lähiluontoon ja altistumme yhdessä luonnon hyvää tekeville vaikutuksille. Pukeuduthan säänmukaisesti. \n15.4. Retki Alkumaisema -näyttelyyn Stoaan.
URL:https://kalenteri.niemikoti.fi/tapahtuma/voimaa-luonnosta/2026-04-08/
LOCATION:Toimintakeskus Villa Borgis\, Linnavuorentie 13\, Helsinki\, 00950\, Finland
CATEGORIES:Toimintakeskus Villa Borgis
END:VEVENT
BEGIN:VEVENT
DTSTART;TZID=Europe/Helsinki:20260401T130000
DTEND;TZID=Europe/Helsinki:20260401T143000
DTSTAMP:20260421T171250
CREATED:20260213T085235Z
LAST-MODIFIED:20260327T090224Z
UID:10033860-1775048400-1775053800@kalenteri.niemikoti.fi
SUMMARY:Voimaa luonnosta
DESCRIPTION:Luontolähtöistä toimintaa sisällä ja ulkona; seuraamme vuodenaikojen etenemistä\, hoidamme huonekasveja ja puutarhaa\, teemme retkiä lähiluontoon ja altistumme yhdessä luonnon hyvää tekeville vaikutuksille. Pukeuduthan säänmukaisesti. \n15.4. Retki Alkumaisema -näyttelyyn Stoaan.
URL:https://kalenteri.niemikoti.fi/tapahtuma/voimaa-luonnosta/2026-04-01/
LOCATION:Toimintakeskus Villa Borgis\, Linnavuorentie 13\, Helsinki\, 00950\, Finland
CATEGORIES:Toimintakeskus Villa Borgis
END:VEVENT
BEGIN:VEVENT
DTSTART;TZID=Europe/Helsinki:20260325T130000
DTEND;TZID=Europe/Helsinki:20260325T143000
DTSTAMP:20260421T171250
CREATED:20260213T085235Z
LAST-MODIFIED:20260327T090224Z
UID:10033859-1774443600-1774449000@kalenteri.niemikoti.fi
SUMMARY:Voimaa luonnosta
DESCRIPTION:Luontolähtöistä toimintaa sisällä ja ulkona; seuraamme vuodenaikojen etenemistä\, hoidamme huonekasveja ja puutarhaa\, teemme retkiä lähiluontoon ja altistumme yhdessä luonnon hyvää tekeville vaikutuksille. Pukeuduthan säänmukaisesti. \n15.4. Retki Alkumaisema -näyttelyyn Stoaan.
URL:https://kalenteri.niemikoti.fi/tapahtuma/voimaa-luonnosta/2026-03-25/
LOCATION:Toimintakeskus Villa Borgis\, Linnavuorentie 13\, Helsinki\, 00950\, Finland
CATEGORIES:Toimintakeskus Villa Borgis
END:VEVENT
BEGIN:VEVENT
DTSTART;TZID=Europe/Helsinki:20260318T130000
DTEND;TZID=Europe/Helsinki:20260318T143000
DTSTAMP:20260421T171250
CREATED:20260213T085235Z
LAST-MODIFIED:20260327T090224Z
UID:10033858-1773838800-1773844200@kalenteri.niemikoti.fi
SUMMARY:Voimaa luonnosta
DESCRIPTION:Luontolähtöistä toimintaa sisällä ja ulkona; seuraamme vuodenaikojen etenemistä\, hoidamme huonekasveja ja puutarhaa\, teemme retkiä lähiluontoon ja altistumme yhdessä luonnon hyvää tekeville vaikutuksille. Pukeuduthan säänmukaisesti. \n15.4. Retki Alkumaisema -näyttelyyn Stoaan.
URL:https://kalenteri.niemikoti.fi/tapahtuma/voimaa-luonnosta/2026-03-18/
LOCATION:Toimintakeskus Villa Borgis\, Linnavuorentie 13\, Helsinki\, 00950\, Finland
CATEGORIES:Toimintakeskus Villa Borgis
END:VEVENT
BEGIN:VEVENT
DTSTART;TZID=Europe/Helsinki:20260311T130000
DTEND;TZID=Europe/Helsinki:20260311T143000
DTSTAMP:20260421T171250
CREATED:20260213T085235Z
LAST-MODIFIED:20260327T090224Z
UID:10033857-1773234000-1773239400@kalenteri.niemikoti.fi
SUMMARY:Voimaa luonnosta
DESCRIPTION:Luontolähtöistä toimintaa sisällä ja ulkona; seuraamme vuodenaikojen etenemistä\, hoidamme huonekasveja ja puutarhaa\, teemme retkiä lähiluontoon ja altistumme yhdessä luonnon hyvää tekeville vaikutuksille. Pukeuduthan säänmukaisesti. \n15.4. Retki Alkumaisema -näyttelyyn Stoaan.
URL:https://kalenteri.niemikoti.fi/tapahtuma/voimaa-luonnosta/2026-03-11/
LOCATION:Toimintakeskus Villa Borgis\, Linnavuorentie 13\, Helsinki\, 00950\, Finland
CATEGORIES:Toimintakeskus Villa Borgis
END:VEVENT
BEGIN:VEVENT
DTSTART;TZID=Europe/Helsinki:20260304T130000
DTEND;TZID=Europe/Helsinki:20260304T143000
DTSTAMP:20260421T171250
CREATED:20260213T085235Z
LAST-MODIFIED:20260327T090224Z
UID:10033856-1772629200-1772634600@kalenteri.niemikoti.fi
SUMMARY:Voimaa luonnosta
DESCRIPTION:Luontolähtöistä toimintaa sisällä ja ulkona; seuraamme vuodenaikojen etenemistä\, hoidamme huonekasveja ja puutarhaa\, teemme retkiä lähiluontoon ja altistumme yhdessä luonnon hyvää tekeville vaikutuksille. Pukeuduthan säänmukaisesti. \n15.4. Retki Alkumaisema -näyttelyyn Stoaan.
URL:https://kalenteri.niemikoti.fi/tapahtuma/voimaa-luonnosta/2026-03-04/
LOCATION:Toimintakeskus Villa Borgis\, Linnavuorentie 13\, Helsinki\, 00950\, Finland
CATEGORIES:Toimintakeskus Villa Borgis
END:VEVENT
BEGIN:VEVENT
DTSTART;TZID=Europe/Helsinki:20251016T140000
DTEND;TZID=Europe/Helsinki:20251016T160000
DTSTAMP:20260421T171250
CREATED:20250415T102003Z
LAST-MODIFIED:20250523T070820Z
UID:10023186-1760623200-1760630400@kalenteri.niemikoti.fi
SUMMARY:Kaupunkiviljely Malmilla
DESCRIPTION:Jo kolmatta kesää yhteistyössä Perho-liiketalousopiston Green City Farm -toiminnan kanssa: Keväästä syksyyn kestävää peltotoimintaa. Peltoryhmään osallistumalla näet kasvin koko kasvukaaren siemenestä sadonkorjuuseen.
URL:https://kalenteri.niemikoti.fi/tapahtuma/kaupunkiviljely-malmilla-6/2025-10-16/
LOCATION:Green City Farm c/o Perho Liiketalousopisto\, Vanha Helsingintie 13\, Helsinki\, 00700
CATEGORIES:Toimintakeskus Villa Borgis
END:VEVENT
BEGIN:VEVENT
DTSTART;TZID=Europe/Helsinki:20251009T140000
DTEND;TZID=Europe/Helsinki:20251009T160000
DTSTAMP:20260421T171250
CREATED:20250415T102003Z
LAST-MODIFIED:20250523T070820Z
UID:10023185-1760018400-1760025600@kalenteri.niemikoti.fi
SUMMARY:Kaupunkiviljely Malmilla
DESCRIPTION:Jo kolmatta kesää yhteistyössä Perho-liiketalousopiston Green City Farm -toiminnan kanssa: Keväästä syksyyn kestävää peltotoimintaa. Peltoryhmään osallistumalla näet kasvin koko kasvukaaren siemenestä sadonkorjuuseen.
URL:https://kalenteri.niemikoti.fi/tapahtuma/kaupunkiviljely-malmilla-6/2025-10-09/
LOCATION:Green City Farm c/o Perho Liiketalousopisto\, Vanha Helsingintie 13\, Helsinki\, 00700
CATEGORIES:Toimintakeskus Villa Borgis
END:VEVENT
BEGIN:VEVENT
DTSTART;TZID=Europe/Helsinki:20251002T140000
DTEND;TZID=Europe/Helsinki:20251002T160000
DTSTAMP:20260421T171250
CREATED:20250415T102003Z
LAST-MODIFIED:20250523T070820Z
UID:10023184-1759413600-1759420800@kalenteri.niemikoti.fi
SUMMARY:Kaupunkiviljely Malmilla
DESCRIPTION:Jo kolmatta kesää yhteistyössä Perho-liiketalousopiston Green City Farm -toiminnan kanssa: Keväästä syksyyn kestävää peltotoimintaa. Peltoryhmään osallistumalla näet kasvin koko kasvukaaren siemenestä sadonkorjuuseen.
URL:https://kalenteri.niemikoti.fi/tapahtuma/kaupunkiviljely-malmilla-6/2025-10-02/
LOCATION:Green City Farm c/o Perho Liiketalousopisto\, Vanha Helsingintie 13\, Helsinki\, 00700
CATEGORIES:Toimintakeskus Villa Borgis
END:VEVENT
BEGIN:VEVENT
DTSTART;TZID=Europe/Helsinki:20250925T140000
DTEND;TZID=Europe/Helsinki:20250925T160000
DTSTAMP:20260421T171250
CREATED:20250415T102003Z
LAST-MODIFIED:20250523T070820Z
UID:10023183-1758808800-1758816000@kalenteri.niemikoti.fi
SUMMARY:Kaupunkiviljely Malmilla
DESCRIPTION:Jo kolmatta kesää yhteistyössä Perho-liiketalousopiston Green City Farm -toiminnan kanssa: Keväästä syksyyn kestävää peltotoimintaa. Peltoryhmään osallistumalla näet kasvin koko kasvukaaren siemenestä sadonkorjuuseen.
URL:https://kalenteri.niemikoti.fi/tapahtuma/kaupunkiviljely-malmilla-6/2025-09-25/
LOCATION:Green City Farm c/o Perho Liiketalousopisto\, Vanha Helsingintie 13\, Helsinki\, 00700
CATEGORIES:Toimintakeskus Villa Borgis
END:VEVENT
BEGIN:VEVENT
DTSTART;TZID=Europe/Helsinki:20250918T140000
DTEND;TZID=Europe/Helsinki:20250918T160000
DTSTAMP:20260421T171250
CREATED:20250415T102003Z
LAST-MODIFIED:20250523T070820Z
UID:10023182-1758204000-1758211200@kalenteri.niemikoti.fi
SUMMARY:Kaupunkiviljely Malmilla
DESCRIPTION:Jo kolmatta kesää yhteistyössä Perho-liiketalousopiston Green City Farm -toiminnan kanssa: Keväästä syksyyn kestävää peltotoimintaa. Peltoryhmään osallistumalla näet kasvin koko kasvukaaren siemenestä sadonkorjuuseen.
URL:https://kalenteri.niemikoti.fi/tapahtuma/kaupunkiviljely-malmilla-6/2025-09-18/
LOCATION:Green City Farm c/o Perho Liiketalousopisto\, Vanha Helsingintie 13\, Helsinki\, 00700
CATEGORIES:Toimintakeskus Villa Borgis
END:VEVENT
BEGIN:VEVENT
DTSTART;TZID=Europe/Helsinki:20250911T140000
DTEND;TZID=Europe/Helsinki:20250911T160000
DTSTAMP:20260421T171250
CREATED:20250415T102003Z
LAST-MODIFIED:20250523T070820Z
UID:10023181-1757599200-1757606400@kalenteri.niemikoti.fi
SUMMARY:Kaupunkiviljely Malmilla
DESCRIPTION:Jo kolmatta kesää yhteistyössä Perho-liiketalousopiston Green City Farm -toiminnan kanssa: Keväästä syksyyn kestävää peltotoimintaa. Peltoryhmään osallistumalla näet kasvin koko kasvukaaren siemenestä sadonkorjuuseen.
URL:https://kalenteri.niemikoti.fi/tapahtuma/kaupunkiviljely-malmilla-6/2025-09-11/
LOCATION:Green City Farm c/o Perho Liiketalousopisto\, Vanha Helsingintie 13\, Helsinki\, 00700
CATEGORIES:Toimintakeskus Villa Borgis
END:VEVENT
BEGIN:VEVENT
DTSTART;TZID=Europe/Helsinki:20250904T140000
DTEND;TZID=Europe/Helsinki:20250904T160000
DTSTAMP:20260421T171250
CREATED:20250415T102003Z
LAST-MODIFIED:20250523T070820Z
UID:10023180-1756994400-1757001600@kalenteri.niemikoti.fi
SUMMARY:Kaupunkiviljely Malmilla
DESCRIPTION:Jo kolmatta kesää yhteistyössä Perho-liiketalousopiston Green City Farm -toiminnan kanssa: Keväästä syksyyn kestävää peltotoimintaa. Peltoryhmään osallistumalla näet kasvin koko kasvukaaren siemenestä sadonkorjuuseen.
URL:https://kalenteri.niemikoti.fi/tapahtuma/kaupunkiviljely-malmilla-6/2025-09-04/
LOCATION:Green City Farm c/o Perho Liiketalousopisto\, Vanha Helsingintie 13\, Helsinki\, 00700
CATEGORIES:Toimintakeskus Villa Borgis
END:VEVENT
BEGIN:VEVENT
DTSTART;TZID=Europe/Helsinki:20250828T140000
DTEND;TZID=Europe/Helsinki:20250828T160000
DTSTAMP:20260421T171250
CREATED:20250415T102003Z
LAST-MODIFIED:20250523T070820Z
UID:10023179-1756389600-1756396800@kalenteri.niemikoti.fi
SUMMARY:Kaupunkiviljely Malmilla
DESCRIPTION:Jo kolmatta kesää yhteistyössä Perho-liiketalousopiston Green City Farm -toiminnan kanssa: Keväästä syksyyn kestävää peltotoimintaa. Peltoryhmään osallistumalla näet kasvin koko kasvukaaren siemenestä sadonkorjuuseen.
URL:https://kalenteri.niemikoti.fi/tapahtuma/kaupunkiviljely-malmilla-6/2025-08-28/
LOCATION:Green City Farm c/o Perho Liiketalousopisto\, Vanha Helsingintie 13\, Helsinki\, 00700
CATEGORIES:Toimintakeskus Villa Borgis
END:VEVENT
BEGIN:VEVENT
DTSTART;TZID=Europe/Helsinki:20250826T130000
DTEND;TZID=Europe/Helsinki:20250826T150000
DTSTAMP:20260421T171250
CREATED:20250810T235536Z
LAST-MODIFIED:20250810T235536Z
UID:10024117-1756213200-1756220400@kalenteri.niemikoti.fi
SUMMARY:Kesähygge
DESCRIPTION:Rentoa yhdessäoloa jääteen äärellä sekä sirkustelua ja saippuakuplia Malmin kauniilla kesäpihalla. \nTäydentyvä ryhmä\, ilmoittaudu mukaan. \nEi ryhmää 5.8.
URL:https://kalenteri.niemikoti.fi/tapahtuma/kesahygge-2/2025-08-26/
LOCATION:Malmin päivätoimintakeskus\, Vanha Helsingintie 9\, Helsinki\, 00700\, Finland
CATEGORIES:Malmin päivätoimintakeskus
ATTACH;FMTTYPE=image/jpeg:https://kalenteri.niemikoti.fi/wp-content/uploads/2025/08/Kesahygge.jpg
END:VEVENT
BEGIN:VEVENT
DTSTART;TZID=Europe/Helsinki:20250821T140000
DTEND;TZID=Europe/Helsinki:20250821T160000
DTSTAMP:20260421T171250
CREATED:20250415T102003Z
LAST-MODIFIED:20250523T070820Z
UID:10023178-1755784800-1755792000@kalenteri.niemikoti.fi
SUMMARY:Kaupunkiviljely Malmilla
DESCRIPTION:Jo kolmatta kesää yhteistyössä Perho-liiketalousopiston Green City Farm -toiminnan kanssa: Keväästä syksyyn kestävää peltotoimintaa. Peltoryhmään osallistumalla näet kasvin koko kasvukaaren siemenestä sadonkorjuuseen.
URL:https://kalenteri.niemikoti.fi/tapahtuma/kaupunkiviljely-malmilla-6/2025-08-21/
LOCATION:Green City Farm c/o Perho Liiketalousopisto\, Vanha Helsingintie 13\, Helsinki\, 00700
CATEGORIES:Toimintakeskus Villa Borgis
END:VEVENT
BEGIN:VEVENT
DTSTART;TZID=Europe/Helsinki:20250819T130000
DTEND;TZID=Europe/Helsinki:20250819T150000
DTSTAMP:20260421T171250
CREATED:20250810T235536Z
LAST-MODIFIED:20250810T235536Z
UID:10024116-1755608400-1755615600@kalenteri.niemikoti.fi
SUMMARY:Kesähygge
DESCRIPTION:Rentoa yhdessäoloa jääteen äärellä sekä sirkustelua ja saippuakuplia Malmin kauniilla kesäpihalla. \nTäydentyvä ryhmä\, ilmoittaudu mukaan. \nEi ryhmää 5.8.
URL:https://kalenteri.niemikoti.fi/tapahtuma/kesahygge-2/2025-08-19/
LOCATION:Malmin päivätoimintakeskus\, Vanha Helsingintie 9\, Helsinki\, 00700\, Finland
CATEGORIES:Malmin päivätoimintakeskus
ATTACH;FMTTYPE=image/jpeg:https://kalenteri.niemikoti.fi/wp-content/uploads/2025/08/Kesahygge.jpg
END:VEVENT
BEGIN:VEVENT
DTSTART;TZID=Europe/Helsinki:20250814T140000
DTEND;TZID=Europe/Helsinki:20250814T160000
DTSTAMP:20260421T171250
CREATED:20250415T102003Z
LAST-MODIFIED:20250523T070820Z
UID:10023177-1755180000-1755187200@kalenteri.niemikoti.fi
SUMMARY:Kaupunkiviljely Malmilla
DESCRIPTION:Jo kolmatta kesää yhteistyössä Perho-liiketalousopiston Green City Farm -toiminnan kanssa: Keväästä syksyyn kestävää peltotoimintaa. Peltoryhmään osallistumalla näet kasvin koko kasvukaaren siemenestä sadonkorjuuseen.
URL:https://kalenteri.niemikoti.fi/tapahtuma/kaupunkiviljely-malmilla-6/2025-08-14/
LOCATION:Green City Farm c/o Perho Liiketalousopisto\, Vanha Helsingintie 13\, Helsinki\, 00700
CATEGORIES:Toimintakeskus Villa Borgis
END:VEVENT
BEGIN:VEVENT
DTSTART;TZID=Europe/Helsinki:20250812T130000
DTEND;TZID=Europe/Helsinki:20250812T150000
DTSTAMP:20260421T171250
CREATED:20250810T235536Z
LAST-MODIFIED:20250810T235536Z
UID:10024115-1755003600-1755010800@kalenteri.niemikoti.fi
SUMMARY:Kesähygge
DESCRIPTION:Rentoa yhdessäoloa jääteen äärellä sekä sirkustelua ja saippuakuplia Malmin kauniilla kesäpihalla. \nTäydentyvä ryhmä\, ilmoittaudu mukaan. \nEi ryhmää 5.8.
URL:https://kalenteri.niemikoti.fi/tapahtuma/kesahygge-2/2025-08-12/
LOCATION:Malmin päivätoimintakeskus\, Vanha Helsingintie 9\, Helsinki\, 00700\, Finland
CATEGORIES:Malmin päivätoimintakeskus
ATTACH;FMTTYPE=image/jpeg:https://kalenteri.niemikoti.fi/wp-content/uploads/2025/08/Kesahygge.jpg
END:VEVENT
BEGIN:VEVENT
DTSTART;TZID=Europe/Helsinki:20250807T140000
DTEND;TZID=Europe/Helsinki:20250807T160000
DTSTAMP:20260421T171250
CREATED:20250415T102003Z
LAST-MODIFIED:20250523T070820Z
UID:10023176-1754575200-1754582400@kalenteri.niemikoti.fi
SUMMARY:Kaupunkiviljely Malmilla
DESCRIPTION:Jo kolmatta kesää yhteistyössä Perho-liiketalousopiston Green City Farm -toiminnan kanssa: Keväästä syksyyn kestävää peltotoimintaa. Peltoryhmään osallistumalla näet kasvin koko kasvukaaren siemenestä sadonkorjuuseen.
URL:https://kalenteri.niemikoti.fi/tapahtuma/kaupunkiviljely-malmilla-6/2025-08-07/
LOCATION:Green City Farm c/o Perho Liiketalousopisto\, Vanha Helsingintie 13\, Helsinki\, 00700
CATEGORIES:Toimintakeskus Villa Borgis
END:VEVENT
BEGIN:VEVENT
DTSTART;TZID=Europe/Helsinki:20250717T140000
DTEND;TZID=Europe/Helsinki:20250717T160000
DTSTAMP:20260421T171250
CREATED:20250415T102003Z
LAST-MODIFIED:20250523T070820Z
UID:10023175-1752760800-1752768000@kalenteri.niemikoti.fi
SUMMARY:Kaupunkiviljely Malmilla
DESCRIPTION:Jo kolmatta kesää yhteistyössä Perho-liiketalousopiston Green City Farm -toiminnan kanssa: Keväästä syksyyn kestävää peltotoimintaa. Peltoryhmään osallistumalla näet kasvin koko kasvukaaren siemenestä sadonkorjuuseen.
URL:https://kalenteri.niemikoti.fi/tapahtuma/kaupunkiviljely-malmilla-6/2025-07-17/
LOCATION:Green City Farm c/o Perho Liiketalousopisto\, Vanha Helsingintie 13\, Helsinki\, 00700
CATEGORIES:Toimintakeskus Villa Borgis
END:VEVENT
BEGIN:VEVENT
DTSTART;TZID=Europe/Helsinki:20250626T140000
DTEND;TZID=Europe/Helsinki:20250626T160000
DTSTAMP:20260421T171250
CREATED:20250415T102003Z
LAST-MODIFIED:20250523T070820Z
UID:10022061-1750946400-1750953600@kalenteri.niemikoti.fi
SUMMARY:Kaupunkiviljely Malmilla
DESCRIPTION:Jo kolmatta kesää yhteistyössä Perho-liiketalousopiston Green City Farm -toiminnan kanssa: Keväästä syksyyn kestävää peltotoimintaa. Peltoryhmään osallistumalla näet kasvin koko kasvukaaren siemenestä sadonkorjuuseen.
URL:https://kalenteri.niemikoti.fi/tapahtuma/kaupunkiviljely-malmilla-6/2025-06-26/
LOCATION:Green City Farm c/o Perho Liiketalousopisto\, Vanha Helsingintie 13\, Helsinki\, 00700
CATEGORIES:Toimintakeskus Villa Borgis
END:VEVENT
BEGIN:VEVENT
DTSTART;TZID=Europe/Helsinki:20250624T130000
DTEND;TZID=Europe/Helsinki:20250624T150000
DTSTAMP:20260421T171250
CREATED:20250612T110318Z
LAST-MODIFIED:20250612T110318Z
UID:10023257-1750770000-1750777200@kalenteri.niemikoti.fi
SUMMARY:Kesähygge
DESCRIPTION:Rentoa yhdessäoloa jääteen äärellä sekä sirkustelua ja saippuakuplia Malmin kauniilla kesäpihalla. \nTäydentyvä ryhmä\, ilmoittaudu mukaan.
URL:https://kalenteri.niemikoti.fi/tapahtuma/kesahygge/2025-06-24/
LOCATION:Malmin päivätoimintakeskus\, Vanha Helsingintie 9\, Helsinki\, 00700\, Finland
CATEGORIES:Malmin päivätoimintakeskus
ATTACH;FMTTYPE=image/jpeg:https://kalenteri.niemikoti.fi/wp-content/uploads/2025/06/Kesahygge.jpg
END:VEVENT
BEGIN:VEVENT
DTSTART;TZID=Europe/Helsinki:20250623T123000
DTEND;TZID=Europe/Helsinki:20250623T150000
DTSTAMP:20260421T171250
CREATED:20250523T073507Z
LAST-MODIFIED:20250523T073507Z
UID:10023193-1750681800-1750690800@kalenteri.niemikoti.fi
SUMMARY:Retki Aurinkolahden rannalle
DESCRIPTION:Lähtö retkelle Villa Borgiksesta klo 12.30 julkista liikennettä käyttäen. Ota mukaasi juomapullo ja halutessasi pyyhe + uikkarit. Vietetään yhdessä rentoa iltapäivää rannalla rentoutuen ja pelaillen. Retkelä säävaraus. Ilmoittaudu.
URL:https://kalenteri.niemikoti.fi/tapahtuma/retki-aurinkolahden-rannalle/
LOCATION:Toimintakeskus Villa Borgis\, Linnavuorentie 13\, Helsinki\, 00950\, Finland
CATEGORIES:Toimintakeskus Villa Borgis
END:VEVENT
BEGIN:VEVENT
DTSTART;TZID=Europe/Helsinki:20250617T130000
DTEND;TZID=Europe/Helsinki:20250617T150000
DTSTAMP:20260421T171250
CREATED:20250612T110318Z
LAST-MODIFIED:20250612T110318Z
UID:10023256-1750165200-1750172400@kalenteri.niemikoti.fi
SUMMARY:Kesähygge
DESCRIPTION:Rentoa yhdessäoloa jääteen äärellä sekä sirkustelua ja saippuakuplia Malmin kauniilla kesäpihalla. \nTäydentyvä ryhmä\, ilmoittaudu mukaan.
URL:https://kalenteri.niemikoti.fi/tapahtuma/kesahygge/2025-06-17/
LOCATION:Malmin päivätoimintakeskus\, Vanha Helsingintie 9\, Helsinki\, 00700\, Finland
CATEGORIES:Malmin päivätoimintakeskus
ATTACH;FMTTYPE=image/jpeg:https://kalenteri.niemikoti.fi/wp-content/uploads/2025/06/Kesahygge.jpg
END:VEVENT
BEGIN:VEVENT
DTSTART;TZID=Europe/Helsinki:20250617T110000
DTEND;TZID=Europe/Helsinki:20250617T123000
DTSTAMP:20260421T171250
CREATED:20250527T073926Z
LAST-MODIFIED:20250527T073926Z
UID:10023206-1750158000-1750163400@kalenteri.niemikoti.fi
SUMMARY:Katutaidebongaus
DESCRIPTION:Lähdetään yhdessä bongailemaan katutaidetta lähiympäristöön rennolla meiningillä. Tiedossa ei ole valmista reittiä\, vaan edetään ryhmäläisten toiveiden ja tahdin mukaisesti. Yhteinen lähtö Valtti Valmennuksen tiloista (Kuortaneenkatu 1\, 4. krs). \nIlmoittauduthan ennakkoon 16.6. mennessä:\nvaltti@niemikoti.fi
URL:https://kalenteri.niemikoti.fi/tapahtuma/katutaidebongaus-5/
LOCATION:Valtti Valmennus\, Elimäenkatu 26\, Helsinki\, 00510\, Finland
CATEGORIES:Tapahtumat palvelunkäyttäjille,Valtti Valmennus
ATTACH;FMTTYPE=image/png:https://kalenteri.niemikoti.fi/wp-content/uploads/2025/05/Kappaleen-teksti-5.png
END:VEVENT
BEGIN:VEVENT
DTSTART;TZID=Europe/Helsinki:20250612T140000
DTEND;TZID=Europe/Helsinki:20250612T160000
DTSTAMP:20260421T171250
CREATED:20250415T102003Z
LAST-MODIFIED:20250523T070820Z
UID:10022059-1749736800-1749744000@kalenteri.niemikoti.fi
SUMMARY:Kaupunkiviljely Malmilla
DESCRIPTION:Jo kolmatta kesää yhteistyössä Perho-liiketalousopiston Green City Farm -toiminnan kanssa: Keväästä syksyyn kestävää peltotoimintaa. Peltoryhmään osallistumalla näet kasvin koko kasvukaaren siemenestä sadonkorjuuseen.
URL:https://kalenteri.niemikoti.fi/tapahtuma/kaupunkiviljely-malmilla-6/2025-06-12/
LOCATION:Green City Farm c/o Perho Liiketalousopisto\, Vanha Helsingintie 13\, Helsinki\, 00700
CATEGORIES:Toimintakeskus Villa Borgis
END:VEVENT
BEGIN:VEVENT
DTSTART;TZID=Europe/Helsinki:20250610T130000
DTEND;TZID=Europe/Helsinki:20250610T150000
DTSTAMP:20260421T171250
CREATED:20250612T110318Z
LAST-MODIFIED:20250612T110318Z
UID:10023255-1749560400-1749567600@kalenteri.niemikoti.fi
SUMMARY:Kesähygge
DESCRIPTION:Rentoa yhdessäoloa jääteen äärellä sekä sirkustelua ja saippuakuplia Malmin kauniilla kesäpihalla. \nTäydentyvä ryhmä\, ilmoittaudu mukaan.
URL:https://kalenteri.niemikoti.fi/tapahtuma/kesahygge/2025-06-10/
LOCATION:Malmin päivätoimintakeskus\, Vanha Helsingintie 9\, Helsinki\, 00700\, Finland
CATEGORIES:Malmin päivätoimintakeskus
ATTACH;FMTTYPE=image/jpeg:https://kalenteri.niemikoti.fi/wp-content/uploads/2025/06/Kesahygge.jpg
END:VEVENT
BEGIN:VEVENT
DTSTART;TZID=Europe/Helsinki:20250605T140000
DTEND;TZID=Europe/Helsinki:20250605T160000
DTSTAMP:20260421T171250
CREATED:20250415T102003Z
LAST-MODIFIED:20250523T070820Z
UID:10022058-1749132000-1749139200@kalenteri.niemikoti.fi
SUMMARY:Kaupunkiviljely Malmilla
DESCRIPTION:Jo kolmatta kesää yhteistyössä Perho-liiketalousopiston Green City Farm -toiminnan kanssa: Keväästä syksyyn kestävää peltotoimintaa. Peltoryhmään osallistumalla näet kasvin koko kasvukaaren siemenestä sadonkorjuuseen.
URL:https://kalenteri.niemikoti.fi/tapahtuma/kaupunkiviljely-malmilla-6/2025-06-05/
LOCATION:Green City Farm c/o Perho Liiketalousopisto\, Vanha Helsingintie 13\, Helsinki\, 00700
CATEGORIES:Toimintakeskus Villa Borgis
END:VEVENT
END:VCALENDAR