BEGIN:VCALENDAR
VERSION:2.0
PRODID:-//Tapahtumakalenteri - ECPv6.15.18//NONSGML v1.0//EN
CALSCALE:GREGORIAN
METHOD:PUBLISH
X-WR-CALNAME:Tapahtumakalenteri
X-ORIGINAL-URL:https://kalenteri.niemikoti.fi
X-WR-CALDESC:Tapahtumat Tapahtumakalenteri
REFRESH-INTERVAL;VALUE=DURATION:PT1H
X-Robots-Tag:noindex
X-PUBLISHED-TTL:PT1H
BEGIN:VTIMEZONE
TZID:Europe/Helsinki
BEGIN:DAYLIGHT
TZOFFSETFROM:+0200
TZOFFSETTO:+0300
TZNAME:EEST
DTSTART:20250330T010000
END:DAYLIGHT
BEGIN:STANDARD
TZOFFSETFROM:+0300
TZOFFSETTO:+0200
TZNAME:EET
DTSTART:20251026T010000
END:STANDARD
BEGIN:DAYLIGHT
TZOFFSETFROM:+0200
TZOFFSETTO:+0300
TZNAME:EEST
DTSTART:20260329T010000
END:DAYLIGHT
BEGIN:STANDARD
TZOFFSETFROM:+0300
TZOFFSETTO:+0200
TZNAME:EET
DTSTART:20261025T010000
END:STANDARD
BEGIN:DAYLIGHT
TZOFFSETFROM:+0200
TZOFFSETTO:+0300
TZNAME:EEST
DTSTART:20270328T010000
END:DAYLIGHT
BEGIN:STANDARD
TZOFFSETFROM:+0300
TZOFFSETTO:+0200
TZNAME:EET
DTSTART:20271031T010000
END:STANDARD
END:VTIMEZONE
BEGIN:VEVENT
DTSTART;TZID=Europe/Helsinki:20260126T090000
DTEND;TZID=Europe/Helsinki:20260126T094500
DTSTAMP:20260423T110909
CREATED:20250820T065259Z
LAST-MODIFIED:20260331T081723Z
UID:10025683-1769418000-1769420700@kalenteri.niemikoti.fi
SUMMARY:Yhteisön aamiainen
DESCRIPTION:Aamiainen yhteisöpäivän kävijöille. Sisältää puuron\, talon omenahilloa\, leipää\, leivänpäällisiä\, jugurttia\, hedelmiä\, kahvia\, teetä ja mehua. Hinta aamiaiselle 3 e\, sisältää myös iltapäiväkahvin.
URL:https://kalenteri.niemikoti.fi/tapahtuma/yhteison-aamiainen-3/2026-01-26/
LOCATION:Toimintakeskus Villa Borgis\, Linnavuorentie 13\, Helsinki\, 00950\, Finland
CATEGORIES:Toimintakeskus Villa Borgis
END:VEVENT
BEGIN:VEVENT
DTSTART;TZID=Europe/Helsinki:20260126T100000
DTEND;TZID=Europe/Helsinki:20260126T103000
DTSTAMP:20260423T110909
CREATED:20250818T063824Z
LAST-MODIFIED:20260331T081921Z
UID:10025900-1769421600-1769423400@kalenteri.niemikoti.fi
SUMMARY:Yhteisöpäivän aamukokous
DESCRIPTION:Yhteisöpäivän aamukokouksessa tutustutaan päivän ohjelmaan ja tuleviin tapahtumiin sekä käydään kuulumiskierros.
URL:https://kalenteri.niemikoti.fi/tapahtuma/yhteisopaivan-aamukokous-6/2026-01-26/
LOCATION:Toimintakeskus Villa Borgis\, Linnavuorentie 13\, Helsinki\, 00950\, Finland
CATEGORIES:Toimintakeskus Villa Borgis
END:VEVENT
BEGIN:VEVENT
DTSTART;TZID=Europe/Helsinki:20260126T100000
DTEND;TZID=Europe/Helsinki:20260126T103000
DTSTAMP:20260423T110909
CREATED:20260112T105633Z
LAST-MODIFIED:20260303T072458Z
UID:10028651-1769421600-1769423400@kalenteri.niemikoti.fi
SUMMARY:Aamukokous Malmilla
DESCRIPTION:Kokoonnutaan yhteen vaihtamaan kuulumisia ja keskustellaan päivän ohjelmasta.
URL:https://kalenteri.niemikoti.fi/tapahtuma/aamukokous-malmilla/2026-01-26/
LOCATION:Malmin päivätoimintakeskus\, Vanha Helsingintie 9\, Helsinki\, 00700\, Finland
CATEGORIES:Malmin päivätoimintakeskus
END:VEVENT
BEGIN:VEVENT
DTSTART;TZID=Europe/Helsinki:20260126T103000
DTEND;TZID=Europe/Helsinki:20260126T110000
DTSTAMP:20260423T110909
CREATED:20260112T111935Z
LAST-MODIFIED:20260410T061604Z
UID:10030977-1769423400-1769425200@kalenteri.niemikoti.fi
SUMMARY:Talon töitä Malmilla
DESCRIPTION:Pidetään yhdessä huolta yhteisistä tiloista ja tiluksista. Osallistua voi omien voimavarojen mukaan.
URL:https://kalenteri.niemikoti.fi/tapahtuma/talon-toita-7/2026-01-26/
LOCATION:Malmin päivätoimintakeskus\, Vanha Helsingintie 9\, Helsinki\, 00700\, Finland
CATEGORIES:Malmin päivätoimintakeskus
END:VEVENT
BEGIN:VEVENT
DTSTART;TZID=Europe/Helsinki:20260126T103000
DTEND;TZID=Europe/Helsinki:20260126T120000
DTSTAMP:20260423T110909
CREATED:20240814T064605Z
LAST-MODIFIED:20260331T080702Z
UID:10025408-1769423400-1769428800@kalenteri.niemikoti.fi
SUMMARY:Talon töitä
DESCRIPTION:Yhteisön yhteisiä talon töitä; siivousta\, pihatöitä\, keittiötöitä\, sisustusta yms.
URL:https://kalenteri.niemikoti.fi/tapahtuma/talon-toita-3/2026-01-26/
LOCATION:Toimintakeskus Villa Borgis\, Linnavuorentie 13\, Helsinki\, 00950\, Finland
CATEGORIES:Toimintakeskus Villa Borgis
END:VEVENT
BEGIN:VEVENT
DTSTART;TZID=Europe/Helsinki:20260126T120000
DTEND;TZID=Europe/Helsinki:20260126T130000
DTSTAMP:20260423T110909
CREATED:20250820T065924Z
LAST-MODIFIED:20260331T080813Z
UID:10025428-1769428800-1769432400@kalenteri.niemikoti.fi
SUMMARY:Yhteisön lounas
DESCRIPTION:Lounas yhteisöpäivän kävijöille. Lounaaseen sisältyy ravitsevaa arkiruokaa ja välillä lisäksi salaattia. Lounaan hinta 3 e\, sisältää iltapäiväkahvin.
URL:https://kalenteri.niemikoti.fi/tapahtuma/yhteison-luonas/2026-01-26/
LOCATION:Toimintakeskus Villa Borgis\, Linnavuorentie 13\, Helsinki\, 00950\, Finland
CATEGORIES:Toimintakeskus Villa Borgis
END:VEVENT
END:VCALENDAR