BEGIN:VCALENDAR
VERSION:2.0
PRODID:-//Tapahtumakalenteri - ECPv6.15.18//NONSGML v1.0//EN
CALSCALE:GREGORIAN
METHOD:PUBLISH
X-WR-CALNAME:Tapahtumakalenteri
X-ORIGINAL-URL:https://kalenteri.niemikoti.fi
X-WR-CALDESC:Tapahtumat Tapahtumakalenteri
REFRESH-INTERVAL;VALUE=DURATION:PT1H
X-Robots-Tag:noindex
X-PUBLISHED-TTL:PT1H
BEGIN:VTIMEZONE
TZID:Europe/Helsinki
BEGIN:DAYLIGHT
TZOFFSETFROM:+0200
TZOFFSETTO:+0300
TZNAME:EEST
DTSTART:20230326T010000
END:DAYLIGHT
BEGIN:STANDARD
TZOFFSETFROM:+0300
TZOFFSETTO:+0200
TZNAME:EET
DTSTART:20231029T010000
END:STANDARD
BEGIN:DAYLIGHT
TZOFFSETFROM:+0200
TZOFFSETTO:+0300
TZNAME:EEST
DTSTART:20240331T010000
END:DAYLIGHT
BEGIN:STANDARD
TZOFFSETFROM:+0300
TZOFFSETTO:+0200
TZNAME:EET
DTSTART:20241027T010000
END:STANDARD
BEGIN:DAYLIGHT
TZOFFSETFROM:+0200
TZOFFSETTO:+0300
TZNAME:EEST
DTSTART:20250330T010000
END:DAYLIGHT
BEGIN:STANDARD
TZOFFSETFROM:+0300
TZOFFSETTO:+0200
TZNAME:EET
DTSTART:20251026T010000
END:STANDARD
END:VTIMEZONE
BEGIN:VEVENT
DTSTART;TZID=Europe/Helsinki:20240520T090000
DTEND;TZID=Europe/Helsinki:20240520T094500
DTSTAMP:20260422T080652
CREATED:20230531T083840Z
LAST-MODIFIED:20240205T125147Z
UID:10003893-1716195600-1716198300@kalenteri.niemikoti.fi
SUMMARY:Yhteisöpäivän aamiainen
DESCRIPTION:Aamupala yhteisöpäivään osallistuville (maksullinen).
URL:https://kalenteri.niemikoti.fi/tapahtuma/yhteisopaivan-aamiainen-2/2024-05-20/
LOCATION:Toimintakeskus Villa Borgis\, Linnavuorentie 13\, Helsinki\, 00950\, Finland
CATEGORIES:Toimintakeskus Villa Borgis
END:VEVENT
BEGIN:VEVENT
DTSTART;TZID=Europe/Helsinki:20240520T090000
DTEND;TZID=Europe/Helsinki:20240520T130000
DTSTAMP:20260422T080652
CREATED:20230815T052225Z
LAST-MODIFIED:20240109T140543Z
UID:10004729-1716195600-1716210000@kalenteri.niemikoti.fi
SUMMARY:Yhteisöpäivä Malmilla klo 9-13
DESCRIPTION:Yhteisöpäivä\, Malmin päivätoimintakeskus auki klo 9-13. Ilmoittaudu mukaan!
URL:https://kalenteri.niemikoti.fi/tapahtuma/yhteisopaiva-malmilla-klo-9-13/2024-05-20/
LOCATION:Malmin päivätoimintakeskus\, Vanha Helsingintie 9\, Helsinki\, 00700\, Finland
CATEGORIES:Malmin päivätoimintakeskus
END:VEVENT
BEGIN:VEVENT
DTSTART;TZID=Europe/Helsinki:20240520T100000
DTEND;TZID=Europe/Helsinki:20240520T103000
DTSTAMP:20260422T080652
CREATED:20230531T081915Z
LAST-MODIFIED:20240205T125027Z
UID:10004018-1716199200-1716201000@kalenteri.niemikoti.fi
SUMMARY:Yhteisöpäivän aamukokous
DESCRIPTION:Yhteisöpäivän aamukokouksessa käydään läpi päivän ohjelmaa\, tapahtumia\, yhteisötehtäviä ja muita ajankohtaisia asioita.
URL:https://kalenteri.niemikoti.fi/tapahtuma/yhteisopaivan-aamukokous/2024-05-20/
LOCATION:Toimintakeskus Villa Borgis\, Linnavuorentie 13\, Helsinki\, 00950\, Finland
CATEGORIES:Toimintakeskus Villa Borgis
END:VEVENT
BEGIN:VEVENT
DTSTART;TZID=Europe/Helsinki:20240520T100000
DTEND;TZID=Europe/Helsinki:20240520T103000
DTSTAMP:20260422T080652
CREATED:20230815T052928Z
LAST-MODIFIED:20240109T140543Z
UID:10004703-1716199200-1716201000@kalenteri.niemikoti.fi
SUMMARY:Yhteisöpäivän aamukokous Malmilla
DESCRIPTION:Yhteisöpäivän aamukokouksessa käydään läpi päivän ohjelma\, tulevat tapahtumat ja kuulumiskierros.
URL:https://kalenteri.niemikoti.fi/tapahtuma/yhteisopaivan-aamukokous-malmilla/2024-05-20/
LOCATION:Malmin päivätoimintakeskus\, Vanha Helsingintie 9\, Helsinki\, 00700\, Finland
CATEGORIES:Malmin päivätoimintakeskus
END:VEVENT
BEGIN:VEVENT
DTSTART;TZID=Europe/Helsinki:20240520T103000
DTEND;TZID=Europe/Helsinki:20240520T120000
DTSTAMP:20260422T080652
CREATED:20230531T084700Z
LAST-MODIFIED:20240205T125100Z
UID:10004047-1716201000-1716206400@kalenteri.niemikoti.fi
SUMMARY:Talon töitä
DESCRIPTION:Yhteisöpäivän tehtäviä\, esim. piha-/puutarhatyöt\, sisustus\, siivous\, yhteisökokous.
URL:https://kalenteri.niemikoti.fi/tapahtuma/talon-toita/2024-05-20/
LOCATION:Toimintakeskus Villa Borgis\, Linnavuorentie 13\, Helsinki\, 00950\, Finland
CATEGORIES:Toimintakeskus Villa Borgis
END:VEVENT
BEGIN:VEVENT
DTSTART;TZID=Europe/Helsinki:20240520T120000
DTEND;TZID=Europe/Helsinki:20240520T123000
DTSTAMP:20260422T080652
CREATED:20230531T112750Z
LAST-MODIFIED:20250321T104552Z
UID:10004072-1716206400-1716208200@kalenteri.niemikoti.fi
SUMMARY:Yhteisöpäivän lounas
DESCRIPTION:Lounas yhteisöpäivään osallistuville\, maksullinen.
URL:https://kalenteri.niemikoti.fi/tapahtuma/yhteisopaivan-lounas/2024-05-20/
LOCATION:Toimintakeskus Villa Borgis\, Linnavuorentie 13\, Helsinki\, 00950\, Finland
CATEGORIES:Toimintakeskus Villa Borgis
END:VEVENT
BEGIN:VEVENT
DTSTART;TZID=Europe/Helsinki:20240520T120000
DTEND;TZID=Europe/Helsinki:20240520T150000
DTSTAMP:20260422T080652
CREATED:20240404T121828Z
LAST-MODIFIED:20240409T042343Z
UID:10010255-1716206400-1716217200@kalenteri.niemikoti.fi
SUMMARY:Kässäkerho
DESCRIPTION:Löytyykö kaapistasi keskeneräinen kudin\, ompelus\, kirjontatyö tai mikä tahansa muu käsityö? Maanantaisin ompelimoon kokoontuu kässäkerho\, missä esimerkiksi näitä keskeneräisiä töitä voi tehdä valmiiksi. Ohjaajat ovat apuna tarpeen tullen. Ei ennakkoilmoittautumista!
URL:https://kalenteri.niemikoti.fi/tapahtuma/kassakerho/2024-05-20/
LOCATION:Ompelimo & Olohuone\, Kalevankatu 30\, Helsinki\, 00100\, Finland
CATEGORIES:Ompelimo & Olohuone
ATTACH;FMTTYPE=image/jpeg:https://kalenteri.niemikoti.fi/wp-content/uploads/2024/04/DSCN8419-scaled.jpg
END:VEVENT
BEGIN:VEVENT
DTSTART;TZID=Europe/Helsinki:20240520T130000
DTEND;TZID=Europe/Helsinki:20240520T140000
DTSTAMP:20260422T080652
CREATED:20230822T084516Z
LAST-MODIFIED:20250520T082214Z
UID:10001998-1716210000-1716213600@kalenteri.niemikoti.fi
SUMMARY:Mahdollisuuksien maanantai
DESCRIPTION:Yhteisön ohjelmaa (toiveryhmiä ja vaihtuvia teemoja)
URL:https://kalenteri.niemikoti.fi/tapahtuma/mahdollisuuksien-maanantai-2/2024-05-20/
LOCATION:Toimintakeskus Villa Borgis\, Linnavuorentie 13\, Helsinki\, 00950\, Finland
CATEGORIES:Toimintakeskus Villa Borgis
END:VEVENT
BEGIN:VEVENT
DTSTART;TZID=Europe/Helsinki:20240520T140000
DTEND;TZID=Europe/Helsinki:20240520T143000
DTSTAMP:20260422T080652
CREATED:20230607T051246Z
LAST-MODIFIED:20250107T131756Z
UID:10013976-1716213600-1716215400@kalenteri.niemikoti.fi
SUMMARY:Yhteisöpäivän päiväkahvit
DESCRIPTION:Päiväkahvit kuuluvat aamiaisen ja/tai lounaan hintaan\, muuten 1 €.
URL:https://kalenteri.niemikoti.fi/tapahtuma/yhteisopaivan-paivakahvit/2024-05-20/
LOCATION:Toimintakeskus Villa Borgis\, Linnavuorentie 13\, Helsinki\, 00950\, Finland
CATEGORIES:Toimintakeskus Villa Borgis
END:VEVENT
BEGIN:VEVENT
DTSTART;TZID=Europe/Helsinki:20240521T090000
DTEND;TZID=Europe/Helsinki:20240521T094500
DTSTAMP:20260422T080652
CREATED:20230531T083840Z
LAST-MODIFIED:20240205T125147Z
UID:10003894-1716282000-1716284700@kalenteri.niemikoti.fi
SUMMARY:Yhteisöpäivän aamiainen
DESCRIPTION:Aamupala yhteisöpäivään osallistuville (maksullinen).
URL:https://kalenteri.niemikoti.fi/tapahtuma/yhteisopaivan-aamiainen-2/2024-05-21/
LOCATION:Toimintakeskus Villa Borgis\, Linnavuorentie 13\, Helsinki\, 00950\, Finland
CATEGORIES:Toimintakeskus Villa Borgis
END:VEVENT
BEGIN:VEVENT
DTSTART;TZID=Europe/Helsinki:20240521T090000
DTEND;TZID=Europe/Helsinki:20240521T130000
DTSTAMP:20260422T080652
CREATED:20230821T054354Z
LAST-MODIFIED:20240528T091101Z
UID:10004651-1716282000-1716296400@kalenteri.niemikoti.fi
SUMMARY:Yhteisöpäivä Malmilla klo 9-13
DESCRIPTION:Yhteisöpäivä\, Malmin päivätoimintakeskus auki klo 9-13. Ilmoittaudu mukaan!
URL:https://kalenteri.niemikoti.fi/tapahtuma/yhteisopaiva-malmilla-klo-9-13-3/2024-05-21/
LOCATION:Malmin päivätoimintakeskus\, Vanha Helsingintie 9\, Helsinki\, 00700\, Finland
CATEGORIES:Malmin päivätoimintakeskus
END:VEVENT
BEGIN:VEVENT
DTSTART;TZID=Europe/Helsinki:20240521T100000
DTEND;TZID=Europe/Helsinki:20240521T103000
DTSTAMP:20260422T080652
CREATED:20230531T081915Z
LAST-MODIFIED:20240205T125027Z
UID:10004019-1716285600-1716287400@kalenteri.niemikoti.fi
SUMMARY:Yhteisöpäivän aamukokous
DESCRIPTION:Yhteisöpäivän aamukokouksessa käydään läpi päivän ohjelmaa\, tapahtumia\, yhteisötehtäviä ja muita ajankohtaisia asioita.
URL:https://kalenteri.niemikoti.fi/tapahtuma/yhteisopaivan-aamukokous/2024-05-21/
LOCATION:Toimintakeskus Villa Borgis\, Linnavuorentie 13\, Helsinki\, 00950\, Finland
CATEGORIES:Toimintakeskus Villa Borgis
END:VEVENT
BEGIN:VEVENT
DTSTART;TZID=Europe/Helsinki:20240521T100000
DTEND;TZID=Europe/Helsinki:20240521T103000
DTSTAMP:20260422T080652
CREATED:20230821T054731Z
LAST-MODIFIED:20240528T091332Z
UID:10004625-1716285600-1716287400@kalenteri.niemikoti.fi
SUMMARY:Yhteisöpäivän aamukokous Malmilla
DESCRIPTION:Yhteisöpäivän aamukokouksessa käydään läpi päivän ohjelma\, tulevat tapahtumat ja kuulumiskierros.
URL:https://kalenteri.niemikoti.fi/tapahtuma/yhteisopaivan-aamukokous-malmilla-2/2024-05-21/
LOCATION:Malmin päivätoimintakeskus\, Vanha Helsingintie 9\, Helsinki\, 00700\, Finland
CATEGORIES:Malmin päivätoimintakeskus
END:VEVENT
BEGIN:VEVENT
DTSTART;TZID=Europe/Helsinki:20240521T103000
DTEND;TZID=Europe/Helsinki:20240521T111500
DTSTAMP:20260422T080652
CREATED:20230821T055336Z
LAST-MODIFIED:20240528T091429Z
UID:10004599-1716287400-1716290100@kalenteri.niemikoti.fi
SUMMARY:Luonto & liikunta -kävelyryhmä Malmilla
DESCRIPTION:Päätetään yhdessä päivän kävelyreitti ja kävelläänkö reippaasti vai rauhallisesti. Uusille on tilaa\, ilmoittaudu mukaan!
URL:https://kalenteri.niemikoti.fi/tapahtuma/luonto-liikunta-kavelyryhma-malmilla/2024-05-21/
LOCATION:Malmin päivätoimintakeskus\, Vanha Helsingintie 9\, Helsinki\, 00700\, Finland
CATEGORIES:Malmin päivätoimintakeskus
END:VEVENT
BEGIN:VEVENT
DTSTART;TZID=Europe/Helsinki:20240521T103000
DTEND;TZID=Europe/Helsinki:20240521T120000
DTSTAMP:20260422T080652
CREATED:20230531T124423Z
LAST-MODIFIED:20240123T084001Z
UID:10005076-1716287400-1716292800@kalenteri.niemikoti.fi
SUMMARY:Borgiksen Picassot
DESCRIPTION:Kuvataideryhmä\, ilmoittaudu.
URL:https://kalenteri.niemikoti.fi/tapahtuma/borgiksen-picassot/2024-05-21/
LOCATION:Toimintakeskus Villa Borgis\, Linnavuorentie 13\, Helsinki\, 00950\, Finland
CATEGORIES:Toimintakeskus Villa Borgis
END:VEVENT
BEGIN:VEVENT
DTSTART;TZID=Europe/Helsinki:20240521T120000
DTEND;TZID=Europe/Helsinki:20240521T160000
DTSTAMP:20260422T080652
CREATED:20240513T054818Z
LAST-MODIFIED:20240513T054818Z
UID:10011701-1716292800-1716307200@kalenteri.niemikoti.fi
SUMMARY:Kevättalkoot
DESCRIPTION:Tule mukaan tekemään leppoisia pihatöitä yhdessä. Talkoolaisille tarjolla grillimakkarat ja pullakahvit. Ilmoittaudu 17.5. mennessä.
URL:https://kalenteri.niemikoti.fi/tapahtuma/kevattalkoot/
LOCATION:Toimintakeskus Villa Borgis\, Linnavuorentie 13\, Helsinki\, 00950\, Finland
CATEGORIES:Toimintakeskus Villa Borgis
ATTACH;FMTTYPE=image/jpeg:https://kalenteri.niemikoti.fi/wp-content/uploads/2024/05/Villa-Borgiksen-kevat-talkoot.jpg
END:VEVENT
BEGIN:VEVENT
DTSTART;TZID=Europe/Helsinki:20240521T123000
DTEND;TZID=Europe/Helsinki:20240521T131500
DTSTAMP:20260422T080652
CREATED:20240129T121244Z
LAST-MODIFIED:20240912T102135Z
UID:10005190-1716294600-1716297300@kalenteri.niemikoti.fi
SUMMARY:Soittoryhmä Malmilla
DESCRIPTION:Tutustutaan yhdessä pianon\, kitaran ja ukulelen soiton alkeisiin ja soitetaan yhdessä helppoja kappaleita. Max. 8 osallistujaa\, ilmoittaudu mukaan!
URL:https://kalenteri.niemikoti.fi/tapahtuma/soittoryhma/2024-05-21/
LOCATION:Malmin päivätoimintakeskus\, Vanha Helsingintie 9\, Helsinki\, 00700\, Finland
CATEGORIES:Malmin päivätoimintakeskus
END:VEVENT
BEGIN:VEVENT
DTSTART;TZID=Europe/Helsinki:20240521T130000
DTEND;TZID=Europe/Helsinki:20240521T150000
DTSTAMP:20260422T080652
CREATED:20231016T065556Z
LAST-MODIFIED:20240912T102328Z
UID:10005919-1716296400-1716303600@kalenteri.niemikoti.fi
SUMMARY:Jälleenvuokrauksen bändi Malmilla
DESCRIPTION:Bändissä on vakiintunut kokoonpano. Lisätietoja bändistä voi kysyä ohjaajilta.
URL:https://kalenteri.niemikoti.fi/tapahtuma/jalleenvuokrauksen-bandi/2024-05-21/
LOCATION:Malmin päivätoimintakeskus\, Vanha Helsingintie 9\, Helsinki\, 00700\, Finland
CATEGORIES:Malmin päivätoimintakeskus
END:VEVENT
BEGIN:VEVENT
DTSTART;TZID=Europe/Helsinki:20240521T140000
DTEND;TZID=Europe/Helsinki:20240521T143000
DTSTAMP:20260422T080652
CREATED:20230607T051246Z
LAST-MODIFIED:20250107T131756Z
UID:10013977-1716300000-1716301800@kalenteri.niemikoti.fi
SUMMARY:Yhteisöpäivän päiväkahvit
DESCRIPTION:Päiväkahvit kuuluvat aamiaisen ja/tai lounaan hintaan\, muuten 1 €.
URL:https://kalenteri.niemikoti.fi/tapahtuma/yhteisopaivan-paivakahvit/2024-05-21/
LOCATION:Toimintakeskus Villa Borgis\, Linnavuorentie 13\, Helsinki\, 00950\, Finland
CATEGORIES:Toimintakeskus Villa Borgis
END:VEVENT
BEGIN:VEVENT
DTSTART;TZID=Europe/Helsinki:20240521T153000
DTEND;TZID=Europe/Helsinki:20240521T170000
DTSTAMP:20260422T080652
CREATED:20231016T065925Z
LAST-MODIFIED:20240912T102346Z
UID:10005956-1716305400-1716310800@kalenteri.niemikoti.fi
SUMMARY:Malmin bändi
DESCRIPTION:Bändissä on vakiintunut kokoonpano. Lisätietoja Malmin bändistä voi kysyä ohjaaja Tapio Kojolta.
URL:https://kalenteri.niemikoti.fi/tapahtuma/malmin-bandi/2024-05-21/
LOCATION:Malmin päivätoimintakeskus\, Vanha Helsingintie 9\, Helsinki\, 00700\, Finland
CATEGORIES:Malmin päivätoimintakeskus
END:VEVENT
BEGIN:VEVENT
DTSTART;TZID=Europe/Helsinki:20240522T090000
DTEND;TZID=Europe/Helsinki:20240522T094500
DTSTAMP:20260422T080652
CREATED:20230531T083840Z
LAST-MODIFIED:20240205T125147Z
UID:10003895-1716368400-1716371100@kalenteri.niemikoti.fi
SUMMARY:Yhteisöpäivän aamiainen
DESCRIPTION:Aamupala yhteisöpäivään osallistuville (maksullinen).
URL:https://kalenteri.niemikoti.fi/tapahtuma/yhteisopaivan-aamiainen-2/2024-05-22/
LOCATION:Toimintakeskus Villa Borgis\, Linnavuorentie 13\, Helsinki\, 00950\, Finland
CATEGORIES:Toimintakeskus Villa Borgis
END:VEVENT
BEGIN:VEVENT
DTSTART;TZID=Europe/Helsinki:20240522T090000
DTEND;TZID=Europe/Helsinki:20240522T130000
DTSTAMP:20260422T080652
CREATED:20230822T114010Z
LAST-MODIFIED:20240528T090051Z
UID:10004417-1716368400-1716382800@kalenteri.niemikoti.fi
SUMMARY:Yhteisöpäivä Malmilla klo 9-13
DESCRIPTION:Yhteisöpäivä\, Malmin päivätoimintakeskus auki klo 9-13. Ilmoittaudu mukaan!
URL:https://kalenteri.niemikoti.fi/tapahtuma/yhteisopaiva-malmilla-klo-9-13-4/2024-05-22/
LOCATION:Malmin päivätoimintakeskus\, Vanha Helsingintie 9\, Helsinki\, 00700\, Finland
CATEGORIES:Malmin päivätoimintakeskus
END:VEVENT
BEGIN:VEVENT
DTSTART;TZID=Europe/Helsinki:20240522T100000
DTEND;TZID=Europe/Helsinki:20240522T103000
DTSTAMP:20260422T080652
CREATED:20230531T081915Z
LAST-MODIFIED:20240205T125027Z
UID:10004020-1716372000-1716373800@kalenteri.niemikoti.fi
SUMMARY:Yhteisöpäivän aamukokous
DESCRIPTION:Yhteisöpäivän aamukokouksessa käydään läpi päivän ohjelmaa\, tapahtumia\, yhteisötehtäviä ja muita ajankohtaisia asioita.
URL:https://kalenteri.niemikoti.fi/tapahtuma/yhteisopaivan-aamukokous/2024-05-22/
LOCATION:Toimintakeskus Villa Borgis\, Linnavuorentie 13\, Helsinki\, 00950\, Finland
CATEGORIES:Toimintakeskus Villa Borgis
END:VEVENT
BEGIN:VEVENT
DTSTART;TZID=Europe/Helsinki:20240522T100000
DTEND;TZID=Europe/Helsinki:20240522T103000
DTSTAMP:20260422T080652
CREATED:20230822T114233Z
LAST-MODIFIED:20240528T091641Z
UID:10004443-1716372000-1716373800@kalenteri.niemikoti.fi
SUMMARY:Yhteisöpäivän aamukokous Malmilla
DESCRIPTION:Yhteisöpäivän aamukokouksessa käydään läpi päivän ohjelma\, tulevat tapahtumat ja kuulumiskierros.
URL:https://kalenteri.niemikoti.fi/tapahtuma/yhteisopaivan-aamukokous-malmilla-3/2024-05-22/
LOCATION:Malmin päivätoimintakeskus\, Vanha Helsingintie 9\, Helsinki\, 00700\, Finland
CATEGORIES:Malmin päivätoimintakeskus
END:VEVENT
BEGIN:VEVENT
DTSTART;TZID=Europe/Helsinki:20240522T103000
DTEND;TZID=Europe/Helsinki:20240522T111500
DTSTAMP:20260422T080652
CREATED:20240430T112001Z
LAST-MODIFIED:20240528T091730Z
UID:10010912-1716373800-1716376500@kalenteri.niemikoti.fi
SUMMARY:Piha & pelit Malmilla
DESCRIPTION:Laitetaan Malmin piha kesäkuntoon ja pelataan pihapelejä mukavassa seurassa. \nHuom! Talkoot 22.5. klo 10-12.
URL:https://kalenteri.niemikoti.fi/tapahtuma/piha-pelit-malmilla/2024-05-22/
LOCATION:Malmin päivätoimintakeskus\, Vanha Helsingintie 9\, Helsinki\, 00700\, Finland
CATEGORIES:Malmin päivätoimintakeskus
END:VEVENT
BEGIN:VEVENT
DTSTART;TZID=Europe/Helsinki:20240522T103000
DTEND;TZID=Europe/Helsinki:20240522T120000
DTSTAMP:20260422T080652
CREATED:20240123T133829Z
LAST-MODIFIED:20240123T133829Z
UID:10005098-1716373800-1716379200@kalenteri.niemikoti.fi
SUMMARY:Soppakokit
DESCRIPTION:Tehdään yhdessä makoisaa kasviskeittoa. Osallistujille keiton hinta 2 €.
URL:https://kalenteri.niemikoti.fi/tapahtuma/soppakokit-4/2024-05-22/
LOCATION:Toimintakeskus Villa Borgis\, Linnavuorentie 13\, Helsinki\, 00950\, Finland
CATEGORIES:Toimintakeskus Villa Borgis
END:VEVENT
BEGIN:VEVENT
DTSTART;TZID=Europe/Helsinki:20240522T130000
DTEND;TZID=Europe/Helsinki:20240522T143000
DTSTAMP:20260422T080652
CREATED:20240103T134956Z
LAST-MODIFIED:20240912T102443Z
UID:10004846-1716382800-1716388200@kalenteri.niemikoti.fi
SUMMARY:Taide & käsityö -ryhmä Malmilla
DESCRIPTION:Kuvataidetta ja käsitöitä vaihtuvin teemoin ja tekniikoin. Max. 8 osallistujaa\, ilmoittaudu mukaan!
URL:https://kalenteri.niemikoti.fi/tapahtuma/kuvis-ja-kasityo-ryhma-malmilla/2024-05-22/
LOCATION:Malmin päivätoimintakeskus\, Vanha Helsingintie 9\, Helsinki\, 00700\, Finland
CATEGORIES:Malmin päivätoimintakeskus
END:VEVENT
BEGIN:VEVENT
DTSTART;TZID=Europe/Helsinki:20240522T130000
DTEND;TZID=Europe/Helsinki:20240522T150000
DTSTAMP:20260422T080652
CREATED:20240112T082706Z
LAST-MODIFIED:20240708T061422Z
UID:10004921-1716382800-1716390000@kalenteri.niemikoti.fi
SUMMARY:Viherpeukalot
DESCRIPTION:Siementen kylvämistä\, kasvien hoitoa\, viherpeukalointia sisällä ja ulkona Villa Borgiksen puutarhassa. Laita yllesi vaatteet\, jotka eivät säikähdä likaantumista. Käsineet ja työvälineet talon puolesta\, myös kumisaappaita löytyy lainaksi.
URL:https://kalenteri.niemikoti.fi/tapahtuma/viherpeukalot-2/2024-05-22/
LOCATION:Toimintakeskus Villa Borgis\, Linnavuorentie 13\, Helsinki\, 00950\, Finland
CATEGORIES:Toimintakeskus Villa Borgis
END:VEVENT
BEGIN:VEVENT
DTSTART;TZID=Europe/Helsinki:20240522T140000
DTEND;TZID=Europe/Helsinki:20240522T143000
DTSTAMP:20260422T080652
CREATED:20230607T051246Z
LAST-MODIFIED:20250107T131756Z
UID:10013978-1716386400-1716388200@kalenteri.niemikoti.fi
SUMMARY:Yhteisöpäivän päiväkahvit
DESCRIPTION:Päiväkahvit kuuluvat aamiaisen ja/tai lounaan hintaan\, muuten 1 €.
URL:https://kalenteri.niemikoti.fi/tapahtuma/yhteisopaivan-paivakahvit/2024-05-22/
LOCATION:Toimintakeskus Villa Borgis\, Linnavuorentie 13\, Helsinki\, 00950\, Finland
CATEGORIES:Toimintakeskus Villa Borgis
END:VEVENT
BEGIN:VEVENT
DTSTART;TZID=Europe/Helsinki:20240523T103000
DTEND;TZID=Europe/Helsinki:20240523T120000
DTSTAMP:20260422T080652
CREATED:20240416T122216Z
LAST-MODIFIED:20240515T110114Z
UID:10010523-1716460200-1716465600@kalenteri.niemikoti.fi
SUMMARY:Kokeileva maalaus
DESCRIPTION:Rentoa taiteilua luovalla otteella ja vähän yllättävilläkin välineillä.
URL:https://kalenteri.niemikoti.fi/tapahtuma/kokeileva-maalaus/2024-05-23/
LOCATION:Toimintakeskus Villa Borgis\, Linnavuorentie 13\, Helsinki\, 00950\, Finland
CATEGORIES:Toimintakeskus Villa Borgis
END:VEVENT
END:VCALENDAR