BEGIN:VCALENDAR
VERSION:2.0
PRODID:-//Tapahtumakalenteri - ECPv6.15.18//NONSGML v1.0//EN
CALSCALE:GREGORIAN
METHOD:PUBLISH
X-ORIGINAL-URL:https://kalenteri.niemikoti.fi
X-WR-CALDESC:Tapahtumat Tapahtumakalenteri
REFRESH-INTERVAL;VALUE=DURATION:PT1H
X-Robots-Tag:noindex
X-PUBLISHED-TTL:PT1H
BEGIN:VTIMEZONE
TZID:Europe/Helsinki
BEGIN:DAYLIGHT
TZOFFSETFROM:+0200
TZOFFSETTO:+0300
TZNAME:EEST
DTSTART:20240331T010000
END:DAYLIGHT
BEGIN:STANDARD
TZOFFSETFROM:+0300
TZOFFSETTO:+0200
TZNAME:EET
DTSTART:20241027T010000
END:STANDARD
BEGIN:DAYLIGHT
TZOFFSETFROM:+0200
TZOFFSETTO:+0300
TZNAME:EEST
DTSTART:20250330T010000
END:DAYLIGHT
BEGIN:STANDARD
TZOFFSETFROM:+0300
TZOFFSETTO:+0200
TZNAME:EET
DTSTART:20251026T010000
END:STANDARD
BEGIN:DAYLIGHT
TZOFFSETFROM:+0200
TZOFFSETTO:+0300
TZNAME:EEST
DTSTART:20260329T010000
END:DAYLIGHT
BEGIN:STANDARD
TZOFFSETFROM:+0300
TZOFFSETTO:+0200
TZNAME:EET
DTSTART:20261025T010000
END:STANDARD
END:VTIMEZONE
BEGIN:VEVENT
DTSTART;TZID=Europe/Helsinki:20250606T100000
DTEND;TZID=Europe/Helsinki:20250829T110000
DTSTAMP:20260422T051000
CREATED:20250522T084825Z
LAST-MODIFIED:20260421T134929Z
UID:10022978-1749204000-1756465200@kalenteri.niemikoti.fi
SUMMARY:Aamujooga
DESCRIPTION:Kaikille sopivaa\, lempeää ja rauhallista joogaa. Max. 10 osallistujaa. Ilmoittaudu.
URL:https://kalenteri.niemikoti.fi/tapahtuma/aamujooga-3/2025-06-06/
LOCATION:Toimintakeskus Villa Borgis\, Linnavuorentie 13\, Helsinki\, 00950\, Finland
CATEGORIES:Toimintakeskus Villa Borgis
ATTACH;FMTTYPE=image/jpeg:https://kalenteri.niemikoti.fi/wp-content/uploads/2025/05/VillaBorgiksen-Aamujooga.jpg
END:VEVENT
BEGIN:VEVENT
DTSTART;TZID=Europe/Helsinki:20250613T100000
DTEND;TZID=Europe/Helsinki:20250905T110000
DTSTAMP:20260422T051000
CREATED:20250522T084825Z
LAST-MODIFIED:20260421T134929Z
UID:10022979-1749808800-1757070000@kalenteri.niemikoti.fi
SUMMARY:Aamujooga
DESCRIPTION:Kaikille sopivaa\, lempeää ja rauhallista joogaa. Max. 10 osallistujaa. Ilmoittaudu.
URL:https://kalenteri.niemikoti.fi/tapahtuma/aamujooga-3/2025-06-13/
LOCATION:Toimintakeskus Villa Borgis\, Linnavuorentie 13\, Helsinki\, 00950\, Finland
CATEGORIES:Toimintakeskus Villa Borgis
ATTACH;FMTTYPE=image/jpeg:https://kalenteri.niemikoti.fi/wp-content/uploads/2025/05/VillaBorgiksen-Aamujooga.jpg
END:VEVENT
BEGIN:VEVENT
DTSTART;TZID=Europe/Helsinki:20250627T100000
DTEND;TZID=Europe/Helsinki:20250919T110000
DTSTAMP:20260422T051000
CREATED:20250522T084825Z
LAST-MODIFIED:20260421T134929Z
UID:10022980-1751018400-1758279600@kalenteri.niemikoti.fi
SUMMARY:Aamujooga
DESCRIPTION:Kaikille sopivaa\, lempeää ja rauhallista joogaa. Max. 10 osallistujaa. Ilmoittaudu.
URL:https://kalenteri.niemikoti.fi/tapahtuma/aamujooga-3/2025-06-27/
LOCATION:Toimintakeskus Villa Borgis\, Linnavuorentie 13\, Helsinki\, 00950\, Finland
CATEGORIES:Toimintakeskus Villa Borgis
ATTACH;FMTTYPE=image/jpeg:https://kalenteri.niemikoti.fi/wp-content/uploads/2025/05/VillaBorgiksen-Aamujooga.jpg
END:VEVENT
BEGIN:VEVENT
DTSTART;TZID=Europe/Helsinki:20250704T100000
DTEND;TZID=Europe/Helsinki:20250926T110000
DTSTAMP:20260422T051000
CREATED:20250522T084825Z
LAST-MODIFIED:20260421T134929Z
UID:10022981-1751623200-1758884400@kalenteri.niemikoti.fi
SUMMARY:Aamujooga
DESCRIPTION:Kaikille sopivaa\, lempeää ja rauhallista joogaa. Max. 10 osallistujaa. Ilmoittaudu.
URL:https://kalenteri.niemikoti.fi/tapahtuma/aamujooga-3/2025-07-04/
LOCATION:Toimintakeskus Villa Borgis\, Linnavuorentie 13\, Helsinki\, 00950\, Finland
CATEGORIES:Toimintakeskus Villa Borgis
ATTACH;FMTTYPE=image/jpeg:https://kalenteri.niemikoti.fi/wp-content/uploads/2025/05/VillaBorgiksen-Aamujooga.jpg
END:VEVENT
BEGIN:VEVENT
DTSTART;TZID=Europe/Helsinki:20250711T100000
DTEND;TZID=Europe/Helsinki:20251003T110000
DTSTAMP:20260422T051000
CREATED:20250522T084825Z
LAST-MODIFIED:20260421T134929Z
UID:10022982-1752228000-1759489200@kalenteri.niemikoti.fi
SUMMARY:Aamujooga
DESCRIPTION:Kaikille sopivaa\, lempeää ja rauhallista joogaa. Max. 10 osallistujaa. Ilmoittaudu.
URL:https://kalenteri.niemikoti.fi/tapahtuma/aamujooga-3/2025-07-11/
LOCATION:Toimintakeskus Villa Borgis\, Linnavuorentie 13\, Helsinki\, 00950\, Finland
CATEGORIES:Toimintakeskus Villa Borgis
ATTACH;FMTTYPE=image/jpeg:https://kalenteri.niemikoti.fi/wp-content/uploads/2025/05/VillaBorgiksen-Aamujooga.jpg
END:VEVENT
BEGIN:VEVENT
DTSTART;TZID=Europe/Helsinki:20250718T100000
DTEND;TZID=Europe/Helsinki:20251010T110000
DTSTAMP:20260422T051000
CREATED:20250522T084825Z
LAST-MODIFIED:20260421T134929Z
UID:10022983-1752832800-1760094000@kalenteri.niemikoti.fi
SUMMARY:Aamujooga
DESCRIPTION:Kaikille sopivaa\, lempeää ja rauhallista joogaa. Max. 10 osallistujaa. Ilmoittaudu.
URL:https://kalenteri.niemikoti.fi/tapahtuma/aamujooga-3/2025-07-18/
LOCATION:Toimintakeskus Villa Borgis\, Linnavuorentie 13\, Helsinki\, 00950\, Finland
CATEGORIES:Toimintakeskus Villa Borgis
ATTACH;FMTTYPE=image/jpeg:https://kalenteri.niemikoti.fi/wp-content/uploads/2025/05/VillaBorgiksen-Aamujooga.jpg
END:VEVENT
BEGIN:VEVENT
DTSTART;TZID=Europe/Helsinki:20250725T100000
DTEND;TZID=Europe/Helsinki:20251017T110000
DTSTAMP:20260422T051000
CREATED:20250522T084825Z
LAST-MODIFIED:20260421T134929Z
UID:10022984-1753437600-1760698800@kalenteri.niemikoti.fi
SUMMARY:Aamujooga
DESCRIPTION:Kaikille sopivaa\, lempeää ja rauhallista joogaa. Max. 10 osallistujaa. Ilmoittaudu.
URL:https://kalenteri.niemikoti.fi/tapahtuma/aamujooga-3/2025-07-25/
LOCATION:Toimintakeskus Villa Borgis\, Linnavuorentie 13\, Helsinki\, 00950\, Finland
CATEGORIES:Toimintakeskus Villa Borgis
ATTACH;FMTTYPE=image/jpeg:https://kalenteri.niemikoti.fi/wp-content/uploads/2025/05/VillaBorgiksen-Aamujooga.jpg
END:VEVENT
BEGIN:VEVENT
DTSTART;TZID=Europe/Helsinki:20250801T100000
DTEND;TZID=Europe/Helsinki:20251024T110000
DTSTAMP:20260422T051000
CREATED:20250522T084825Z
LAST-MODIFIED:20260421T134929Z
UID:10022985-1754042400-1761303600@kalenteri.niemikoti.fi
SUMMARY:Aamujooga
DESCRIPTION:Kaikille sopivaa\, lempeää ja rauhallista joogaa. Max. 10 osallistujaa. Ilmoittaudu.
URL:https://kalenteri.niemikoti.fi/tapahtuma/aamujooga-3/2025-08-01/
LOCATION:Toimintakeskus Villa Borgis\, Linnavuorentie 13\, Helsinki\, 00950\, Finland
CATEGORIES:Toimintakeskus Villa Borgis
ATTACH;FMTTYPE=image/jpeg:https://kalenteri.niemikoti.fi/wp-content/uploads/2025/05/VillaBorgiksen-Aamujooga.jpg
END:VEVENT
BEGIN:VEVENT
DTSTART;TZID=Europe/Helsinki:20250808T100000
DTEND;TZID=Europe/Helsinki:20251031T100000
DTSTAMP:20260422T051000
CREATED:20250522T084825Z
LAST-MODIFIED:20260421T134929Z
UID:10022986-1754647200-1761904800@kalenteri.niemikoti.fi
SUMMARY:Aamujooga
DESCRIPTION:Kaikille sopivaa\, lempeää ja rauhallista joogaa. Max. 10 osallistujaa. Ilmoittaudu.
URL:https://kalenteri.niemikoti.fi/tapahtuma/aamujooga-3/2025-08-08/
LOCATION:Toimintakeskus Villa Borgis\, Linnavuorentie 13\, Helsinki\, 00950\, Finland
CATEGORIES:Toimintakeskus Villa Borgis
ATTACH;FMTTYPE=image/jpeg:https://kalenteri.niemikoti.fi/wp-content/uploads/2025/05/VillaBorgiksen-Aamujooga.jpg
END:VEVENT
BEGIN:VEVENT
DTSTART;TZID=Europe/Helsinki:20250811T090000
DTEND;TZID=Europe/Helsinki:20250811T100000
DTSTAMP:20260422T051000
CREATED:20250810T183356Z
LAST-MODIFIED:20250811T005052Z
UID:10023622-1754902800-1754906400@kalenteri.niemikoti.fi
SUMMARY:Yhteisön aamiainen
DESCRIPTION:Aamiainen yhteisöpäivän kävijöille. Aamiainen sisältää puuroa\, leipää ja leivänpäällisiä\, kahvia tai teetä sekä mehua. Aamiaisen hinta on 1\,50€.
URL:https://kalenteri.niemikoti.fi/tapahtuma/yhteison-aamiainen-2/2025-08-11/
LOCATION:Malmin päivätoimintakeskus\, Vanha Helsingintie 9\, Helsinki\, 00700\, Finland
CATEGORIES:Malmin päivätoimintakeskus
END:VEVENT
BEGIN:VEVENT
DTSTART;TZID=Europe/Helsinki:20250811T090000
DTEND;TZID=Europe/Helsinki:20250811T130000
DTSTAMP:20260422T051000
CREATED:20250810T183125Z
LAST-MODIFIED:20250811T004733Z
UID:10023338-1754902800-1754917200@kalenteri.niemikoti.fi
SUMMARY:Yhteisöpäivä
DESCRIPTION:Yhteisöpäivä klo 9-13 Malmin päivätoimintakeskuksessa. Ilmoittaudu mukaan! \nYhteisöpäivän ohjelma: \nKlo 9.00 Aamiainen \nKlo 10.00 Aamukokous \nKlo 10.30 Talon työt \nKlo 11.00 Toiminnallinen ryhmä \nKlo 12.00 Lounas
URL:https://kalenteri.niemikoti.fi/tapahtuma/yhteisopaiva-2/2025-08-11/
LOCATION:Malmin päivätoimintakeskus\, Vanha Helsingintie 9\, Helsinki\, 00700\, Finland
CATEGORIES:Malmin päivätoimintakeskus
END:VEVENT
BEGIN:VEVENT
DTSTART;TZID=Europe/Helsinki:20250811T100000
DTEND;TZID=Europe/Helsinki:20250811T103000
DTSTAMP:20260422T051000
CREATED:20250810T183649Z
LAST-MODIFIED:20250902T090521Z
UID:10023906-1754906400-1754908200@kalenteri.niemikoti.fi
SUMMARY:Yhteisöpäivän aamukokous
DESCRIPTION:Yhteisöpäivän aamukokouksessa tutustutaan yhdessä päivän ohjelmaan sekä tuleviin tapahtumiin ja käydään kuulumiskierros.
URL:https://kalenteri.niemikoti.fi/tapahtuma/yhteisopaivan-aamukokous-5/2025-08-11/
LOCATION:Malmin päivätoimintakeskus\, Vanha Helsingintie 9\, Helsinki\, 00700\, Finland
CATEGORIES:Malmin päivätoimintakeskus
END:VEVENT
BEGIN:VEVENT
DTSTART;TZID=Europe/Helsinki:20250811T103000
DTEND;TZID=Europe/Helsinki:20250811T110000
DTSTAMP:20260422T051000
CREATED:20250810T184113Z
LAST-MODIFIED:20250902T085538Z
UID:10023982-1754908200-1754910000@kalenteri.niemikoti.fi
SUMMARY:Talon töitä
DESCRIPTION:Tehdään yhdessä yhteisön yhteisiä talon töitä esimerkiksi ruuanlaitossa avustaminen\, tiskikoneen tyhjennys\, viherkasvien kastelu ja pyykkien pesu\, ripustus ja viikkaaminen. Syksyllä haravointia\, talvella lumitöitä\, keväällä ja kesällä istutusten huoltoa ja kastelua.
URL:https://kalenteri.niemikoti.fi/tapahtuma/talon-toita-6/2025-08-11/
LOCATION:Malmin päivätoimintakeskus\, Vanha Helsingintie 9\, Helsinki\, 00700\, Finland
CATEGORIES:Malmin päivätoimintakeskus
END:VEVENT
BEGIN:VEVENT
DTSTART;TZID=Europe/Helsinki:20250811T103000
DTEND;TZID=Europe/Helsinki:20250811T120000
DTSTAMP:20260422T051000
CREATED:20240814T064605Z
LAST-MODIFIED:20260331T080702Z
UID:10022648-1754908200-1754913600@kalenteri.niemikoti.fi
SUMMARY:Talon töitä
DESCRIPTION:Yhteisön yhteisiä talon töitä; siivousta\, pihatöitä\, keittiötöitä\, sisustusta yms.
URL:https://kalenteri.niemikoti.fi/tapahtuma/talon-toita-3/2025-08-11/
LOCATION:Toimintakeskus Villa Borgis\, Linnavuorentie 13\, Helsinki\, 00950\, Finland
CATEGORIES:Toimintakeskus Villa Borgis
END:VEVENT
BEGIN:VEVENT
DTSTART;TZID=Europe/Helsinki:20250811T110000
DTEND;TZID=Europe/Helsinki:20250811T120000
DTSTAMP:20260422T051000
CREATED:20250810T184858Z
LAST-MODIFIED:20250930T083849Z
UID:10024058-1754910000-1754913600@kalenteri.niemikoti.fi
SUMMARY:Maanantaidokkari
DESCRIPTION:Täydentyvä ryhmä\, ilmoittaudu. Katsotaan yhdessä ajankohtainen tai muuten kiinnostava dokumentti ja keskustellaan siitä.  \nTäydentyvä ryhmä\, ilmoittaudu mukaan.
URL:https://kalenteri.niemikoti.fi/tapahtuma/maanantaidokkari-2/2025-08-11/
LOCATION:Malmin päivätoimintakeskus\, Vanha Helsingintie 9\, Helsinki\, 00700\, Finland
CATEGORIES:Malmin päivätoimintakeskus
ATTACH;FMTTYPE=image/jpeg:https://kalenteri.niemikoti.fi/wp-content/uploads/2025/08/Maanantaidokkari.jpg
END:VEVENT
BEGIN:VEVENT
DTSTART;TZID=Europe/Helsinki:20250811T120000
DTEND;TZID=Europe/Helsinki:20250811T130000
DTSTAMP:20260422T051000
CREATED:20250811T003503Z
LAST-MODIFIED:20250902T085611Z
UID:10024217-1754913600-1754917200@kalenteri.niemikoti.fi
SUMMARY:Yhteisön lounas
DESCRIPTION:Lounas yhteisöpäivän kävijöille. Lounaaseen sisältyy arkiruokaa\, salaatti ja kahvi sekä kahvileipä. Lounaan hinta on 3\,50€.
URL:https://kalenteri.niemikoti.fi/tapahtuma/yhteison-lounas-2/2025-08-11/
LOCATION:Malmin päivätoimintakeskus\, Vanha Helsingintie 9\, Helsinki\, 00700\, Finland
CATEGORIES:Malmin päivätoimintakeskus
END:VEVENT
BEGIN:VEVENT
DTSTART;TZID=Europe/Helsinki:20250811T130000
DTEND;TZID=Europe/Helsinki:20250811T140000
DTSTAMP:20260422T051000
CREATED:20250723T112759Z
LAST-MODIFIED:20250929T065512Z
UID:10023313-1754917200-1754920800@kalenteri.niemikoti.fi
SUMMARY:Lempeää liikuntaa
DESCRIPTION:Rauhallista\, kaikille soveltuvaa liikuntaa\, sään salliessa ulkona.
URL:https://kalenteri.niemikoti.fi/tapahtuma/lempeaa-liikuntaa-3/2025-08-11/
LOCATION:Toimintakeskus Villa Borgis\, Linnavuorentie 13\, Helsinki\, 00950\, Finland
CATEGORIES:Toimintakeskus Villa Borgis
END:VEVENT
BEGIN:VEVENT
DTSTART;TZID=Europe/Helsinki:20250811T130000
DTEND;TZID=Europe/Helsinki:20250811T140000
DTSTAMP:20260422T051000
CREATED:20250819T083012Z
LAST-MODIFIED:20250819T083012Z
UID:10024574-1754917200-1754920800@kalenteri.niemikoti.fi
SUMMARY:Lempeä liikunta
DESCRIPTION:Rauhallista kaikille sopivaa liikuntaa\, sään salliessa ulkona.
URL:https://kalenteri.niemikoti.fi/tapahtuma/lempea-liikunta-2/2025-08-11/
LOCATION:Toimintakeskus Villa Borgis\, Linnavuorentie 13\, Helsinki\, 00950\, Finland
CATEGORIES:Toimintakeskus Villa Borgis
END:VEVENT
BEGIN:VEVENT
DTSTART;TZID=Europe/Helsinki:20250811T130000
DTEND;TZID=Europe/Helsinki:20250811T150000
DTSTAMP:20260422T051000
CREATED:20250810T185325Z
LAST-MODIFIED:20251201T115834Z
UID:10024077-1754917200-1754924400@kalenteri.niemikoti.fi
SUMMARY:Peliryhmä
DESCRIPTION:Helppoja seurapelejä mukavassa seurassa. Hyllystä löytyy mm. Dixit\, Dobble\, Carcassonne\, Bananagrams ja Saboteur. Voit myös tuoda pelattavaksi omia pelejä. \nTäydentyvä ryhmä\, ilmoittaudu mukaan.
URL:https://kalenteri.niemikoti.fi/tapahtuma/peliryhma-5/2025-08-11/
LOCATION:Malmin päivätoimintakeskus\, Vanha Helsingintie 9\, Helsinki\, 00700\, Finland
CATEGORIES:Malmin päivätoimintakeskus
ATTACH;FMTTYPE=image/jpeg:https://kalenteri.niemikoti.fi/wp-content/uploads/2025/08/Peliryhma.jpg
END:VEVENT
BEGIN:VEVENT
DTSTART;TZID=Europe/Helsinki:20250811T170000
DTEND;TZID=Europe/Helsinki:20250811T180000
DTSTAMP:20260422T051000
CREATED:20250805T111214Z
LAST-MODIFIED:20250805T111214Z
UID:10023335-1754931600-1754935200@kalenteri.niemikoti.fi
SUMMARY:Niilon chat-kahvila 11.8. klo 17-18
DESCRIPTION:Tervetuloa kahvilaan maanantaina 11.8. klo 17-18. Chat-kahvilassa vaihdetaan kuulumiset ja jutellaan mieleen tulevista asioista.\nVetäjänä Pepe\n\n\nJos sinulla ei ole vielä Niiiloa saat sen osoitteesta niilo.niemikoti.fi
URL:https://kalenteri.niemikoti.fi/tapahtuma/niilon-chat-kahvila-11-8-klo-17-18/
CATEGORIES:Niilo-sovellus
ATTACH;FMTTYPE=image/jpeg:https://kalenteri.niemikoti.fi/wp-content/uploads/2025/08/kahvila-11.8.jpg
END:VEVENT
BEGIN:VEVENT
DTSTART;TZID=Europe/Helsinki:20250812T080000
DTEND;TZID=Europe/Helsinki:20250812T170000
DTSTAMP:20260422T051000
CREATED:20250612T105139Z
LAST-MODIFIED:20250814T091951Z
UID:10024334-1754985600-1755018000@kalenteri.niemikoti.fi
SUMMARY:Elävä ilmaisu
DESCRIPTION:Tutkitaan yhdessä draaman keinoin ryhmän havaintoja\, kokemuksia ja ajatuksia. Max. 8 osallistujaa. Ilmoittaudu ryhmään! \nRyhmä kokoontuu viisi kertaa: 10.6.\, 17.6. ja 24.6. sekä 12.8. ja 26.8.
URL:https://kalenteri.niemikoti.fi/tapahtuma/elava-ilmaisu-4/2025-08-12/
LOCATION:Malmin päivätoimintakeskus\, Vanha Helsingintie 9\, Helsinki\, 00700\, Finland
CATEGORIES:Malmin päivätoimintakeskus
ATTACH;FMTTYPE=image/jpeg:https://kalenteri.niemikoti.fi/wp-content/uploads/2025/06/Elava-ilmaisuMalmi.jpg
END:VEVENT
BEGIN:VEVENT
DTSTART;TZID=Europe/Helsinki:20250812T090000
DTEND;TZID=Europe/Helsinki:20250812T100000
DTSTAMP:20260422T051000
CREATED:20250810T183356Z
LAST-MODIFIED:20250811T005052Z
UID:10023623-1754989200-1754992800@kalenteri.niemikoti.fi
SUMMARY:Yhteisön aamiainen
DESCRIPTION:Aamiainen yhteisöpäivän kävijöille. Aamiainen sisältää puuroa\, leipää ja leivänpäällisiä\, kahvia tai teetä sekä mehua. Aamiaisen hinta on 1\,50€.
URL:https://kalenteri.niemikoti.fi/tapahtuma/yhteison-aamiainen-2/2025-08-12/
LOCATION:Malmin päivätoimintakeskus\, Vanha Helsingintie 9\, Helsinki\, 00700\, Finland
CATEGORIES:Malmin päivätoimintakeskus
END:VEVENT
BEGIN:VEVENT
DTSTART;TZID=Europe/Helsinki:20250812T090000
DTEND;TZID=Europe/Helsinki:20250812T130000
DTSTAMP:20260422T051000
CREATED:20250810T183125Z
LAST-MODIFIED:20250811T004733Z
UID:10023339-1754989200-1755003600@kalenteri.niemikoti.fi
SUMMARY:Yhteisöpäivä
DESCRIPTION:Yhteisöpäivä klo 9-13 Malmin päivätoimintakeskuksessa. Ilmoittaudu mukaan! \nYhteisöpäivän ohjelma: \nKlo 9.00 Aamiainen \nKlo 10.00 Aamukokous \nKlo 10.30 Talon työt \nKlo 11.00 Toiminnallinen ryhmä \nKlo 12.00 Lounas
URL:https://kalenteri.niemikoti.fi/tapahtuma/yhteisopaiva-2/2025-08-12/
LOCATION:Malmin päivätoimintakeskus\, Vanha Helsingintie 9\, Helsinki\, 00700\, Finland
CATEGORIES:Malmin päivätoimintakeskus
END:VEVENT
BEGIN:VEVENT
DTSTART;TZID=Europe/Helsinki:20250812T103000
DTEND;TZID=Europe/Helsinki:20250812T120000
DTSTAMP:20260422T051000
CREATED:20240814T065248Z
LAST-MODIFIED:20260421T091527Z
UID:10025500-1754994600-1755000000@kalenteri.niemikoti.fi
SUMMARY:Borgiksen Picassot
DESCRIPTION:Kuvataideryhmä. Kaikille sopivaa kuvallista työskentelyä\, ei vaadi erityisosaamista.
URL:https://kalenteri.niemikoti.fi/tapahtuma/borgiksen-picassot-2/2025-08-12/
LOCATION:Toimintakeskus Villa Borgis\, Linnavuorentie 13\, Helsinki\, 00950\, Finland
CATEGORIES:Toimintakeskus Villa Borgis
ATTACH;FMTTYPE=image/jpeg:https://kalenteri.niemikoti.fi/wp-content/uploads/2024/08/Borgiksen-Picassot-1.jpg
END:VEVENT
BEGIN:VEVENT
DTSTART;TZID=Europe/Helsinki:20250812T110000
DTEND;TZID=Europe/Helsinki:20250812T120000
DTSTAMP:20260422T051000
CREATED:20250810T235145Z
LAST-MODIFIED:20250930T083042Z
UID:10024096-1754996400-1755000000@kalenteri.niemikoti.fi
SUMMARY:Musaraati
DESCRIPTION:Perinteinen levyraati. \nTäydentyvä ryhmä\, ilmoittaudu mukaan.
URL:https://kalenteri.niemikoti.fi/tapahtuma/musaraati-2/2025-08-12/
LOCATION:Malmin päivätoimintakeskus\, Vanha Helsingintie 9\, Helsinki\, 00700\, Finland
CATEGORIES:Malmin päivätoimintakeskus
ATTACH;FMTTYPE=image/jpeg:https://kalenteri.niemikoti.fi/wp-content/uploads/2025/08/Musaraati.jpg
END:VEVENT
BEGIN:VEVENT
DTSTART;TZID=Europe/Helsinki:20250812T120000
DTEND;TZID=Europe/Helsinki:20250812T130000
DTSTAMP:20260422T051000
CREATED:20250811T003503Z
LAST-MODIFIED:20250902T085611Z
UID:10024218-1755000000-1755003600@kalenteri.niemikoti.fi
SUMMARY:Yhteisön lounas
DESCRIPTION:Lounas yhteisöpäivän kävijöille. Lounaaseen sisältyy arkiruokaa\, salaatti ja kahvi sekä kahvileipä. Lounaan hinta on 3\,50€.
URL:https://kalenteri.niemikoti.fi/tapahtuma/yhteison-lounas-2/2025-08-12/
LOCATION:Malmin päivätoimintakeskus\, Vanha Helsingintie 9\, Helsinki\, 00700\, Finland
CATEGORIES:Malmin päivätoimintakeskus
END:VEVENT
BEGIN:VEVENT
DTSTART;TZID=Europe/Helsinki:20250812T130000
DTEND;TZID=Europe/Helsinki:20250812T140000
DTSTAMP:20260422T051000
CREATED:20250526T114735Z
LAST-MODIFIED:20250723T113223Z
UID:10023200-1755003600-1755007200@kalenteri.niemikoti.fi
SUMMARY:Elävä ilmaisu
DESCRIPTION:Tutkitaan yhdessä draaman keinoin ryhmän havaintoja\, kokemuksia ja ajatuksia. Max. 8 osallistujaa. Ilmoittaudu.
URL:https://kalenteri.niemikoti.fi/tapahtuma/elava-ilmaisu-3/2025-08-12/
LOCATION:Toimintakeskus Villa Borgis\, Linnavuorentie 13\, Helsinki\, 00950\, Finland
CATEGORIES:Toimintakeskus Villa Borgis
ATTACH;FMTTYPE=image/jpeg:https://kalenteri.niemikoti.fi/wp-content/uploads/2025/05/Elavailmaisu.jpg
END:VEVENT
BEGIN:VEVENT
DTSTART;TZID=Europe/Helsinki:20250812T130000
DTEND;TZID=Europe/Helsinki:20250812T150000
DTSTAMP:20260422T051000
CREATED:20250810T235536Z
LAST-MODIFIED:20250810T235536Z
UID:10024115-1755003600-1755010800@kalenteri.niemikoti.fi
SUMMARY:Kesähygge
DESCRIPTION:Rentoa yhdessäoloa jääteen äärellä sekä sirkustelua ja saippuakuplia Malmin kauniilla kesäpihalla. \nTäydentyvä ryhmä\, ilmoittaudu mukaan. \nEi ryhmää 5.8.
URL:https://kalenteri.niemikoti.fi/tapahtuma/kesahygge-2/2025-08-12/
LOCATION:Malmin päivätoimintakeskus\, Vanha Helsingintie 9\, Helsinki\, 00700\, Finland
CATEGORIES:Malmin päivätoimintakeskus
ATTACH;FMTTYPE=image/jpeg:https://kalenteri.niemikoti.fi/wp-content/uploads/2025/08/Kesahygge.jpg
END:VEVENT
BEGIN:VEVENT
DTSTART;TZID=Europe/Helsinki:20250812T140000
DTEND;TZID=Europe/Helsinki:20250812T153000
DTSTAMP:20260422T051000
CREATED:20250810T235753Z
LAST-MODIFIED:20250930T083434Z
UID:10024118-1755007200-1755012600@kalenteri.niemikoti.fi
SUMMARY:Jälleenvuokrauksen bändi
DESCRIPTION:Bändissä on vakiintunut kokoonpano. Lisätietoja bändistä voi kysyä ohjaajilta.
URL:https://kalenteri.niemikoti.fi/tapahtuma/jalleenvuokrauksen-bandi-4/2025-08-12/
LOCATION:Malmin päivätoimintakeskus\, Vanha Helsingintie 9\, Helsinki\, 00700\, Finland
CATEGORIES:Jälleenvuokraus,Malmin päivätoimintakeskus
END:VEVENT
BEGIN:VEVENT
DTSTART;TZID=Europe/Helsinki:20250813T090000
DTEND;TZID=Europe/Helsinki:20250813T100000
DTSTAMP:20260422T051000
CREATED:20250810T183356Z
LAST-MODIFIED:20250811T005052Z
UID:10023624-1755075600-1755079200@kalenteri.niemikoti.fi
SUMMARY:Yhteisön aamiainen
DESCRIPTION:Aamiainen yhteisöpäivän kävijöille. Aamiainen sisältää puuroa\, leipää ja leivänpäällisiä\, kahvia tai teetä sekä mehua. Aamiaisen hinta on 1\,50€.
URL:https://kalenteri.niemikoti.fi/tapahtuma/yhteison-aamiainen-2/2025-08-13/
LOCATION:Malmin päivätoimintakeskus\, Vanha Helsingintie 9\, Helsinki\, 00700\, Finland
CATEGORIES:Malmin päivätoimintakeskus
END:VEVENT
END:VCALENDAR