BEGIN:VCALENDAR
VERSION:2.0
PRODID:-//Tapahtumakalenteri - ECPv6.15.18//NONSGML v1.0//EN
CALSCALE:GREGORIAN
METHOD:PUBLISH
X-ORIGINAL-URL:https://kalenteri.niemikoti.fi
X-WR-CALDESC:Tapahtumat Tapahtumakalenteri
REFRESH-INTERVAL;VALUE=DURATION:PT1H
X-Robots-Tag:noindex
X-PUBLISHED-TTL:PT1H
BEGIN:VTIMEZONE
TZID:Europe/Helsinki
BEGIN:DAYLIGHT
TZOFFSETFROM:+0200
TZOFFSETTO:+0300
TZNAME:EEST
DTSTART:20240331T010000
END:DAYLIGHT
BEGIN:STANDARD
TZOFFSETFROM:+0300
TZOFFSETTO:+0200
TZNAME:EET
DTSTART:20241027T010000
END:STANDARD
BEGIN:DAYLIGHT
TZOFFSETFROM:+0200
TZOFFSETTO:+0300
TZNAME:EEST
DTSTART:20250330T010000
END:DAYLIGHT
BEGIN:STANDARD
TZOFFSETFROM:+0300
TZOFFSETTO:+0200
TZNAME:EET
DTSTART:20251026T010000
END:STANDARD
BEGIN:DAYLIGHT
TZOFFSETFROM:+0200
TZOFFSETTO:+0300
TZNAME:EEST
DTSTART:20260329T010000
END:DAYLIGHT
BEGIN:STANDARD
TZOFFSETFROM:+0300
TZOFFSETTO:+0200
TZNAME:EET
DTSTART:20261025T010000
END:STANDARD
BEGIN:DAYLIGHT
TZOFFSETFROM:+0200
TZOFFSETTO:+0300
TZNAME:EEST
DTSTART:20270328T010000
END:DAYLIGHT
BEGIN:STANDARD
TZOFFSETFROM:+0300
TZOFFSETTO:+0200
TZNAME:EET
DTSTART:20271031T010000
END:STANDARD
END:VTIMEZONE
BEGIN:VEVENT
DTSTART;TZID=Europe/Helsinki:20251031T100000
DTEND;TZID=Europe/Helsinki:20260123T110000
DTSTAMP:20260422T030331
CREATED:20250522T084825Z
LAST-MODIFIED:20260421T134929Z
UID:10023150-1761904800-1769166000@kalenteri.niemikoti.fi
SUMMARY:Aamujooga
DESCRIPTION:Kaikille sopivaa\, lempeää ja rauhallista joogaa. Max. 10 osallistujaa. Ilmoittaudu.
URL:https://kalenteri.niemikoti.fi/tapahtuma/aamujooga-3/2025-10-31/
LOCATION:Toimintakeskus Villa Borgis\, Linnavuorentie 13\, Helsinki\, 00950\, Finland
CATEGORIES:Toimintakeskus Villa Borgis
ATTACH;FMTTYPE=image/jpeg:https://kalenteri.niemikoti.fi/wp-content/uploads/2025/05/VillaBorgiksen-Aamujooga.jpg
END:VEVENT
BEGIN:VEVENT
DTSTART;TZID=Europe/Helsinki:20251107T100000
DTEND;TZID=Europe/Helsinki:20260130T110000
DTSTAMP:20260422T030331
CREATED:20250522T084825Z
LAST-MODIFIED:20260421T134929Z
UID:10023151-1762509600-1769770800@kalenteri.niemikoti.fi
SUMMARY:Aamujooga
DESCRIPTION:Kaikille sopivaa\, lempeää ja rauhallista joogaa. Max. 10 osallistujaa. Ilmoittaudu.
URL:https://kalenteri.niemikoti.fi/tapahtuma/aamujooga-3/2025-11-07/
LOCATION:Toimintakeskus Villa Borgis\, Linnavuorentie 13\, Helsinki\, 00950\, Finland
CATEGORIES:Toimintakeskus Villa Borgis
ATTACH;FMTTYPE=image/jpeg:https://kalenteri.niemikoti.fi/wp-content/uploads/2025/05/VillaBorgiksen-Aamujooga.jpg
END:VEVENT
BEGIN:VEVENT
DTSTART;TZID=Europe/Helsinki:20251114T100000
DTEND;TZID=Europe/Helsinki:20260206T110000
DTSTAMP:20260422T030331
CREATED:20250522T084825Z
LAST-MODIFIED:20260421T134929Z
UID:10023152-1763114400-1770375600@kalenteri.niemikoti.fi
SUMMARY:Aamujooga
DESCRIPTION:Kaikille sopivaa\, lempeää ja rauhallista joogaa. Max. 10 osallistujaa. Ilmoittaudu.
URL:https://kalenteri.niemikoti.fi/tapahtuma/aamujooga-3/2025-11-14/
LOCATION:Toimintakeskus Villa Borgis\, Linnavuorentie 13\, Helsinki\, 00950\, Finland
CATEGORIES:Toimintakeskus Villa Borgis
ATTACH;FMTTYPE=image/jpeg:https://kalenteri.niemikoti.fi/wp-content/uploads/2025/05/VillaBorgiksen-Aamujooga.jpg
END:VEVENT
BEGIN:VEVENT
DTSTART;TZID=Europe/Helsinki:20251128T100000
DTEND;TZID=Europe/Helsinki:20260220T110000
DTSTAMP:20260422T030331
CREATED:20250522T084825Z
LAST-MODIFIED:20260421T134929Z
UID:10023154-1764324000-1771585200@kalenteri.niemikoti.fi
SUMMARY:Aamujooga
DESCRIPTION:Kaikille sopivaa\, lempeää ja rauhallista joogaa. Max. 10 osallistujaa. Ilmoittaudu.
URL:https://kalenteri.niemikoti.fi/tapahtuma/aamujooga-3/2025-11-28/
LOCATION:Toimintakeskus Villa Borgis\, Linnavuorentie 13\, Helsinki\, 00950\, Finland
CATEGORIES:Toimintakeskus Villa Borgis
ATTACH;FMTTYPE=image/jpeg:https://kalenteri.niemikoti.fi/wp-content/uploads/2025/05/VillaBorgiksen-Aamujooga.jpg
END:VEVENT
BEGIN:VEVENT
DTSTART;TZID=Europe/Helsinki:20251205T100000
DTEND;TZID=Europe/Helsinki:20260227T110000
DTSTAMP:20260422T030331
CREATED:20250522T084825Z
LAST-MODIFIED:20260421T134929Z
UID:10023155-1764928800-1772190000@kalenteri.niemikoti.fi
SUMMARY:Aamujooga
DESCRIPTION:Kaikille sopivaa\, lempeää ja rauhallista joogaa. Max. 10 osallistujaa. Ilmoittaudu.
URL:https://kalenteri.niemikoti.fi/tapahtuma/aamujooga-3/2025-12-05/
LOCATION:Toimintakeskus Villa Borgis\, Linnavuorentie 13\, Helsinki\, 00950\, Finland
CATEGORIES:Toimintakeskus Villa Borgis
ATTACH;FMTTYPE=image/jpeg:https://kalenteri.niemikoti.fi/wp-content/uploads/2025/05/VillaBorgiksen-Aamujooga.jpg
END:VEVENT
BEGIN:VEVENT
DTSTART;TZID=Europe/Helsinki:20251212T100000
DTEND;TZID=Europe/Helsinki:20260306T110000
DTSTAMP:20260422T030331
CREATED:20250522T084825Z
LAST-MODIFIED:20260421T134929Z
UID:10023156-1765533600-1772794800@kalenteri.niemikoti.fi
SUMMARY:Aamujooga
DESCRIPTION:Kaikille sopivaa\, lempeää ja rauhallista joogaa. Max. 10 osallistujaa. Ilmoittaudu.
URL:https://kalenteri.niemikoti.fi/tapahtuma/aamujooga-3/2025-12-12/
LOCATION:Toimintakeskus Villa Borgis\, Linnavuorentie 13\, Helsinki\, 00950\, Finland
CATEGORIES:Toimintakeskus Villa Borgis
ATTACH;FMTTYPE=image/jpeg:https://kalenteri.niemikoti.fi/wp-content/uploads/2025/05/VillaBorgiksen-Aamujooga.jpg
END:VEVENT
BEGIN:VEVENT
DTSTART;TZID=Europe/Helsinki:20251219T100000
DTEND;TZID=Europe/Helsinki:20260313T110000
DTSTAMP:20260422T030331
CREATED:20250522T084825Z
LAST-MODIFIED:20260421T134929Z
UID:10023157-1766138400-1773399600@kalenteri.niemikoti.fi
SUMMARY:Aamujooga
DESCRIPTION:Kaikille sopivaa\, lempeää ja rauhallista joogaa. Max. 10 osallistujaa. Ilmoittaudu.
URL:https://kalenteri.niemikoti.fi/tapahtuma/aamujooga-3/2025-12-19/
LOCATION:Toimintakeskus Villa Borgis\, Linnavuorentie 13\, Helsinki\, 00950\, Finland
CATEGORIES:Toimintakeskus Villa Borgis
ATTACH;FMTTYPE=image/jpeg:https://kalenteri.niemikoti.fi/wp-content/uploads/2025/05/VillaBorgiksen-Aamujooga.jpg
END:VEVENT
BEGIN:VEVENT
DTSTART;TZID=Europe/Helsinki:20260109T100000
DTEND;TZID=Europe/Helsinki:20260403T120000
DTSTAMP:20260422T030331
CREATED:20250522T084825Z
LAST-MODIFIED:20260421T134929Z
UID:10025556-1767952800-1775217600@kalenteri.niemikoti.fi
SUMMARY:Aamujooga
DESCRIPTION:Kaikille sopivaa\, lempeää ja rauhallista joogaa. Max. 10 osallistujaa. Ilmoittaudu.
URL:https://kalenteri.niemikoti.fi/tapahtuma/aamujooga-3/2026-01-09/
LOCATION:Toimintakeskus Villa Borgis\, Linnavuorentie 13\, Helsinki\, 00950\, Finland
CATEGORIES:Toimintakeskus Villa Borgis
ATTACH;FMTTYPE=image/jpeg:https://kalenteri.niemikoti.fi/wp-content/uploads/2025/05/VillaBorgiksen-Aamujooga.jpg
END:VEVENT
BEGIN:VEVENT
DTSTART;TZID=Europe/Helsinki:20260116T100000
DTEND;TZID=Europe/Helsinki:20260410T120000
DTSTAMP:20260422T030331
CREATED:20250522T084825Z
LAST-MODIFIED:20260421T134929Z
UID:10025557-1768557600-1775822400@kalenteri.niemikoti.fi
SUMMARY:Aamujooga
DESCRIPTION:Kaikille sopivaa\, lempeää ja rauhallista joogaa. Max. 10 osallistujaa. Ilmoittaudu.
URL:https://kalenteri.niemikoti.fi/tapahtuma/aamujooga-3/2026-01-16/
LOCATION:Toimintakeskus Villa Borgis\, Linnavuorentie 13\, Helsinki\, 00950\, Finland
CATEGORIES:Toimintakeskus Villa Borgis
ATTACH;FMTTYPE=image/jpeg:https://kalenteri.niemikoti.fi/wp-content/uploads/2025/05/VillaBorgiksen-Aamujooga.jpg
END:VEVENT
BEGIN:VEVENT
DTSTART;TZID=Europe/Helsinki:20260119T090000
DTEND;TZID=Europe/Helsinki:20260119T094500
DTSTAMP:20260422T030331
CREATED:20250820T065259Z
LAST-MODIFIED:20260331T081723Z
UID:10025680-1768813200-1768815900@kalenteri.niemikoti.fi
SUMMARY:Yhteisön aamiainen
DESCRIPTION:Aamiainen yhteisöpäivän kävijöille. Sisältää puuron\, talon omenahilloa\, leipää\, leivänpäällisiä\, jugurttia\, hedelmiä\, kahvia\, teetä ja mehua. Hinta aamiaiselle 3 e\, sisältää myös iltapäiväkahvin.
URL:https://kalenteri.niemikoti.fi/tapahtuma/yhteison-aamiainen-3/2026-01-19/
LOCATION:Toimintakeskus Villa Borgis\, Linnavuorentie 13\, Helsinki\, 00950\, Finland
CATEGORIES:Toimintakeskus Villa Borgis
END:VEVENT
BEGIN:VEVENT
DTSTART;TZID=Europe/Helsinki:20260119T100000
DTEND;TZID=Europe/Helsinki:20260119T103000
DTSTAMP:20260422T030331
CREATED:20250818T063824Z
LAST-MODIFIED:20260331T081921Z
UID:10025897-1768816800-1768818600@kalenteri.niemikoti.fi
SUMMARY:Yhteisöpäivän aamukokous
DESCRIPTION:Yhteisöpäivän aamukokouksessa tutustutaan päivän ohjelmaan ja tuleviin tapahtumiin sekä käydään kuulumiskierros.
URL:https://kalenteri.niemikoti.fi/tapahtuma/yhteisopaivan-aamukokous-6/2026-01-19/
LOCATION:Toimintakeskus Villa Borgis\, Linnavuorentie 13\, Helsinki\, 00950\, Finland
CATEGORIES:Toimintakeskus Villa Borgis
END:VEVENT
BEGIN:VEVENT
DTSTART;TZID=Europe/Helsinki:20260119T100000
DTEND;TZID=Europe/Helsinki:20260119T103000
DTSTAMP:20260422T030331
CREATED:20260112T105633Z
LAST-MODIFIED:20260303T072458Z
UID:10028647-1768816800-1768818600@kalenteri.niemikoti.fi
SUMMARY:Aamukokous Malmilla
DESCRIPTION:Kokoonnutaan yhteen vaihtamaan kuulumisia ja keskustellaan päivän ohjelmasta.
URL:https://kalenteri.niemikoti.fi/tapahtuma/aamukokous-malmilla/2026-01-19/
LOCATION:Malmin päivätoimintakeskus\, Vanha Helsingintie 9\, Helsinki\, 00700\, Finland
CATEGORIES:Malmin päivätoimintakeskus
END:VEVENT
BEGIN:VEVENT
DTSTART;TZID=Europe/Helsinki:20260119T103000
DTEND;TZID=Europe/Helsinki:20260119T110000
DTSTAMP:20260422T030331
CREATED:20260112T111935Z
LAST-MODIFIED:20260410T061604Z
UID:10030973-1768818600-1768820400@kalenteri.niemikoti.fi
SUMMARY:Talon töitä Malmilla
DESCRIPTION:Pidetään yhdessä huolta yhteisistä tiloista ja tiluksista. Osallistua voi omien voimavarojen mukaan.
URL:https://kalenteri.niemikoti.fi/tapahtuma/talon-toita-7/2026-01-19/
LOCATION:Malmin päivätoimintakeskus\, Vanha Helsingintie 9\, Helsinki\, 00700\, Finland
CATEGORIES:Malmin päivätoimintakeskus
END:VEVENT
BEGIN:VEVENT
DTSTART;TZID=Europe/Helsinki:20260119T103000
DTEND;TZID=Europe/Helsinki:20260119T120000
DTSTAMP:20260422T030331
CREATED:20240814T064605Z
LAST-MODIFIED:20260331T080702Z
UID:10025407-1768818600-1768824000@kalenteri.niemikoti.fi
SUMMARY:Talon töitä
DESCRIPTION:Yhteisön yhteisiä talon töitä; siivousta\, pihatöitä\, keittiötöitä\, sisustusta yms.
URL:https://kalenteri.niemikoti.fi/tapahtuma/talon-toita-3/2026-01-19/
LOCATION:Toimintakeskus Villa Borgis\, Linnavuorentie 13\, Helsinki\, 00950\, Finland
CATEGORIES:Toimintakeskus Villa Borgis
END:VEVENT
BEGIN:VEVENT
DTSTART;TZID=Europe/Helsinki:20260119T113000
DTEND;TZID=Europe/Helsinki:20260119T120000
DTSTAMP:20260422T030331
CREATED:20251217T074626Z
LAST-MODIFIED:20260331T081041Z
UID:10026035-1768822200-1768824000@kalenteri.niemikoti.fi
SUMMARY:Kävelyryhmä
DESCRIPTION:Pieni kävelyretki Villa Borgiksen lähiluontoon.
URL:https://kalenteri.niemikoti.fi/tapahtuma/kavelyryhma-4/2026-01-19/
LOCATION:Toimintakeskus Villa Borgis\, Linnavuorentie 13\, Helsinki\, 00950\, Finland
CATEGORIES:Toimintakeskus Villa Borgis
END:VEVENT
BEGIN:VEVENT
DTSTART;TZID=Europe/Helsinki:20260119T120000
DTEND;TZID=Europe/Helsinki:20260119T130000
DTSTAMP:20260422T030331
CREATED:20250820T065924Z
LAST-MODIFIED:20260331T080813Z
UID:10025427-1768824000-1768827600@kalenteri.niemikoti.fi
SUMMARY:Yhteisön lounas
DESCRIPTION:Lounas yhteisöpäivän kävijöille. Lounaaseen sisältyy ravitsevaa arkiruokaa ja välillä lisäksi salaattia. Lounaan hinta 3 e\, sisältää iltapäiväkahvin.
URL:https://kalenteri.niemikoti.fi/tapahtuma/yhteison-luonas/2026-01-19/
LOCATION:Toimintakeskus Villa Borgis\, Linnavuorentie 13\, Helsinki\, 00950\, Finland
CATEGORIES:Toimintakeskus Villa Borgis
END:VEVENT
BEGIN:VEVENT
DTSTART;TZID=Europe/Helsinki:20260119T130000
DTEND;TZID=Europe/Helsinki:20260119T140000
DTSTAMP:20260422T030331
CREATED:20251217T075128Z
LAST-MODIFIED:20251217T075128Z
UID:10025958-1768827600-1768831200@kalenteri.niemikoti.fi
SUMMARY:Musamaanantai
DESCRIPTION:Yhteistä musisointia\, musiikin kuuntelua\, karaokea ynnä muuta mukavaa.
URL:https://kalenteri.niemikoti.fi/tapahtuma/musamaanantai/2026-01-19/
LOCATION:Toimintakeskus Villa Borgis\, Linnavuorentie 13\, Helsinki\, 00950\, Finland
CATEGORIES:Toimintakeskus Villa Borgis
END:VEVENT
BEGIN:VEVENT
DTSTART;TZID=Europe/Helsinki:20260119T170000
DTEND;TZID=Europe/Helsinki:20260119T180000
DTSTAMP:20260422T030331
CREATED:20241014T035536Z
LAST-MODIFIED:20260107T102402Z
UID:10026096-1768842000-1768845600@kalenteri.niemikoti.fi
SUMMARY:Niilon chat-kahvila maanantaisin kello 17-18☕
DESCRIPTION:”Niilo tuo lisää tukea ja yhteisöllisyyttä palveluidenkäyttäjille – helposti ja digitaalisesti!” \nKahvilan teemat vaihtelevat?\nChat-kavilat ovat rentoa rupattelua tunnin ajan chattaillen ?? \nNiilo \n? Helppo tapa vahvistaa osallisuutta: Tämä mobiilisovellus antaa palveluidenkäyttäjille mahdollisuuden olla yhteydessä\, saada vertaistukea ja löytää tietoa silloin\, kun he sitä tarvitsevat. Pieni vinkkaus sovelluksesta voi avata heille uuden tukikanavan! \n? Kannattaa itsekin kokeilla: Kun tunnet sovelluksen\, voit helpommin suositella sitä. Lataaminen vie vain hetken\, mutta voi tarjota paljon uusia mahdollisuuksia sekä työn tueksi että palveluidenkäyttäjien hyvinvoinnin vahvistamiseksi. \n? Jokainen maininta merkitsee: Kun mainitset sovelluksesta arjessa\, autat tekemään siitä luontevan osan käyttäjien tukea. Se on pieni teko\, jolla voi olla suuri vaikutus! \n? Lataa sovellus ja tutustu – yhdessä voimme paremmin! ? \n➡️ Voit ladata sen täältä https://niilo.niemikoti.fi
URL:https://kalenteri.niemikoti.fi/tapahtuma/niilon-chat-kahvila-maanantaisin-kello-17-18%e2%98%95/2026-01-19/
CATEGORIES:Niilo-sovellus
ATTACH;FMTTYPE=image/png:https://kalenteri.niemikoti.fi/wp-content/uploads/2024/10/Chat-kahvila-klo-17-19_tapahtumakalenteri2025.png
END:VEVENT
BEGIN:VEVENT
DTSTART;TZID=Europe/Helsinki:20260119T170000
DTEND;TZID=Europe/Helsinki:20260119T180000
DTSTAMP:20260422T030331
CREATED:20260115T123649Z
LAST-MODIFIED:20260115T123649Z
UID:10031754-1768842000-1768845600@kalenteri.niemikoti.fi
SUMMARY:Niilon chat-kahvila 19.1. klo 17-18
DESCRIPTION:Tervetuloa ensi maanantaina 19.1. juttelemaan rennosti Niilon chatkahvilaan\, sumpit keittelee Tapsa.\nJaettu kokemus on moninkertainen ilo! \nJos sinulla ei ole vielä Niiloa\, voit ladata sen täältä: https://niilo.niemikoti.fi \n 
URL:https://kalenteri.niemikoti.fi/tapahtuma/niilon-chat-kahvila-19-1-klo-17-18/
CATEGORIES:Niilo-sovellus
ATTACH;FMTTYPE=image/jpeg:https://kalenteri.niemikoti.fi/wp-content/uploads/2026/01/Kahvila19012026.jpg
END:VEVENT
BEGIN:VEVENT
DTSTART;TZID=Europe/Helsinki:20260120T090000
DTEND;TZID=Europe/Helsinki:20260120T094500
DTSTAMP:20260422T030331
CREATED:20250820T065259Z
LAST-MODIFIED:20260331T081723Z
UID:10025681-1768899600-1768902300@kalenteri.niemikoti.fi
SUMMARY:Yhteisön aamiainen
DESCRIPTION:Aamiainen yhteisöpäivän kävijöille. Sisältää puuron\, talon omenahilloa\, leipää\, leivänpäällisiä\, jugurttia\, hedelmiä\, kahvia\, teetä ja mehua. Hinta aamiaiselle 3 e\, sisältää myös iltapäiväkahvin.
URL:https://kalenteri.niemikoti.fi/tapahtuma/yhteison-aamiainen-3/2026-01-20/
LOCATION:Toimintakeskus Villa Borgis\, Linnavuorentie 13\, Helsinki\, 00950\, Finland
CATEGORIES:Toimintakeskus Villa Borgis
END:VEVENT
BEGIN:VEVENT
DTSTART;TZID=Europe/Helsinki:20260120T100000
DTEND;TZID=Europe/Helsinki:20260120T103000
DTSTAMP:20260422T030331
CREATED:20250818T063824Z
LAST-MODIFIED:20260331T081921Z
UID:10025898-1768903200-1768905000@kalenteri.niemikoti.fi
SUMMARY:Yhteisöpäivän aamukokous
DESCRIPTION:Yhteisöpäivän aamukokouksessa tutustutaan päivän ohjelmaan ja tuleviin tapahtumiin sekä käydään kuulumiskierros.
URL:https://kalenteri.niemikoti.fi/tapahtuma/yhteisopaivan-aamukokous-6/2026-01-20/
LOCATION:Toimintakeskus Villa Borgis\, Linnavuorentie 13\, Helsinki\, 00950\, Finland
CATEGORIES:Toimintakeskus Villa Borgis
END:VEVENT
BEGIN:VEVENT
DTSTART;TZID=Europe/Helsinki:20260120T100000
DTEND;TZID=Europe/Helsinki:20260120T103000
DTSTAMP:20260422T030331
CREATED:20260112T105633Z
LAST-MODIFIED:20260303T072458Z
UID:10028648-1768903200-1768905000@kalenteri.niemikoti.fi
SUMMARY:Aamukokous Malmilla
DESCRIPTION:Kokoonnutaan yhteen vaihtamaan kuulumisia ja keskustellaan päivän ohjelmasta.
URL:https://kalenteri.niemikoti.fi/tapahtuma/aamukokous-malmilla/2026-01-20/
LOCATION:Malmin päivätoimintakeskus\, Vanha Helsingintie 9\, Helsinki\, 00700\, Finland
CATEGORIES:Malmin päivätoimintakeskus
END:VEVENT
BEGIN:VEVENT
DTSTART;TZID=Europe/Helsinki:20260120T103000
DTEND;TZID=Europe/Helsinki:20260120T110000
DTSTAMP:20260422T030331
CREATED:20260112T111935Z
LAST-MODIFIED:20260410T061604Z
UID:10030974-1768905000-1768906800@kalenteri.niemikoti.fi
SUMMARY:Talon töitä Malmilla
DESCRIPTION:Pidetään yhdessä huolta yhteisistä tiloista ja tiluksista. Osallistua voi omien voimavarojen mukaan.
URL:https://kalenteri.niemikoti.fi/tapahtuma/talon-toita-7/2026-01-20/
LOCATION:Malmin päivätoimintakeskus\, Vanha Helsingintie 9\, Helsinki\, 00700\, Finland
CATEGORIES:Malmin päivätoimintakeskus
END:VEVENT
BEGIN:VEVENT
DTSTART;TZID=Europe/Helsinki:20260120T103000
DTEND;TZID=Europe/Helsinki:20260120T120000
DTSTAMP:20260422T030331
CREATED:20240814T065248Z
LAST-MODIFIED:20260421T091527Z
UID:10025520-1768905000-1768910400@kalenteri.niemikoti.fi
SUMMARY:Borgiksen Picassot
DESCRIPTION:Kuvataideryhmä. Kaikille sopivaa kuvallista työskentelyä\, ei vaadi erityisosaamista.
URL:https://kalenteri.niemikoti.fi/tapahtuma/borgiksen-picassot-2/2026-01-20/
LOCATION:Toimintakeskus Villa Borgis\, Linnavuorentie 13\, Helsinki\, 00950\, Finland
CATEGORIES:Toimintakeskus Villa Borgis
ATTACH;FMTTYPE=image/jpeg:https://kalenteri.niemikoti.fi/wp-content/uploads/2024/08/Borgiksen-Picassot-1.jpg
END:VEVENT
BEGIN:VEVENT
DTSTART;TZID=Europe/Helsinki:20260120T130000
DTEND;TZID=Europe/Helsinki:20260120T140000
DTSTAMP:20260422T030331
CREATED:20251217T131838Z
LAST-MODIFIED:20260127T091654Z
UID:10025984-1768914000-1768917600@kalenteri.niemikoti.fi
SUMMARY:Yhteisön ohjelmaa
DESCRIPTION:Yhteisön vaihtelevaa ohjelmaa\, esim. pelejä\, musiikkia tai ulkoilua
URL:https://kalenteri.niemikoti.fi/tapahtuma/yhteison-ohjelmaa-14/2026-01-20/
LOCATION:Toimintakeskus Villa Borgis\, Linnavuorentie 13\, Helsinki\, 00950\, Finland
CATEGORIES:Toimintakeskus Villa Borgis
END:VEVENT
BEGIN:VEVENT
DTSTART;TZID=Europe/Helsinki:20260120T130000
DTEND;TZID=Europe/Helsinki:20260120T143000
DTSTAMP:20260422T030331
CREATED:20260112T114328Z
LAST-MODIFIED:20260303T072740Z
UID:10027033-1768914000-1768919400@kalenteri.niemikoti.fi
SUMMARY:DJ-paja Malmilla
DESCRIPTION:Niemikotisäätiöläisille avoin yhteisoppimiseen perustuva DJ-paja. Omaa musiikkia saa tuoda mukaan muistitikuilla. Enintään 6 osallistujaa/kerta. Ilmoittaudu mukaan! \nHuom! Ei ryhmää 3.2.
URL:https://kalenteri.niemikoti.fi/tapahtuma/dj-paja-malmilla/2026-01-20/
LOCATION:Malmin päivätoimintakeskus\, Vanha Helsingintie 9\, Helsinki\, 00700\, Finland
CATEGORIES:Malmin päivätoimintakeskus
END:VEVENT
BEGIN:VEVENT
DTSTART;TZID=Europe/Helsinki:20260120T130000
DTEND;TZID=Europe/Helsinki:20260120T153000
DTSTAMP:20260422T030331
CREATED:20260112T134809Z
LAST-MODIFIED:20260410T070218Z
UID:10037078-1768914000-1768923000@kalenteri.niemikoti.fi
SUMMARY:JV:n bändi Malmilla
DESCRIPTION:Bändi harjoittelee oman ohjaajan kanssa.
URL:https://kalenteri.niemikoti.fi/tapahtuma/jvn-bandi-malmilla/2026-01-20/
LOCATION:Malmin päivätoimintakeskus\, Vanha Helsingintie 9\, Helsinki\, 00700\, Finland
CATEGORIES:Malmin päivätoimintakeskus
END:VEVENT
BEGIN:VEVENT
DTSTART;TZID=Europe/Helsinki:20260121T090000
DTEND;TZID=Europe/Helsinki:20260121T094500
DTSTAMP:20260422T030331
CREATED:20250820T065259Z
LAST-MODIFIED:20260331T081723Z
UID:10025682-1768986000-1768988700@kalenteri.niemikoti.fi
SUMMARY:Yhteisön aamiainen
DESCRIPTION:Aamiainen yhteisöpäivän kävijöille. Sisältää puuron\, talon omenahilloa\, leipää\, leivänpäällisiä\, jugurttia\, hedelmiä\, kahvia\, teetä ja mehua. Hinta aamiaiselle 3 e\, sisältää myös iltapäiväkahvin.
URL:https://kalenteri.niemikoti.fi/tapahtuma/yhteison-aamiainen-3/2026-01-21/
LOCATION:Toimintakeskus Villa Borgis\, Linnavuorentie 13\, Helsinki\, 00950\, Finland
CATEGORIES:Toimintakeskus Villa Borgis
END:VEVENT
BEGIN:VEVENT
DTSTART;TZID=Europe/Helsinki:20260121T100000
DTEND;TZID=Europe/Helsinki:20260121T103000
DTSTAMP:20260422T030331
CREATED:20250818T063824Z
LAST-MODIFIED:20260331T081921Z
UID:10025899-1768989600-1768991400@kalenteri.niemikoti.fi
SUMMARY:Yhteisöpäivän aamukokous
DESCRIPTION:Yhteisöpäivän aamukokouksessa tutustutaan päivän ohjelmaan ja tuleviin tapahtumiin sekä käydään kuulumiskierros.
URL:https://kalenteri.niemikoti.fi/tapahtuma/yhteisopaivan-aamukokous-6/2026-01-21/
LOCATION:Toimintakeskus Villa Borgis\, Linnavuorentie 13\, Helsinki\, 00950\, Finland
CATEGORIES:Toimintakeskus Villa Borgis
END:VEVENT
BEGIN:VEVENT
DTSTART;TZID=Europe/Helsinki:20260121T100000
DTEND;TZID=Europe/Helsinki:20260121T103000
DTSTAMP:20260422T030331
CREATED:20260112T105633Z
LAST-MODIFIED:20260303T072458Z
UID:10028649-1768989600-1768991400@kalenteri.niemikoti.fi
SUMMARY:Aamukokous Malmilla
DESCRIPTION:Kokoonnutaan yhteen vaihtamaan kuulumisia ja keskustellaan päivän ohjelmasta.
URL:https://kalenteri.niemikoti.fi/tapahtuma/aamukokous-malmilla/2026-01-21/
LOCATION:Malmin päivätoimintakeskus\, Vanha Helsingintie 9\, Helsinki\, 00700\, Finland
CATEGORIES:Malmin päivätoimintakeskus
END:VEVENT
END:VCALENDAR