BEGIN:VCALENDAR
VERSION:2.0
PRODID:-//Tapahtumakalenteri - ECPv6.15.18//NONSGML v1.0//EN
CALSCALE:GREGORIAN
METHOD:PUBLISH
X-WR-CALNAME:Tapahtumakalenteri
X-ORIGINAL-URL:https://kalenteri.niemikoti.fi
X-WR-CALDESC:Tapahtumat Tapahtumakalenteri
REFRESH-INTERVAL;VALUE=DURATION:PT1H
X-Robots-Tag:noindex
X-PUBLISHED-TTL:PT1H
BEGIN:VTIMEZONE
TZID:Europe/Helsinki
BEGIN:DAYLIGHT
TZOFFSETFROM:+0200
TZOFFSETTO:+0300
TZNAME:EEST
DTSTART:20250330T010000
END:DAYLIGHT
BEGIN:STANDARD
TZOFFSETFROM:+0300
TZOFFSETTO:+0200
TZNAME:EET
DTSTART:20251026T010000
END:STANDARD
BEGIN:DAYLIGHT
TZOFFSETFROM:+0200
TZOFFSETTO:+0300
TZNAME:EEST
DTSTART:20260329T010000
END:DAYLIGHT
BEGIN:STANDARD
TZOFFSETFROM:+0300
TZOFFSETTO:+0200
TZNAME:EET
DTSTART:20261025T010000
END:STANDARD
BEGIN:DAYLIGHT
TZOFFSETFROM:+0200
TZOFFSETTO:+0300
TZNAME:EEST
DTSTART:20270328T010000
END:DAYLIGHT
BEGIN:STANDARD
TZOFFSETFROM:+0300
TZOFFSETTO:+0200
TZNAME:EET
DTSTART:20271031T010000
END:STANDARD
END:VTIMEZONE
BEGIN:VEVENT
DTSTART;TZID=Europe/Helsinki:20260723T140000
DTEND;TZID=Europe/Helsinki:20260910T160000
DTSTAMP:20260423T140453
CREATED:20260421T101538Z
LAST-MODIFIED:20260422T174148Z
UID:10037540-1784815200-1789056000@kalenteri.niemikoti.fi
SUMMARY:Kaupunkiviljely Malmilla
DESCRIPTION:Kaupunkiviljelyryhmä Malmilla. Ilmoittaudu.
URL:https://kalenteri.niemikoti.fi/tapahtuma/kaupunkiviljely-malmilla-8/2026-07-23/
LOCATION:Green City Farm c/o Perho Liiketalousopisto\, Vanha Helsingintie 13\, Helsinki\, 00700
CATEGORIES:Toimintakeskus Villa Borgis
END:VEVENT
BEGIN:VEVENT
DTSTART;TZID=Europe/Helsinki:20260730T140000
DTEND;TZID=Europe/Helsinki:20260917T160000
DTSTAMP:20260423T140453
CREATED:20260421T101538Z
LAST-MODIFIED:20260422T174148Z
UID:10037541-1785420000-1789660800@kalenteri.niemikoti.fi
SUMMARY:Kaupunkiviljely Malmilla
DESCRIPTION:Kaupunkiviljelyryhmä Malmilla. Ilmoittaudu.
URL:https://kalenteri.niemikoti.fi/tapahtuma/kaupunkiviljely-malmilla-8/2026-07-30/
LOCATION:Green City Farm c/o Perho Liiketalousopisto\, Vanha Helsingintie 13\, Helsinki\, 00700
CATEGORIES:Toimintakeskus Villa Borgis
END:VEVENT
BEGIN:VEVENT
DTSTART;TZID=Europe/Helsinki:20260806T140000
DTEND;TZID=Europe/Helsinki:20260924T160000
DTSTAMP:20260423T140453
CREATED:20260421T101538Z
LAST-MODIFIED:20260422T174148Z
UID:10037542-1786024800-1790265600@kalenteri.niemikoti.fi
SUMMARY:Kaupunkiviljely Malmilla
DESCRIPTION:Kaupunkiviljelyryhmä Malmilla. Ilmoittaudu.
URL:https://kalenteri.niemikoti.fi/tapahtuma/kaupunkiviljely-malmilla-8/2026-08-06/
LOCATION:Green City Farm c/o Perho Liiketalousopisto\, Vanha Helsingintie 13\, Helsinki\, 00700
CATEGORIES:Toimintakeskus Villa Borgis
END:VEVENT
BEGIN:VEVENT
DTSTART;TZID=Europe/Helsinki:20260813T140000
DTEND;TZID=Europe/Helsinki:20261001T160000
DTSTAMP:20260423T140453
CREATED:20260421T101538Z
LAST-MODIFIED:20260422T174148Z
UID:10037543-1786629600-1790870400@kalenteri.niemikoti.fi
SUMMARY:Kaupunkiviljely Malmilla
DESCRIPTION:Kaupunkiviljelyryhmä Malmilla. Ilmoittaudu.
URL:https://kalenteri.niemikoti.fi/tapahtuma/kaupunkiviljely-malmilla-8/2026-08-13/
LOCATION:Green City Farm c/o Perho Liiketalousopisto\, Vanha Helsingintie 13\, Helsinki\, 00700
CATEGORIES:Toimintakeskus Villa Borgis
END:VEVENT
BEGIN:VEVENT
DTSTART;TZID=Europe/Helsinki:20260820T140000
DTEND;TZID=Europe/Helsinki:20261008T160000
DTSTAMP:20260423T140453
CREATED:20260421T101538Z
LAST-MODIFIED:20260422T174148Z
UID:10037544-1787234400-1791475200@kalenteri.niemikoti.fi
SUMMARY:Kaupunkiviljely Malmilla
DESCRIPTION:Kaupunkiviljelyryhmä Malmilla. Ilmoittaudu.
URL:https://kalenteri.niemikoti.fi/tapahtuma/kaupunkiviljely-malmilla-8/2026-08-20/
LOCATION:Green City Farm c/o Perho Liiketalousopisto\, Vanha Helsingintie 13\, Helsinki\, 00700
CATEGORIES:Toimintakeskus Villa Borgis
END:VEVENT
BEGIN:VEVENT
DTSTART;TZID=Europe/Helsinki:20260824T130000
DTEND;TZID=Europe/Helsinki:20260907T140000
DTSTAMP:20260423T140453
CREATED:20260421T065648Z
LAST-MODIFIED:20260422T174426Z
UID:10037369-1787576400-1788789600@kalenteri.niemikoti.fi
SUMMARY:Akvarelli-unelmia
DESCRIPTION:Maalataan vesiväreillä.
URL:https://kalenteri.niemikoti.fi/tapahtuma/akvarelli-unelmia/2026-08-24/
LOCATION:Toimintakeskus Villa Borgis\, Linnavuorentie 13\, Helsinki\, 00950\, Finland
CATEGORIES:Toimintakeskus Villa Borgis
END:VEVENT
BEGIN:VEVENT
DTSTART;TZID=Europe/Helsinki:20260827T140000
DTEND;TZID=Europe/Helsinki:20261015T160000
DTSTAMP:20260423T140453
CREATED:20260421T101538Z
LAST-MODIFIED:20260422T174148Z
UID:10037545-1787839200-1792080000@kalenteri.niemikoti.fi
SUMMARY:Kaupunkiviljely Malmilla
DESCRIPTION:Kaupunkiviljelyryhmä Malmilla. Ilmoittaudu.
URL:https://kalenteri.niemikoti.fi/tapahtuma/kaupunkiviljely-malmilla-8/2026-08-27/
LOCATION:Green City Farm c/o Perho Liiketalousopisto\, Vanha Helsingintie 13\, Helsinki\, 00700
CATEGORIES:Toimintakeskus Villa Borgis
END:VEVENT
BEGIN:VEVENT
DTSTART;TZID=Europe/Helsinki:20260831T130000
DTEND;TZID=Europe/Helsinki:20260914T140000
DTSTAMP:20260423T140453
CREATED:20260421T065648Z
LAST-MODIFIED:20260422T174426Z
UID:10037370-1788181200-1789394400@kalenteri.niemikoti.fi
SUMMARY:Akvarelli-unelmia
DESCRIPTION:Maalataan vesiväreillä.
URL:https://kalenteri.niemikoti.fi/tapahtuma/akvarelli-unelmia/2026-08-31/
LOCATION:Toimintakeskus Villa Borgis\, Linnavuorentie 13\, Helsinki\, 00950\, Finland
CATEGORIES:Toimintakeskus Villa Borgis
END:VEVENT
BEGIN:VEVENT
DTSTART;TZID=Europe/Helsinki:20260903T140000
DTEND;TZID=Europe/Helsinki:20261022T160000
DTSTAMP:20260423T140453
CREATED:20260421T101538Z
LAST-MODIFIED:20260422T174148Z
UID:10037546-1788444000-1792684800@kalenteri.niemikoti.fi
SUMMARY:Kaupunkiviljely Malmilla
DESCRIPTION:Kaupunkiviljelyryhmä Malmilla. Ilmoittaudu.
URL:https://kalenteri.niemikoti.fi/tapahtuma/kaupunkiviljely-malmilla-8/2026-09-03/
LOCATION:Green City Farm c/o Perho Liiketalousopisto\, Vanha Helsingintie 13\, Helsinki\, 00700
CATEGORIES:Toimintakeskus Villa Borgis
END:VEVENT
BEGIN:VEVENT
DTSTART;TZID=Europe/Helsinki:20260907T090000
DTEND;TZID=Europe/Helsinki:20260907T100000
DTSTAMP:20260423T140453
CREATED:20260302T134800Z
LAST-MODIFIED:20260302T134800Z
UID:10034074-1788771600-1788775200@kalenteri.niemikoti.fi
SUMMARY:Yhteisön aamiainen Malmilla
DESCRIPTION:Aamiaisella puuroa\, muroja tai jogurttia vaihtelevasti sekä leipää päällisineen. Juomaksi tuoremehua sekä kahvia tai teetä. Hinta 1\,5 e.
URL:https://kalenteri.niemikoti.fi/tapahtuma/yhteison-aamiainen-malmilla/2026-09-07/
LOCATION:Malmin päivätoimintakeskus\, Vanha Helsingintie 9\, Helsinki\, 00700\, Finland
CATEGORIES:Malmin päivätoimintakeskus
END:VEVENT
BEGIN:VEVENT
DTSTART;TZID=Europe/Helsinki:20260907T100000
DTEND;TZID=Europe/Helsinki:20260907T103000
DTSTAMP:20260423T140453
CREATED:20260112T105633Z
LAST-MODIFIED:20260303T072458Z
UID:10028759-1788775200-1788777000@kalenteri.niemikoti.fi
SUMMARY:Aamukokous Malmilla
DESCRIPTION:Kokoonnutaan yhteen vaihtamaan kuulumisia ja keskustellaan päivän ohjelmasta.
URL:https://kalenteri.niemikoti.fi/tapahtuma/aamukokous-malmilla/2026-09-07/
LOCATION:Malmin päivätoimintakeskus\, Vanha Helsingintie 9\, Helsinki\, 00700\, Finland
CATEGORIES:Malmin päivätoimintakeskus
END:VEVENT
BEGIN:VEVENT
DTSTART;TZID=Europe/Helsinki:20260907T103000
DTEND;TZID=Europe/Helsinki:20260907T110000
DTSTAMP:20260423T140453
CREATED:20260112T111935Z
LAST-MODIFIED:20260410T061604Z
UID:10031073-1788777000-1788778800@kalenteri.niemikoti.fi
SUMMARY:Talon töitä Malmilla
DESCRIPTION:Pidetään yhdessä huolta yhteisistä tiloista ja tiluksista. Osallistua voi omien voimavarojen mukaan.
URL:https://kalenteri.niemikoti.fi/tapahtuma/talon-toita-7/2026-09-07/
LOCATION:Malmin päivätoimintakeskus\, Vanha Helsingintie 9\, Helsinki\, 00700\, Finland
CATEGORIES:Malmin päivätoimintakeskus
END:VEVENT
BEGIN:VEVENT
DTSTART;TZID=Europe/Helsinki:20260907T120000
DTEND;TZID=Europe/Helsinki:20260907T130000
DTSTAMP:20260423T140453
CREATED:20260302T135525Z
LAST-MODIFIED:20260303T072113Z
UID:10035118-1788782400-1788786000@kalenteri.niemikoti.fi
SUMMARY:Yhteisön lounas Malmilla
DESCRIPTION:Lounas ja lounaskahvit. Ruokalista vaihtelee kuukausittain ja on nähtävillä Malmin päivätoimintakeskuksessa. Hinta 3\,5 euroa.
URL:https://kalenteri.niemikoti.fi/tapahtuma/yhteison-lounas-malmilla/2026-09-07/
LOCATION:Malmin päivätoimintakeskus\, Vanha Helsingintie 9\, Helsinki\, 00700\, Finland
CATEGORIES:Malmin päivätoimintakeskus
END:VEVENT
BEGIN:VEVENT
DTSTART;TZID=Europe/Helsinki:20260907T130000
DTEND;TZID=Europe/Helsinki:20260921T140000
DTSTAMP:20260423T140453
CREATED:20260421T065648Z
LAST-MODIFIED:20260422T174426Z
UID:10037371-1788786000-1789999200@kalenteri.niemikoti.fi
SUMMARY:Akvarelli-unelmia
DESCRIPTION:Maalataan vesiväreillä.
URL:https://kalenteri.niemikoti.fi/tapahtuma/akvarelli-unelmia/2026-09-07/
LOCATION:Toimintakeskus Villa Borgis\, Linnavuorentie 13\, Helsinki\, 00950\, Finland
CATEGORIES:Toimintakeskus Villa Borgis
END:VEVENT
BEGIN:VEVENT
DTSTART;TZID=Europe/Helsinki:20260908T090000
DTEND;TZID=Europe/Helsinki:20260908T100000
DTSTAMP:20260423T140453
CREATED:20260302T134800Z
LAST-MODIFIED:20260302T134800Z
UID:10034075-1788858000-1788861600@kalenteri.niemikoti.fi
SUMMARY:Yhteisön aamiainen Malmilla
DESCRIPTION:Aamiaisella puuroa\, muroja tai jogurttia vaihtelevasti sekä leipää päällisineen. Juomaksi tuoremehua sekä kahvia tai teetä. Hinta 1\,5 e.
URL:https://kalenteri.niemikoti.fi/tapahtuma/yhteison-aamiainen-malmilla/2026-09-08/
LOCATION:Malmin päivätoimintakeskus\, Vanha Helsingintie 9\, Helsinki\, 00700\, Finland
CATEGORIES:Malmin päivätoimintakeskus
END:VEVENT
BEGIN:VEVENT
DTSTART;TZID=Europe/Helsinki:20260908T100000
DTEND;TZID=Europe/Helsinki:20260908T103000
DTSTAMP:20260423T140453
CREATED:20260112T105633Z
LAST-MODIFIED:20260303T072458Z
UID:10028760-1788861600-1788863400@kalenteri.niemikoti.fi
SUMMARY:Aamukokous Malmilla
DESCRIPTION:Kokoonnutaan yhteen vaihtamaan kuulumisia ja keskustellaan päivän ohjelmasta.
URL:https://kalenteri.niemikoti.fi/tapahtuma/aamukokous-malmilla/2026-09-08/
LOCATION:Malmin päivätoimintakeskus\, Vanha Helsingintie 9\, Helsinki\, 00700\, Finland
CATEGORIES:Malmin päivätoimintakeskus
END:VEVENT
BEGIN:VEVENT
DTSTART;TZID=Europe/Helsinki:20260908T103000
DTEND;TZID=Europe/Helsinki:20260908T110000
DTSTAMP:20260423T140453
CREATED:20260112T111935Z
LAST-MODIFIED:20260410T061604Z
UID:10031074-1788863400-1788865200@kalenteri.niemikoti.fi
SUMMARY:Talon töitä Malmilla
DESCRIPTION:Pidetään yhdessä huolta yhteisistä tiloista ja tiluksista. Osallistua voi omien voimavarojen mukaan.
URL:https://kalenteri.niemikoti.fi/tapahtuma/talon-toita-7/2026-09-08/
LOCATION:Malmin päivätoimintakeskus\, Vanha Helsingintie 9\, Helsinki\, 00700\, Finland
CATEGORIES:Malmin päivätoimintakeskus
END:VEVENT
BEGIN:VEVENT
DTSTART;TZID=Europe/Helsinki:20260908T110000
DTEND;TZID=Europe/Helsinki:20260908T120000
DTSTAMP:20260423T140453
CREATED:20260126T114459Z
LAST-MODIFIED:20260126T114459Z
UID:10032158-1788865200-1788868800@kalenteri.niemikoti.fi
SUMMARY:Luonto & liikunta -kävelyryhmä Malmilla
DESCRIPTION:Uusille tilaa\, ilmoittaudu mukaan! Kaksi ryhmää tarpeen mukaan\, tehdään sekä pidempi että lyhyempi kävelylenkki.
URL:https://kalenteri.niemikoti.fi/tapahtuma/luonto-liikunta-kavelyryhma-malmilla-3/2026-09-08/
LOCATION:Malmin päivätoimintakeskus\, Vanha Helsingintie 9\, Helsinki\, 00700\, Finland
CATEGORIES:Malmin päivätoimintakeskus
END:VEVENT
BEGIN:VEVENT
DTSTART;TZID=Europe/Helsinki:20260908T120000
DTEND;TZID=Europe/Helsinki:20260908T130000
DTSTAMP:20260423T140453
CREATED:20260302T135525Z
LAST-MODIFIED:20260303T072113Z
UID:10035119-1788868800-1788872400@kalenteri.niemikoti.fi
SUMMARY:Yhteisön lounas Malmilla
DESCRIPTION:Lounas ja lounaskahvit. Ruokalista vaihtelee kuukausittain ja on nähtävillä Malmin päivätoimintakeskuksessa. Hinta 3\,5 euroa.
URL:https://kalenteri.niemikoti.fi/tapahtuma/yhteison-lounas-malmilla/2026-09-08/
LOCATION:Malmin päivätoimintakeskus\, Vanha Helsingintie 9\, Helsinki\, 00700\, Finland
CATEGORIES:Malmin päivätoimintakeskus
END:VEVENT
BEGIN:VEVENT
DTSTART;TZID=Europe/Helsinki:20260908T130000
DTEND;TZID=Europe/Helsinki:20260908T140000
DTSTAMP:20260423T140453
CREATED:20260421T092211Z
LAST-MODIFIED:20260421T092445Z
UID:10037426-1788872400-1788876000@kalenteri.niemikoti.fi
SUMMARY:Yhteisön ohjelmaa
DESCRIPTION:Yhteisön ohjelmaa; musiikkia\, lautapelejä\, ulkoilua yms.
URL:https://kalenteri.niemikoti.fi/tapahtuma/yhteislaulut-2/2026-09-08/
LOCATION:Toimintakeskus Villa Borgis\, Linnavuorentie 13\, Helsinki\, 00950\, Finland
CATEGORIES:Toimintakeskus Villa Borgis
END:VEVENT
BEGIN:VEVENT
DTSTART;TZID=Europe/Helsinki:20260908T130000
DTEND;TZID=Europe/Helsinki:20260908T143000
DTSTAMP:20260423T140453
CREATED:20260112T114328Z
LAST-MODIFIED:20260303T072740Z
UID:10027066-1788872400-1788877800@kalenteri.niemikoti.fi
SUMMARY:DJ-paja Malmilla
DESCRIPTION:Niemikotisäätiöläisille avoin yhteisoppimiseen perustuva DJ-paja. Omaa musiikkia saa tuoda mukaan muistitikuilla. Enintään 6 osallistujaa/kerta. Ilmoittaudu mukaan! \nHuom! Ei ryhmää 3.2.
URL:https://kalenteri.niemikoti.fi/tapahtuma/dj-paja-malmilla/2026-09-08/
LOCATION:Malmin päivätoimintakeskus\, Vanha Helsingintie 9\, Helsinki\, 00700\, Finland
CATEGORIES:Malmin päivätoimintakeskus
END:VEVENT
BEGIN:VEVENT
DTSTART;TZID=Europe/Helsinki:20260908T130000
DTEND;TZID=Europe/Helsinki:20260908T153000
DTSTAMP:20260423T140453
CREATED:20260112T134809Z
LAST-MODIFIED:20260410T070218Z
UID:10037111-1788872400-1788881400@kalenteri.niemikoti.fi
SUMMARY:JV:n bändi Malmilla
DESCRIPTION:Bändi harjoittelee oman ohjaajan kanssa.
URL:https://kalenteri.niemikoti.fi/tapahtuma/jvn-bandi-malmilla/2026-09-08/
LOCATION:Malmin päivätoimintakeskus\, Vanha Helsingintie 9\, Helsinki\, 00700\, Finland
CATEGORIES:Malmin päivätoimintakeskus
END:VEVENT
BEGIN:VEVENT
DTSTART;TZID=Europe/Helsinki:20260909T090000
DTEND;TZID=Europe/Helsinki:20260909T100000
DTSTAMP:20260423T140453
CREATED:20260302T134800Z
LAST-MODIFIED:20260302T134800Z
UID:10034076-1788944400-1788948000@kalenteri.niemikoti.fi
SUMMARY:Yhteisön aamiainen Malmilla
DESCRIPTION:Aamiaisella puuroa\, muroja tai jogurttia vaihtelevasti sekä leipää päällisineen. Juomaksi tuoremehua sekä kahvia tai teetä. Hinta 1\,5 e.
URL:https://kalenteri.niemikoti.fi/tapahtuma/yhteison-aamiainen-malmilla/2026-09-09/
LOCATION:Malmin päivätoimintakeskus\, Vanha Helsingintie 9\, Helsinki\, 00700\, Finland
CATEGORIES:Malmin päivätoimintakeskus
END:VEVENT
BEGIN:VEVENT
DTSTART;TZID=Europe/Helsinki:20260909T100000
DTEND;TZID=Europe/Helsinki:20260909T103000
DTSTAMP:20260423T140453
CREATED:20260112T105633Z
LAST-MODIFIED:20260303T072458Z
UID:10028761-1788948000-1788949800@kalenteri.niemikoti.fi
SUMMARY:Aamukokous Malmilla
DESCRIPTION:Kokoonnutaan yhteen vaihtamaan kuulumisia ja keskustellaan päivän ohjelmasta.
URL:https://kalenteri.niemikoti.fi/tapahtuma/aamukokous-malmilla/2026-09-09/
LOCATION:Malmin päivätoimintakeskus\, Vanha Helsingintie 9\, Helsinki\, 00700\, Finland
CATEGORIES:Malmin päivätoimintakeskus
END:VEVENT
BEGIN:VEVENT
DTSTART;TZID=Europe/Helsinki:20260909T103000
DTEND;TZID=Europe/Helsinki:20260909T110000
DTSTAMP:20260423T140453
CREATED:20260112T111935Z
LAST-MODIFIED:20260410T061604Z
UID:10031075-1788949800-1788951600@kalenteri.niemikoti.fi
SUMMARY:Talon töitä Malmilla
DESCRIPTION:Pidetään yhdessä huolta yhteisistä tiloista ja tiluksista. Osallistua voi omien voimavarojen mukaan.
URL:https://kalenteri.niemikoti.fi/tapahtuma/talon-toita-7/2026-09-09/
LOCATION:Malmin päivätoimintakeskus\, Vanha Helsingintie 9\, Helsinki\, 00700\, Finland
CATEGORIES:Malmin päivätoimintakeskus
END:VEVENT
BEGIN:VEVENT
DTSTART;TZID=Europe/Helsinki:20260909T103000
DTEND;TZID=Europe/Helsinki:20260909T120000
DTSTAMP:20260423T140453
CREATED:20260421T093010Z
LAST-MODIFIED:20260421T134255Z
UID:10037608-1788949800-1788955200@kalenteri.niemikoti.fi
SUMMARY:Soppakokit
DESCRIPTION:Tehdään yhdessä ruokaa. Ruoan hinta osallistujille 2 €.
URL:https://kalenteri.niemikoti.fi/tapahtuma/soppakokit-13/2026-09-09/
LOCATION:Toimintakeskus Villa Borgis\, Linnavuorentie 13\, Helsinki\, 00950\, Finland
CATEGORIES:Toimintakeskus Villa Borgis
END:VEVENT
BEGIN:VEVENT
DTSTART;TZID=Europe/Helsinki:20260909T120000
DTEND;TZID=Europe/Helsinki:20260909T130000
DTSTAMP:20260423T140453
CREATED:20260302T135525Z
LAST-MODIFIED:20260303T072113Z
UID:10035120-1788955200-1788958800@kalenteri.niemikoti.fi
SUMMARY:Yhteisön lounas Malmilla
DESCRIPTION:Lounas ja lounaskahvit. Ruokalista vaihtelee kuukausittain ja on nähtävillä Malmin päivätoimintakeskuksessa. Hinta 3\,5 euroa.
URL:https://kalenteri.niemikoti.fi/tapahtuma/yhteison-lounas-malmilla/2026-09-09/
LOCATION:Malmin päivätoimintakeskus\, Vanha Helsingintie 9\, Helsinki\, 00700\, Finland
CATEGORIES:Malmin päivätoimintakeskus
END:VEVENT
BEGIN:VEVENT
DTSTART;TZID=Europe/Helsinki:20260909T130000
DTEND;TZID=Europe/Helsinki:20260909T143000
DTSTAMP:20260423T140453
CREATED:20260112T131042Z
LAST-MODIFIED:20260303T072919Z
UID:10029935-1788958800-1788964200@kalenteri.niemikoti.fi
SUMMARY:Väriä elämään Malmilla
DESCRIPTION:Visuaalista taidetta vaihtuvin teemoin ja tekniikoin. Enintään 8 osallistujaa kerralla. Ilmoittaudu mukaan!
URL:https://kalenteri.niemikoti.fi/tapahtuma/varia-elamaan-malmilla/2026-09-09/
LOCATION:Malmin päivätoimintakeskus\, Vanha Helsingintie 9\, Helsinki\, 00700\, Finland
CATEGORIES:Malmin päivätoimintakeskus
END:VEVENT
BEGIN:VEVENT
DTSTART;TZID=Europe/Helsinki:20260909T130000
DTEND;TZID=Europe/Helsinki:20260909T143000
DTSTAMP:20260423T140453
CREATED:20260213T085235Z
LAST-MODIFIED:20260327T090224Z
UID:10033881-1788958800-1788964200@kalenteri.niemikoti.fi
SUMMARY:Voimaa luonnosta
DESCRIPTION:Luontolähtöistä toimintaa sisällä ja ulkona; seuraamme vuodenaikojen etenemistä\, hoidamme huonekasveja ja puutarhaa\, teemme retkiä lähiluontoon ja altistumme yhdessä luonnon hyvää tekeville vaikutuksille. Pukeuduthan säänmukaisesti. \n15.4. Retki Alkumaisema -näyttelyyn Stoaan.
URL:https://kalenteri.niemikoti.fi/tapahtuma/voimaa-luonnosta/2026-09-09/
LOCATION:Toimintakeskus Villa Borgis\, Linnavuorentie 13\, Helsinki\, 00950\, Finland
CATEGORIES:Toimintakeskus Villa Borgis
END:VEVENT
BEGIN:VEVENT
DTSTART;TZID=Europe/Helsinki:20260910T120000
DTEND;TZID=Europe/Helsinki:20260910T130000
DTSTAMP:20260423T140453
CREATED:20260126T130159Z
LAST-MODIFIED:20260410T063159Z
UID:10037058-1789041600-1789045200@kalenteri.niemikoti.fi
SUMMARY:Kitaran alkeet
DESCRIPTION:Harjoitellaan yhdessä akustisen kitaransoiton alkeita. Ryhmään mahtuu enintään 5 osallistujaa kerralla. Ilmoittaudu mukaan!
URL:https://kalenteri.niemikoti.fi/tapahtuma/peliryhma-malmilla-2/2026-09-10/
LOCATION:Malmin päivätoimintakeskus\, Vanha Helsingintie 9\, Helsinki\, 00700\, Finland
CATEGORIES:Malmin päivätoimintakeskus
ATTACH;FMTTYPE=image/jpeg:https://kalenteri.niemikoti.fi/wp-content/uploads/2026/01/Kitaran-alkeet-klo12.jpg
END:VEVENT
END:VCALENDAR